BEGIN:VCALENDAR
VERSION:2.0
PRODID:-//Phoenix Sister Cities - ECPv6.15.15//NONSGML v1.0//EN
CALSCALE:GREGORIAN
METHOD:PUBLISH
X-WR-CALNAME:Phoenix Sister Cities
X-ORIGINAL-URL:https://phoenixsistercities.org
X-WR-CALDESC:Events for Phoenix Sister Cities
REFRESH-INTERVAL;VALUE=DURATION:PT1H
X-Robots-Tag:noindex
X-PUBLISHED-TTL:PT1H
BEGIN:VTIMEZONE
TZID:America/Phoenix
BEGIN:STANDARD
TZOFFSETFROM:-0700
TZOFFSETTO:-0700
TZNAME:MST
DTSTART:20240101T000000
END:STANDARD
END:VTIMEZONE
BEGIN:VEVENT
DTSTART;TZID=America/Phoenix:20251101T073000
DTEND;TZID=America/Phoenix:20251101T103000
DTSTAMP:20260419T195245
CREATED:20190828T230401Z
LAST-MODIFIED:20250923T221807Z
UID:10000087-1761982200-1761993000@phoenixsistercities.org
SUMMARY:Veterans/Remembrance Day Breakfast
DESCRIPTION:  \nJoin the Phoenix Sister Cities Calgary Committee as we honor veterans and the long-standing relationship between the US and Canada! \n \n  \n  \nNovember 1\, 2025\n7:30 AM to 10:30 AM \nPhoenix Deer Valley Airport\n702 W. Deer Valley Rd.\, Phoenix\, AZ 85027 \nThank you to our sponsor: \n \nBreakfast FREE for all veterans.\n$10 Adults\n$8 PSC Members\, Seniors and Children (under 12) \nPLEASE NOTE:  tickets must be purchased in advance.  They will NOT  be available at the door. \nPhoenix Sister Cities has gone green.  We do not  issue paper tickets.  Simply check in at the event.
URL:https://phoenixsistercities.org/event/veterans/
LOCATION:Deer Valley Airport\, 702 W. Deer Valley Road\, Phoenix\, AZ\, 85027\, United States
CATEGORIES:Committee Events
ATTACH;FMTTYPE=image/png:https://phoenixsistercities.org/wp-content/uploads/2019/08/Website-slider-image.png
GEO:33.6854132;-112.0829409
X-APPLE-STRUCTURED-LOCATION;VALUE=URI;X-ADDRESS=Deer Valley Airport 702 W. Deer Valley Road Phoenix AZ 85027 United States;X-APPLE-RADIUS=500;X-TITLE=702 W. Deer Valley Road:geo:-112.0829409,33.6854132
END:VEVENT
BEGIN:VEVENT
DTSTART;TZID=America/Phoenix:20251101T130000
DTEND;TZID=America/Phoenix:20251101T143000
DTSTAMP:20260419T195245
CREATED:20250923T222859Z
LAST-MODIFIED:20250923T231137Z
UID:10002167-1762002000-1762007400@phoenixsistercities.org
SUMMARY:Han Kang Book Discussion
DESCRIPTION:  \nJoin the Suwon City Committee for a discussion of Han Kang’s Human Acts at Changing Hands 1 to 2:30 pm on Saturday\, November 1\, 2025. \nKorean snacks provided. \n \nRSVP below.
URL:https://phoenixsistercities.org/event/han_kang_book_discussion/
LOCATION:Changing Hands\, 300 W. Camelback Rd.\, Phoenix\, 85013\, United States
CATEGORIES:Committee Events,PSC Events
ATTACH;FMTTYPE=image/jpeg:https://phoenixsistercities.org/wp-content/uploads/2025/09/Han-Kang-Book-Discussion.jpg
END:VEVENT
END:VCALENDAR