BEGIN:VCALENDAR
VERSION:2.0
PRODID:-//Phoenix Sister Cities - ECPv6.15.15//NONSGML v1.0//EN
CALSCALE:GREGORIAN
METHOD:PUBLISH
X-WR-CALNAME:Phoenix Sister Cities
X-ORIGINAL-URL:https://phoenixsistercities.org
X-WR-CALDESC:Events for Phoenix Sister Cities
REFRESH-INTERVAL;VALUE=DURATION:PT1H
X-Robots-Tag:noindex
X-PUBLISHED-TTL:PT1H
BEGIN:VTIMEZONE
TZID:America/Phoenix
BEGIN:STANDARD
TZOFFSETFROM:-0700
TZOFFSETTO:-0700
TZNAME:MST
DTSTART:20250101T000000
END:STANDARD
END:VTIMEZONE
BEGIN:VEVENT
DTSTART;TZID=America/Phoenix:20260319T180000
DTEND;TZID=America/Phoenix:20260319T200000
DTSTAMP:20260419T095933
CREATED:20260130T234340Z
LAST-MODIFIED:20260318T202004Z
UID:10002170-1773943200-1773950400@phoenixsistercities.org
SUMMARY:War of the Wines
DESCRIPTION:Raise a glass with the Catania and Grenoble committees! Taste incredible wines from Italy and France\, snack on delicious bites\, and enter to win exciting prizes. Don’t miss this unforgettable evening!
URL:https://phoenixsistercities.org/event/war-of-the-wines-2/
LOCATION:Republic National Distributing Company\, 402 S. 54th Place\, Phoenix\, AZ\, 85034\, United States
CATEGORIES:Committee Events,PSC Events
END:VEVENT
END:VCALENDAR