BEGIN:VCALENDAR
VERSION:2.0
PRODID:-//Phoenix Sister Cities - ECPv6.15.15//NONSGML v1.0//EN
CALSCALE:GREGORIAN
METHOD:PUBLISH
X-WR-CALNAME:Phoenix Sister Cities
X-ORIGINAL-URL:https://phoenixsistercities.org
X-WR-CALDESC:Events for Phoenix Sister Cities
REFRESH-INTERVAL;VALUE=DURATION:PT1H
X-Robots-Tag:noindex
X-PUBLISHED-TTL:PT1H
BEGIN:VTIMEZONE
TZID:America/Phoenix
BEGIN:STANDARD
TZOFFSETFROM:-0700
TZOFFSETTO:-0700
TZNAME:MST
DTSTART:20240101T000000
END:STANDARD
END:VTIMEZONE
BEGIN:VEVENT
DTSTART;VALUE=DATE:20251120
DTEND;VALUE=DATE:20260110
DTSTAMP:20260419T225346
CREATED:20221111T192130Z
LAST-MODIFIED:20251120T194914Z
UID:10002148-1763596800-1768003199@phoenixsistercities.org
SUMMARY:Holiday Bear and Book
DESCRIPTION:  \nSupport the Disability Awareness Committee’s Holiday Bear and Book Drive and help bring happiness to children and adults with special needs. \nBy donating as little as $25\, you can bring a smile to a child’s face with a bear AND book set. A $100 donation brings a basket of holiday cheer to 4 children! \nClick HERE to give today.  Please note that all online donations are made through PayPal. For other options\, please call 602-534-8395.
URL:https://phoenixsistercities.org/event/bear-book/
LOCATION:AZ
CATEGORIES:Committee Events,PSC Events
ATTACH;FMTTYPE=image/png:https://phoenixsistercities.org/wp-content/uploads/2022/11/2025-Image.png
END:VEVENT
BEGIN:VEVENT
DTSTART;TZID=America/Phoenix:20251207T170000
DTEND;TZID=America/Phoenix:20251207T200000
DTSTAMP:20260419T225346
CREATED:20191008T193433Z
LAST-MODIFIED:20251206T192819Z
UID:10000093-1765126800-1765137600@phoenixsistercities.org
SUMMARY:Beaujolais Nouveau 2025
DESCRIPTION:Online ticket sales have closed.  You may purchase event tickets at the door. \nJoin Phoenix Sister Cities Grenoble City Committee on December 7\, 2025 at 5 to 8 pm to celebrate the release of this year’s vintage! \nEnjoy French food\, French music\, a silent auction…and most importantly wine tasting!  \nIcehouse\n429 W. Jackson St.\nPhoenix\,  AZ 85003 \nTickets for Phoenix Sister Cities members are $100 per member.  Become a member here. \nVisit this page to learn more about the celebration in France and the wine we’ll be enjoying. \nPlease note:  this event is for persons 21+ only.
URL:https://phoenixsistercities.org/event/beaujolais-nouveau-2025/
LOCATION:Icehouse\, 429 W. Jackson St.\, Phoenix\, AZ\, 85003\, United States
CATEGORIES:Committee Events,PSC Events
ATTACH;FMTTYPE=image/jpeg:https://phoenixsistercities.org/wp-content/uploads/2019/10/SOIREEBeaujolais-Nouveau-PhoenixSisterCities.jpeg
END:VEVENT
BEGIN:VEVENT
DTSTART;TZID=America/Phoenix:20260123T190000
DTEND;TZID=America/Phoenix:20260123T203000
DTSTAMP:20260419T225346
CREATED:20251206T193658Z
LAST-MODIFIED:20251206T195146Z
UID:10002169-1769194800-1769200200@phoenixsistercities.org
SUMMARY:Palabras with Elena Rivera and Joaquin Clerch
DESCRIPTION:  \nJoin the Hermosillo Committee for a bolero program in celebration of 50 years of the Phoenix-Hermosillo sister cities relationship\, showcasing the extraordinary voice of Hermosillo-born soprano Elena Rivera and the internationally-honored Cuban guitarist\, Joaquín Clerch. \nTickets available at Arizona Opera. \n \nPresented in partnership with \n  \n  \nSponsors \nForthcoming
URL:https://phoenixsistercities.org/event/palabras/
LOCATION:Arizona Opera Center\, 1636 N. Central Ave.\, Phoenix\, AZ\, 85004\, United States
CATEGORIES:Committee Events,PSC Events
ATTACH;FMTTYPE=image/jpeg:https://phoenixsistercities.org/wp-content/uploads/2025/12/Soprano-2026.jpg
END:VEVENT
BEGIN:VEVENT
DTSTART;TZID=America/Phoenix:20260219T113000
DTEND;TZID=America/Phoenix:20260219T130000
DTSTAMP:20260419T225346
CREATED:20251117T182701Z
LAST-MODIFIED:20260209T230153Z
UID:10002168-1771500600-1771506000@phoenixsistercities.org
SUMMARY:2026 Global Links Business Luncheon
DESCRIPTION:  \n \nOur Speakers \nDan Hart is President of HarTechnologies\, advising technology companies and investors across commercial and government markets on strategy\, technology\, and operations.  He has held senior leadership roles across the aerospace sector\, spanning human spaceﬂight\, satellite systems\, space launch\, and missile defense\, with experience leading organizations from R&D through operations. \nDan previously served as CEO of Virgin Orbit\, where he led the development and execution of an innovative air-launch system for small satellites\, delivering multiple successful missions and advancing new approaches to commercial space access. \nDan was a panelist on “The Economic and Strategic Dimensions of Space Innovation” at the Phoenix Global Forum 2025.  You may watch the video of the panel at Phoenix Global Forum. \nMatthew Cimaglia is the Founder and Managing Partner of Quantum Coast Capital (QCC)\, where he focuses on investments and strategy. at the intersection of quantum computing\, AI\, and emerging technologies. \nHis experience includes advising and consulting for companies such as Allstate Insurance\, Schwab\, Citadel\, Dentsu\, Edelman\, NBC and the Options Clearing Corporation. \nThrough Quantum Coast Capital\, Matt is focused on making quantum technology more accessible and actionable\, supporting innovation that addresses real-world business challenges and drives long-term competitiveness. \nMatt was a panelist on “Bridging the Quantum Frontier” at the Phoenix Global Forum 2025.  You may watch a video of the panel at Phoenix Global Forum. \n\n 2026 Global Links Business Awards \n \nGlobal Innovation Technology Award: Simer Mayo and Vicki Mayo \nSimer Mayo is the CEO and co-founder of Valor Global\, a Phoenix-based customer experience and technology services company he founded in 2004 with his wife\, Vicki Mayo. Under their leadership\, Valor Global has scaled into a multi-site organization with operations in Arizona\, Costa Rica\, and the Philippines\, delivering tech-enabled services to enterprise clients worldwide. \nHis work demonstrates how Phoenix-based companies can scale globally while driving workforce growth and operational innovation. He is also actively engaged in youth initiatives and nonprofit leadership. His regional impact has been recognized as a Phoenix Titan 100 honoree. \nVicki Mayo is a serial entrepreneur and humanitarian with leadership across technology\, hospitality\, sports and social impact. As chairwoman and owner of GMI Cybersecurity\, she has positioned the company as Arizona’s largest minority-owned business. Through the Mayo Foundation and related initiatives\, she has led efforts expanding opportunities opportunity for underserved youth and women\, including the rapid relocation of 147 Afghan female students to the United States. Her leadership has been recognized as a Titan 100 CEO and Ernst & Young Entrepreneur of the Year finalist. \nGlobal Industry Leader Award: ASML \nASML is a global technology leader whose innovations enable advanced semiconductor manufacturing worldwide. Its growing presence in Phoenix reinforces the region’s position in the global semiconductor ecosystem and supports high-skill job creation. \nIn November 2025\, the company launched a technical training academy\, near Phoenix Sky Harbor\, serving as ASML’s sole training center in the United States. The 56\,000-square-foot facility is designed to train more than 1\,000 engineers per year\, with capacity to scale further. The academy supports workforce development tied directly to the servicing and operation of ASML’s highly advanced chipmaking systems. ASML’s expanding footprint reinforces Phoenix as an internationally connected hub for advanced manufacturing\, talent development\, and long-term economic competitiveness.​​ \n\nOur Sponsors \n \n      \n \nPLEASE NOTE: Phoenix Sister Cities does not issue paper tickets for our events. Simply check in at the registration table. It’s easy AND green!  For your records\, you will receive a receipt via email (through PayPal) for tickets purchased.
URL:https://phoenixsistercities.org/event/2026-global-links/
LOCATION:The Abbey on Monroe\, 302 W. Monroe\, Phoenix\, AZ\, 85003\, United States
CATEGORIES:PSC Events,PSC Signature Events
ATTACH;FMTTYPE=image/png:https://phoenixsistercities.org/wp-content/uploads/2025/11/Global-Links-Logo.png
END:VEVENT
BEGIN:VEVENT
DTSTART;TZID=America/Phoenix:20260319T180000
DTEND;TZID=America/Phoenix:20260319T200000
DTSTAMP:20260419T225346
CREATED:20260130T234340Z
LAST-MODIFIED:20260318T202004Z
UID:10002170-1773943200-1773950400@phoenixsistercities.org
SUMMARY:War of the Wines
DESCRIPTION:Raise a glass with the Catania and Grenoble committees! Taste incredible wines from Italy and France\, snack on delicious bites\, and enter to win exciting prizes. Don’t miss this unforgettable evening!
URL:https://phoenixsistercities.org/event/war-of-the-wines-2/
LOCATION:Republic National Distributing Company\, 402 S. 54th Place\, Phoenix\, AZ\, 85034\, United States
CATEGORIES:Committee Events,PSC Events
END:VEVENT
BEGIN:VEVENT
DTSTART;TZID=America/Phoenix:20260328T160000
DTEND;TZID=America/Phoenix:20260328T180000
DTSTAMP:20260419T225346
CREATED:20260304T211836Z
LAST-MODIFIED:20260327T194445Z
UID:10002171-1774713600-1774720800@phoenixsistercities.org
SUMMARY:Member Reception
DESCRIPTION:You’re invited!\nJoin us as we celebrate and thank our dedicated members for their continued support—and extend a warm welcome to our newest\, and prospective new\, members. Enjoy complimentary food and beverages while discovering more about our Sister City committees and the many ways you can get involved.
URL:https://phoenixsistercities.org/event/member-reception/
LOCATION:Player15 Group\, 475 E. Lincoln Street\, Phoenix\, AZ\, 85004\, United States
CATEGORIES:PSC Events
ATTACH;FMTTYPE=image/jpeg:https://phoenixsistercities.org/wp-content/uploads/2026/03/3-3.28 membership reception.jpg
END:VEVENT
BEGIN:VEVENT
DTSTART;TZID=America/Phoenix:20260411T183000
DTEND;TZID=America/Phoenix:20260411T203000
DTSTAMP:20260419T225346
CREATED:20260304T212448Z
LAST-MODIFIED:20260318T201408Z
UID:10002172-1775932200-1775939400@phoenixsistercities.org
SUMMARY:Sake and Soju
DESCRIPTION:Sake or Soju? Pick your favorite!\nJoin us for an exciting evening featuring a curated tasting of premium Sake and Soju\, delicious Korean and Japanese cuisine\, and vibrant live entertainment. Don’t miss your chance to sip\, savor\, and enjoy!
URL:https://phoenixsistercities.org/event/sake-and-soju/
LOCATION:Japanese Friendship Garden of Phoenix\, 1125 North 3rd Avenue\, Phoenix\, AZ\, 85003\, United States
CATEGORIES:Committee Events,PSC Events
GEO:33.4611198;-112.0771117
X-APPLE-STRUCTURED-LOCATION;VALUE=URI;X-ADDRESS=Japanese Friendship Garden of Phoenix 1125 North 3rd Avenue Phoenix AZ 85003 United States;X-APPLE-RADIUS=500;X-TITLE=1125 North 3rd Avenue:geo:-112.0771117,33.4611198
END:VEVENT
END:VCALENDAR