BEGIN:VCALENDAR
VERSION:2.0
PRODID:-//Phoenix Sister Cities - ECPv6.15.15//NONSGML v1.0//EN
CALSCALE:GREGORIAN
METHOD:PUBLISH
X-WR-CALNAME:Phoenix Sister Cities
X-ORIGINAL-URL:https://phoenixsistercities.org
X-WR-CALDESC:Events for Phoenix Sister Cities
REFRESH-INTERVAL;VALUE=DURATION:PT1H
X-Robots-Tag:noindex
X-PUBLISHED-TTL:PT1H
BEGIN:VTIMEZONE
TZID:America/Phoenix
BEGIN:STANDARD
TZOFFSETFROM:-0700
TZOFFSETTO:-0700
TZNAME:MST
DTSTART:20210101T000000
END:STANDARD
END:VTIMEZONE
BEGIN:VEVENT
DTSTART;TZID=America/Phoenix:20220607T180000
DTEND;TZID=America/Phoenix:20220607T210000
DTSTAMP:20260420T221606
CREATED:20170926T234010Z
LAST-MODIFIED:20170926T234045Z
UID:10001883-1654624800-1654635600@phoenixsistercities.org
SUMMARY:Otsukimi - Annual Moonviewing Festival
DESCRIPTION:Otsukimi 2017 \nAnnual Moonviewing Festival at the Japanese Friendship Garden \nFind out more about this event here: http://www.japanesefriendshipgarden.org/otsukimi2017 \nThe Mission of the Japanese Friendship Garden Inc. is to maintain a beautiful\, serene Japanese garden in the heart of Phoenix and provide educational and artistic programs and events that continue to deepen our relationships and celebrate the rich history and culture of Japan.
URL:https://phoenixsistercities.org/event/4400/2022-06-07/
CATEGORIES:PSC Signature Events
ATTACH;FMTTYPE=image/jpeg:https://phoenixsistercities.org/wp-content/uploads/2017/08/Otsukimi-Flyer-2017.jpg
END:VEVENT
BEGIN:VEVENT
DTSTART;TZID=America/Phoenix:20220606T180000
DTEND;TZID=America/Phoenix:20220606T210000
DTSTAMP:20260420T221606
CREATED:20170926T234010Z
LAST-MODIFIED:20170926T234045Z
UID:10001882-1654538400-1654549200@phoenixsistercities.org
SUMMARY:Otsukimi - Annual Moonviewing Festival
DESCRIPTION:Otsukimi 2017 \nAnnual Moonviewing Festival at the Japanese Friendship Garden \nFind out more about this event here: http://www.japanesefriendshipgarden.org/otsukimi2017 \nThe Mission of the Japanese Friendship Garden Inc. is to maintain a beautiful\, serene Japanese garden in the heart of Phoenix and provide educational and artistic programs and events that continue to deepen our relationships and celebrate the rich history and culture of Japan.
URL:https://phoenixsistercities.org/event/4400/2022-06-06/
CATEGORIES:PSC Signature Events
ATTACH;FMTTYPE=image/jpeg:https://phoenixsistercities.org/wp-content/uploads/2017/08/Otsukimi-Flyer-2017.jpg
END:VEVENT
BEGIN:VEVENT
DTSTART;TZID=America/Phoenix:20220605T180000
DTEND;TZID=America/Phoenix:20220605T210000
DTSTAMP:20260420T221606
CREATED:20170926T234010Z
LAST-MODIFIED:20170926T234045Z
UID:10001881-1654452000-1654462800@phoenixsistercities.org
SUMMARY:Otsukimi - Annual Moonviewing Festival
DESCRIPTION:Otsukimi 2017 \nAnnual Moonviewing Festival at the Japanese Friendship Garden \nFind out more about this event here: http://www.japanesefriendshipgarden.org/otsukimi2017 \nThe Mission of the Japanese Friendship Garden Inc. is to maintain a beautiful\, serene Japanese garden in the heart of Phoenix and provide educational and artistic programs and events that continue to deepen our relationships and celebrate the rich history and culture of Japan.
URL:https://phoenixsistercities.org/event/4400/2022-06-05/
CATEGORIES:PSC Signature Events
ATTACH;FMTTYPE=image/jpeg:https://phoenixsistercities.org/wp-content/uploads/2017/08/Otsukimi-Flyer-2017.jpg
END:VEVENT
BEGIN:VEVENT
DTSTART;TZID=America/Phoenix:20220604T180000
DTEND;TZID=America/Phoenix:20220604T210000
DTSTAMP:20260420T221606
CREATED:20170926T234010Z
LAST-MODIFIED:20170926T234045Z
UID:10001880-1654365600-1654376400@phoenixsistercities.org
SUMMARY:Otsukimi - Annual Moonviewing Festival
DESCRIPTION:Otsukimi 2017 \nAnnual Moonviewing Festival at the Japanese Friendship Garden \nFind out more about this event here: http://www.japanesefriendshipgarden.org/otsukimi2017 \nThe Mission of the Japanese Friendship Garden Inc. is to maintain a beautiful\, serene Japanese garden in the heart of Phoenix and provide educational and artistic programs and events that continue to deepen our relationships and celebrate the rich history and culture of Japan.
URL:https://phoenixsistercities.org/event/4400/2022-06-04/
CATEGORIES:PSC Signature Events
ATTACH;FMTTYPE=image/jpeg:https://phoenixsistercities.org/wp-content/uploads/2017/08/Otsukimi-Flyer-2017.jpg
END:VEVENT
BEGIN:VEVENT
DTSTART;TZID=America/Phoenix:20220603T180000
DTEND;TZID=America/Phoenix:20220603T210000
DTSTAMP:20260420T221606
CREATED:20170926T234010Z
LAST-MODIFIED:20170926T234045Z
UID:10001879-1654279200-1654290000@phoenixsistercities.org
SUMMARY:Otsukimi - Annual Moonviewing Festival
DESCRIPTION:Otsukimi 2017 \nAnnual Moonviewing Festival at the Japanese Friendship Garden \nFind out more about this event here: http://www.japanesefriendshipgarden.org/otsukimi2017 \nThe Mission of the Japanese Friendship Garden Inc. is to maintain a beautiful\, serene Japanese garden in the heart of Phoenix and provide educational and artistic programs and events that continue to deepen our relationships and celebrate the rich history and culture of Japan.
URL:https://phoenixsistercities.org/event/4400/2022-06-03/
CATEGORIES:PSC Signature Events
ATTACH;FMTTYPE=image/jpeg:https://phoenixsistercities.org/wp-content/uploads/2017/08/Otsukimi-Flyer-2017.jpg
END:VEVENT
BEGIN:VEVENT
DTSTART;TZID=America/Phoenix:20220602T180000
DTEND;TZID=America/Phoenix:20220602T210000
DTSTAMP:20260420T221606
CREATED:20170926T234010Z
LAST-MODIFIED:20170926T234045Z
UID:10001878-1654192800-1654203600@phoenixsistercities.org
SUMMARY:Otsukimi - Annual Moonviewing Festival
DESCRIPTION:Otsukimi 2017 \nAnnual Moonviewing Festival at the Japanese Friendship Garden \nFind out more about this event here: http://www.japanesefriendshipgarden.org/otsukimi2017 \nThe Mission of the Japanese Friendship Garden Inc. is to maintain a beautiful\, serene Japanese garden in the heart of Phoenix and provide educational and artistic programs and events that continue to deepen our relationships and celebrate the rich history and culture of Japan.
URL:https://phoenixsistercities.org/event/4400/2022-06-02/
CATEGORIES:PSC Signature Events
ATTACH;FMTTYPE=image/jpeg:https://phoenixsistercities.org/wp-content/uploads/2017/08/Otsukimi-Flyer-2017.jpg
END:VEVENT
BEGIN:VEVENT
DTSTART;TZID=America/Phoenix:20220601T180000
DTEND;TZID=America/Phoenix:20220601T210000
DTSTAMP:20260420T221606
CREATED:20170926T234010Z
LAST-MODIFIED:20170926T234045Z
UID:10001877-1654106400-1654117200@phoenixsistercities.org
SUMMARY:Otsukimi - Annual Moonviewing Festival
DESCRIPTION:Otsukimi 2017 \nAnnual Moonviewing Festival at the Japanese Friendship Garden \nFind out more about this event here: http://www.japanesefriendshipgarden.org/otsukimi2017 \nThe Mission of the Japanese Friendship Garden Inc. is to maintain a beautiful\, serene Japanese garden in the heart of Phoenix and provide educational and artistic programs and events that continue to deepen our relationships and celebrate the rich history and culture of Japan.
URL:https://phoenixsistercities.org/event/4400/2022-06-01/
CATEGORIES:PSC Signature Events
ATTACH;FMTTYPE=image/jpeg:https://phoenixsistercities.org/wp-content/uploads/2017/08/Otsukimi-Flyer-2017.jpg
END:VEVENT
BEGIN:VEVENT
DTSTART;TZID=America/Phoenix:20220531T180000
DTEND;TZID=America/Phoenix:20220531T210000
DTSTAMP:20260420T221606
CREATED:20170926T234010Z
LAST-MODIFIED:20170926T234045Z
UID:10001876-1654020000-1654030800@phoenixsistercities.org
SUMMARY:Otsukimi - Annual Moonviewing Festival
DESCRIPTION:Otsukimi 2017 \nAnnual Moonviewing Festival at the Japanese Friendship Garden \nFind out more about this event here: http://www.japanesefriendshipgarden.org/otsukimi2017 \nThe Mission of the Japanese Friendship Garden Inc. is to maintain a beautiful\, serene Japanese garden in the heart of Phoenix and provide educational and artistic programs and events that continue to deepen our relationships and celebrate the rich history and culture of Japan.
URL:https://phoenixsistercities.org/event/4400/2022-05-31/
CATEGORIES:PSC Signature Events
ATTACH;FMTTYPE=image/jpeg:https://phoenixsistercities.org/wp-content/uploads/2017/08/Otsukimi-Flyer-2017.jpg
END:VEVENT
BEGIN:VEVENT
DTSTART;TZID=America/Phoenix:20220530T180000
DTEND;TZID=America/Phoenix:20220530T210000
DTSTAMP:20260420T221606
CREATED:20170926T234010Z
LAST-MODIFIED:20170926T234045Z
UID:10001875-1653933600-1653944400@phoenixsistercities.org
SUMMARY:Otsukimi - Annual Moonviewing Festival
DESCRIPTION:Otsukimi 2017 \nAnnual Moonviewing Festival at the Japanese Friendship Garden \nFind out more about this event here: http://www.japanesefriendshipgarden.org/otsukimi2017 \nThe Mission of the Japanese Friendship Garden Inc. is to maintain a beautiful\, serene Japanese garden in the heart of Phoenix and provide educational and artistic programs and events that continue to deepen our relationships and celebrate the rich history and culture of Japan.
URL:https://phoenixsistercities.org/event/4400/2022-05-30/
CATEGORIES:PSC Signature Events
ATTACH;FMTTYPE=image/jpeg:https://phoenixsistercities.org/wp-content/uploads/2017/08/Otsukimi-Flyer-2017.jpg
END:VEVENT
BEGIN:VEVENT
DTSTART;TZID=America/Phoenix:20220529T180000
DTEND;TZID=America/Phoenix:20220529T210000
DTSTAMP:20260420T221606
CREATED:20170926T234010Z
LAST-MODIFIED:20170926T234045Z
UID:10001874-1653847200-1653858000@phoenixsistercities.org
SUMMARY:Otsukimi - Annual Moonviewing Festival
DESCRIPTION:Otsukimi 2017 \nAnnual Moonviewing Festival at the Japanese Friendship Garden \nFind out more about this event here: http://www.japanesefriendshipgarden.org/otsukimi2017 \nThe Mission of the Japanese Friendship Garden Inc. is to maintain a beautiful\, serene Japanese garden in the heart of Phoenix and provide educational and artistic programs and events that continue to deepen our relationships and celebrate the rich history and culture of Japan.
URL:https://phoenixsistercities.org/event/4400/2022-05-29/
CATEGORIES:PSC Signature Events
ATTACH;FMTTYPE=image/jpeg:https://phoenixsistercities.org/wp-content/uploads/2017/08/Otsukimi-Flyer-2017.jpg
END:VEVENT
BEGIN:VEVENT
DTSTART;TZID=America/Phoenix:20220528T180000
DTEND;TZID=America/Phoenix:20220528T210000
DTSTAMP:20260420T221606
CREATED:20170926T234010Z
LAST-MODIFIED:20170926T234045Z
UID:10001873-1653760800-1653771600@phoenixsistercities.org
SUMMARY:Otsukimi - Annual Moonviewing Festival
DESCRIPTION:Otsukimi 2017 \nAnnual Moonviewing Festival at the Japanese Friendship Garden \nFind out more about this event here: http://www.japanesefriendshipgarden.org/otsukimi2017 \nThe Mission of the Japanese Friendship Garden Inc. is to maintain a beautiful\, serene Japanese garden in the heart of Phoenix and provide educational and artistic programs and events that continue to deepen our relationships and celebrate the rich history and culture of Japan.
URL:https://phoenixsistercities.org/event/4400/2022-05-28/
CATEGORIES:PSC Signature Events
ATTACH;FMTTYPE=image/jpeg:https://phoenixsistercities.org/wp-content/uploads/2017/08/Otsukimi-Flyer-2017.jpg
END:VEVENT
BEGIN:VEVENT
DTSTART;TZID=America/Phoenix:20220527T180000
DTEND;TZID=America/Phoenix:20220527T210000
DTSTAMP:20260420T221606
CREATED:20170926T234010Z
LAST-MODIFIED:20170926T234045Z
UID:10001872-1653674400-1653685200@phoenixsistercities.org
SUMMARY:Otsukimi - Annual Moonviewing Festival
DESCRIPTION:Otsukimi 2017 \nAnnual Moonviewing Festival at the Japanese Friendship Garden \nFind out more about this event here: http://www.japanesefriendshipgarden.org/otsukimi2017 \nThe Mission of the Japanese Friendship Garden Inc. is to maintain a beautiful\, serene Japanese garden in the heart of Phoenix and provide educational and artistic programs and events that continue to deepen our relationships and celebrate the rich history and culture of Japan.
URL:https://phoenixsistercities.org/event/4400/2022-05-27/
CATEGORIES:PSC Signature Events
ATTACH;FMTTYPE=image/jpeg:https://phoenixsistercities.org/wp-content/uploads/2017/08/Otsukimi-Flyer-2017.jpg
END:VEVENT
BEGIN:VEVENT
DTSTART;TZID=America/Phoenix:20220526T180000
DTEND;TZID=America/Phoenix:20220526T210000
DTSTAMP:20260420T221607
CREATED:20170926T234010Z
LAST-MODIFIED:20170926T234045Z
UID:10001871-1653588000-1653598800@phoenixsistercities.org
SUMMARY:Otsukimi - Annual Moonviewing Festival
DESCRIPTION:Otsukimi 2017 \nAnnual Moonviewing Festival at the Japanese Friendship Garden \nFind out more about this event here: http://www.japanesefriendshipgarden.org/otsukimi2017 \nThe Mission of the Japanese Friendship Garden Inc. is to maintain a beautiful\, serene Japanese garden in the heart of Phoenix and provide educational and artistic programs and events that continue to deepen our relationships and celebrate the rich history and culture of Japan.
URL:https://phoenixsistercities.org/event/4400/2022-05-26/
CATEGORIES:PSC Signature Events
ATTACH;FMTTYPE=image/jpeg:https://phoenixsistercities.org/wp-content/uploads/2017/08/Otsukimi-Flyer-2017.jpg
END:VEVENT
BEGIN:VEVENT
DTSTART;TZID=America/Phoenix:20220525T180000
DTEND;TZID=America/Phoenix:20220525T210000
DTSTAMP:20260420T221607
CREATED:20170926T234010Z
LAST-MODIFIED:20170926T234045Z
UID:10001870-1653501600-1653512400@phoenixsistercities.org
SUMMARY:Otsukimi - Annual Moonviewing Festival
DESCRIPTION:Otsukimi 2017 \nAnnual Moonviewing Festival at the Japanese Friendship Garden \nFind out more about this event here: http://www.japanesefriendshipgarden.org/otsukimi2017 \nThe Mission of the Japanese Friendship Garden Inc. is to maintain a beautiful\, serene Japanese garden in the heart of Phoenix and provide educational and artistic programs and events that continue to deepen our relationships and celebrate the rich history and culture of Japan.
URL:https://phoenixsistercities.org/event/4400/2022-05-25/
CATEGORIES:PSC Signature Events
ATTACH;FMTTYPE=image/jpeg:https://phoenixsistercities.org/wp-content/uploads/2017/08/Otsukimi-Flyer-2017.jpg
END:VEVENT
BEGIN:VEVENT
DTSTART;TZID=America/Phoenix:20220524T180000
DTEND;TZID=America/Phoenix:20220524T210000
DTSTAMP:20260420T221607
CREATED:20170926T234010Z
LAST-MODIFIED:20170926T234045Z
UID:10001869-1653415200-1653426000@phoenixsistercities.org
SUMMARY:Otsukimi - Annual Moonviewing Festival
DESCRIPTION:Otsukimi 2017 \nAnnual Moonviewing Festival at the Japanese Friendship Garden \nFind out more about this event here: http://www.japanesefriendshipgarden.org/otsukimi2017 \nThe Mission of the Japanese Friendship Garden Inc. is to maintain a beautiful\, serene Japanese garden in the heart of Phoenix and provide educational and artistic programs and events that continue to deepen our relationships and celebrate the rich history and culture of Japan.
URL:https://phoenixsistercities.org/event/4400/2022-05-24/
CATEGORIES:PSC Signature Events
ATTACH;FMTTYPE=image/jpeg:https://phoenixsistercities.org/wp-content/uploads/2017/08/Otsukimi-Flyer-2017.jpg
END:VEVENT
BEGIN:VEVENT
DTSTART;TZID=America/Phoenix:20220523T180000
DTEND;TZID=America/Phoenix:20220523T210000
DTSTAMP:20260420T221607
CREATED:20170926T234010Z
LAST-MODIFIED:20170926T234045Z
UID:10001868-1653328800-1653339600@phoenixsistercities.org
SUMMARY:Otsukimi - Annual Moonviewing Festival
DESCRIPTION:Otsukimi 2017 \nAnnual Moonviewing Festival at the Japanese Friendship Garden \nFind out more about this event here: http://www.japanesefriendshipgarden.org/otsukimi2017 \nThe Mission of the Japanese Friendship Garden Inc. is to maintain a beautiful\, serene Japanese garden in the heart of Phoenix and provide educational and artistic programs and events that continue to deepen our relationships and celebrate the rich history and culture of Japan.
URL:https://phoenixsistercities.org/event/4400/2022-05-23/
CATEGORIES:PSC Signature Events
ATTACH;FMTTYPE=image/jpeg:https://phoenixsistercities.org/wp-content/uploads/2017/08/Otsukimi-Flyer-2017.jpg
END:VEVENT
BEGIN:VEVENT
DTSTART;TZID=America/Phoenix:20220522T180000
DTEND;TZID=America/Phoenix:20220522T210000
DTSTAMP:20260420T221607
CREATED:20170926T234010Z
LAST-MODIFIED:20170926T234045Z
UID:10001867-1653242400-1653253200@phoenixsistercities.org
SUMMARY:Otsukimi - Annual Moonviewing Festival
DESCRIPTION:Otsukimi 2017 \nAnnual Moonviewing Festival at the Japanese Friendship Garden \nFind out more about this event here: http://www.japanesefriendshipgarden.org/otsukimi2017 \nThe Mission of the Japanese Friendship Garden Inc. is to maintain a beautiful\, serene Japanese garden in the heart of Phoenix and provide educational and artistic programs and events that continue to deepen our relationships and celebrate the rich history and culture of Japan.
URL:https://phoenixsistercities.org/event/4400/2022-05-22/
CATEGORIES:PSC Signature Events
ATTACH;FMTTYPE=image/jpeg:https://phoenixsistercities.org/wp-content/uploads/2017/08/Otsukimi-Flyer-2017.jpg
END:VEVENT
BEGIN:VEVENT
DTSTART;TZID=America/Phoenix:20220521T180000
DTEND;TZID=America/Phoenix:20220521T210000
DTSTAMP:20260420T221607
CREATED:20170926T234010Z
LAST-MODIFIED:20170926T234045Z
UID:10001866-1653156000-1653166800@phoenixsistercities.org
SUMMARY:Otsukimi - Annual Moonviewing Festival
DESCRIPTION:Otsukimi 2017 \nAnnual Moonviewing Festival at the Japanese Friendship Garden \nFind out more about this event here: http://www.japanesefriendshipgarden.org/otsukimi2017 \nThe Mission of the Japanese Friendship Garden Inc. is to maintain a beautiful\, serene Japanese garden in the heart of Phoenix and provide educational and artistic programs and events that continue to deepen our relationships and celebrate the rich history and culture of Japan.
URL:https://phoenixsistercities.org/event/4400/2022-05-21/
CATEGORIES:PSC Signature Events
ATTACH;FMTTYPE=image/jpeg:https://phoenixsistercities.org/wp-content/uploads/2017/08/Otsukimi-Flyer-2017.jpg
END:VEVENT
BEGIN:VEVENT
DTSTART;TZID=America/Phoenix:20220520T180000
DTEND;TZID=America/Phoenix:20220520T210000
DTSTAMP:20260420T221607
CREATED:20170926T234010Z
LAST-MODIFIED:20170926T234045Z
UID:10001865-1653069600-1653080400@phoenixsistercities.org
SUMMARY:Otsukimi - Annual Moonviewing Festival
DESCRIPTION:Otsukimi 2017 \nAnnual Moonviewing Festival at the Japanese Friendship Garden \nFind out more about this event here: http://www.japanesefriendshipgarden.org/otsukimi2017 \nThe Mission of the Japanese Friendship Garden Inc. is to maintain a beautiful\, serene Japanese garden in the heart of Phoenix and provide educational and artistic programs and events that continue to deepen our relationships and celebrate the rich history and culture of Japan.
URL:https://phoenixsistercities.org/event/4400/2022-05-20/
CATEGORIES:PSC Signature Events
ATTACH;FMTTYPE=image/jpeg:https://phoenixsistercities.org/wp-content/uploads/2017/08/Otsukimi-Flyer-2017.jpg
END:VEVENT
BEGIN:VEVENT
DTSTART;TZID=America/Phoenix:20220519T180000
DTEND;TZID=America/Phoenix:20220519T210000
DTSTAMP:20260420T221607
CREATED:20170926T234010Z
LAST-MODIFIED:20170926T234045Z
UID:10001864-1652983200-1652994000@phoenixsistercities.org
SUMMARY:Otsukimi - Annual Moonviewing Festival
DESCRIPTION:Otsukimi 2017 \nAnnual Moonviewing Festival at the Japanese Friendship Garden \nFind out more about this event here: http://www.japanesefriendshipgarden.org/otsukimi2017 \nThe Mission of the Japanese Friendship Garden Inc. is to maintain a beautiful\, serene Japanese garden in the heart of Phoenix and provide educational and artistic programs and events that continue to deepen our relationships and celebrate the rich history and culture of Japan.
URL:https://phoenixsistercities.org/event/4400/2022-05-19/
CATEGORIES:PSC Signature Events
ATTACH;FMTTYPE=image/jpeg:https://phoenixsistercities.org/wp-content/uploads/2017/08/Otsukimi-Flyer-2017.jpg
END:VEVENT
BEGIN:VEVENT
DTSTART;TZID=America/Phoenix:20220518T180000
DTEND;TZID=America/Phoenix:20220518T210000
DTSTAMP:20260420T221607
CREATED:20170926T234010Z
LAST-MODIFIED:20170926T234045Z
UID:10001863-1652896800-1652907600@phoenixsistercities.org
SUMMARY:Otsukimi - Annual Moonviewing Festival
DESCRIPTION:Otsukimi 2017 \nAnnual Moonviewing Festival at the Japanese Friendship Garden \nFind out more about this event here: http://www.japanesefriendshipgarden.org/otsukimi2017 \nThe Mission of the Japanese Friendship Garden Inc. is to maintain a beautiful\, serene Japanese garden in the heart of Phoenix and provide educational and artistic programs and events that continue to deepen our relationships and celebrate the rich history and culture of Japan.
URL:https://phoenixsistercities.org/event/4400/2022-05-18/
CATEGORIES:PSC Signature Events
ATTACH;FMTTYPE=image/jpeg:https://phoenixsistercities.org/wp-content/uploads/2017/08/Otsukimi-Flyer-2017.jpg
END:VEVENT
BEGIN:VEVENT
DTSTART;TZID=America/Phoenix:20220517T180000
DTEND;TZID=America/Phoenix:20220517T210000
DTSTAMP:20260420T221607
CREATED:20170926T234010Z
LAST-MODIFIED:20170926T234045Z
UID:10001862-1652810400-1652821200@phoenixsistercities.org
SUMMARY:Otsukimi - Annual Moonviewing Festival
DESCRIPTION:Otsukimi 2017 \nAnnual Moonviewing Festival at the Japanese Friendship Garden \nFind out more about this event here: http://www.japanesefriendshipgarden.org/otsukimi2017 \nThe Mission of the Japanese Friendship Garden Inc. is to maintain a beautiful\, serene Japanese garden in the heart of Phoenix and provide educational and artistic programs and events that continue to deepen our relationships and celebrate the rich history and culture of Japan.
URL:https://phoenixsistercities.org/event/4400/2022-05-17/
CATEGORIES:PSC Signature Events
ATTACH;FMTTYPE=image/jpeg:https://phoenixsistercities.org/wp-content/uploads/2017/08/Otsukimi-Flyer-2017.jpg
END:VEVENT
BEGIN:VEVENT
DTSTART;TZID=America/Phoenix:20220516T180000
DTEND;TZID=America/Phoenix:20220516T210000
DTSTAMP:20260420T221607
CREATED:20170926T234010Z
LAST-MODIFIED:20170926T234045Z
UID:10001861-1652724000-1652734800@phoenixsistercities.org
SUMMARY:Otsukimi - Annual Moonviewing Festival
DESCRIPTION:Otsukimi 2017 \nAnnual Moonviewing Festival at the Japanese Friendship Garden \nFind out more about this event here: http://www.japanesefriendshipgarden.org/otsukimi2017 \nThe Mission of the Japanese Friendship Garden Inc. is to maintain a beautiful\, serene Japanese garden in the heart of Phoenix and provide educational and artistic programs and events that continue to deepen our relationships and celebrate the rich history and culture of Japan.
URL:https://phoenixsistercities.org/event/4400/2022-05-16/
CATEGORIES:PSC Signature Events
ATTACH;FMTTYPE=image/jpeg:https://phoenixsistercities.org/wp-content/uploads/2017/08/Otsukimi-Flyer-2017.jpg
END:VEVENT
BEGIN:VEVENT
DTSTART;TZID=America/Phoenix:20220515T180000
DTEND;TZID=America/Phoenix:20220515T210000
DTSTAMP:20260420T221607
CREATED:20170926T234010Z
LAST-MODIFIED:20170926T234045Z
UID:10001860-1652637600-1652648400@phoenixsistercities.org
SUMMARY:Otsukimi - Annual Moonviewing Festival
DESCRIPTION:Otsukimi 2017 \nAnnual Moonviewing Festival at the Japanese Friendship Garden \nFind out more about this event here: http://www.japanesefriendshipgarden.org/otsukimi2017 \nThe Mission of the Japanese Friendship Garden Inc. is to maintain a beautiful\, serene Japanese garden in the heart of Phoenix and provide educational and artistic programs and events that continue to deepen our relationships and celebrate the rich history and culture of Japan.
URL:https://phoenixsistercities.org/event/4400/2022-05-15/
CATEGORIES:PSC Signature Events
ATTACH;FMTTYPE=image/jpeg:https://phoenixsistercities.org/wp-content/uploads/2017/08/Otsukimi-Flyer-2017.jpg
END:VEVENT
BEGIN:VEVENT
DTSTART;TZID=America/Phoenix:20220514T180000
DTEND;TZID=America/Phoenix:20220514T210000
DTSTAMP:20260420T221607
CREATED:20170926T234010Z
LAST-MODIFIED:20170926T234045Z
UID:10001859-1652551200-1652562000@phoenixsistercities.org
SUMMARY:Otsukimi - Annual Moonviewing Festival
DESCRIPTION:Otsukimi 2017 \nAnnual Moonviewing Festival at the Japanese Friendship Garden \nFind out more about this event here: http://www.japanesefriendshipgarden.org/otsukimi2017 \nThe Mission of the Japanese Friendship Garden Inc. is to maintain a beautiful\, serene Japanese garden in the heart of Phoenix and provide educational and artistic programs and events that continue to deepen our relationships and celebrate the rich history and culture of Japan.
URL:https://phoenixsistercities.org/event/4400/2022-05-14/
CATEGORIES:PSC Signature Events
ATTACH;FMTTYPE=image/jpeg:https://phoenixsistercities.org/wp-content/uploads/2017/08/Otsukimi-Flyer-2017.jpg
END:VEVENT
BEGIN:VEVENT
DTSTART;TZID=America/Phoenix:20220513T180000
DTEND;TZID=America/Phoenix:20220513T210000
DTSTAMP:20260420T221607
CREATED:20170926T234010Z
LAST-MODIFIED:20170926T234045Z
UID:10001858-1652464800-1652475600@phoenixsistercities.org
SUMMARY:Otsukimi - Annual Moonviewing Festival
DESCRIPTION:Otsukimi 2017 \nAnnual Moonviewing Festival at the Japanese Friendship Garden \nFind out more about this event here: http://www.japanesefriendshipgarden.org/otsukimi2017 \nThe Mission of the Japanese Friendship Garden Inc. is to maintain a beautiful\, serene Japanese garden in the heart of Phoenix and provide educational and artistic programs and events that continue to deepen our relationships and celebrate the rich history and culture of Japan.
URL:https://phoenixsistercities.org/event/4400/2022-05-13/
CATEGORIES:PSC Signature Events
ATTACH;FMTTYPE=image/jpeg:https://phoenixsistercities.org/wp-content/uploads/2017/08/Otsukimi-Flyer-2017.jpg
END:VEVENT
BEGIN:VEVENT
DTSTART;TZID=America/Phoenix:20220512T180000
DTEND;TZID=America/Phoenix:20220512T210000
DTSTAMP:20260420T221607
CREATED:20170926T234010Z
LAST-MODIFIED:20170926T234045Z
UID:10001857-1652378400-1652389200@phoenixsistercities.org
SUMMARY:Otsukimi - Annual Moonviewing Festival
DESCRIPTION:Otsukimi 2017 \nAnnual Moonviewing Festival at the Japanese Friendship Garden \nFind out more about this event here: http://www.japanesefriendshipgarden.org/otsukimi2017 \nThe Mission of the Japanese Friendship Garden Inc. is to maintain a beautiful\, serene Japanese garden in the heart of Phoenix and provide educational and artistic programs and events that continue to deepen our relationships and celebrate the rich history and culture of Japan.
URL:https://phoenixsistercities.org/event/4400/2022-05-12/
CATEGORIES:PSC Signature Events
ATTACH;FMTTYPE=image/jpeg:https://phoenixsistercities.org/wp-content/uploads/2017/08/Otsukimi-Flyer-2017.jpg
END:VEVENT
BEGIN:VEVENT
DTSTART;TZID=America/Phoenix:20220511T180000
DTEND;TZID=America/Phoenix:20220511T210000
DTSTAMP:20260420T221607
CREATED:20170926T234010Z
LAST-MODIFIED:20170926T234045Z
UID:10001856-1652292000-1652302800@phoenixsistercities.org
SUMMARY:Otsukimi - Annual Moonviewing Festival
DESCRIPTION:Otsukimi 2017 \nAnnual Moonviewing Festival at the Japanese Friendship Garden \nFind out more about this event here: http://www.japanesefriendshipgarden.org/otsukimi2017 \nThe Mission of the Japanese Friendship Garden Inc. is to maintain a beautiful\, serene Japanese garden in the heart of Phoenix and provide educational and artistic programs and events that continue to deepen our relationships and celebrate the rich history and culture of Japan.
URL:https://phoenixsistercities.org/event/4400/2022-05-11/
CATEGORIES:PSC Signature Events
ATTACH;FMTTYPE=image/jpeg:https://phoenixsistercities.org/wp-content/uploads/2017/08/Otsukimi-Flyer-2017.jpg
END:VEVENT
BEGIN:VEVENT
DTSTART;TZID=America/Phoenix:20220510T180000
DTEND;TZID=America/Phoenix:20220510T210000
DTSTAMP:20260420T221607
CREATED:20170926T234010Z
LAST-MODIFIED:20170926T234045Z
UID:10001855-1652205600-1652216400@phoenixsistercities.org
SUMMARY:Otsukimi - Annual Moonviewing Festival
DESCRIPTION:Otsukimi 2017 \nAnnual Moonviewing Festival at the Japanese Friendship Garden \nFind out more about this event here: http://www.japanesefriendshipgarden.org/otsukimi2017 \nThe Mission of the Japanese Friendship Garden Inc. is to maintain a beautiful\, serene Japanese garden in the heart of Phoenix and provide educational and artistic programs and events that continue to deepen our relationships and celebrate the rich history and culture of Japan.
URL:https://phoenixsistercities.org/event/4400/2022-05-10/
CATEGORIES:PSC Signature Events
ATTACH;FMTTYPE=image/jpeg:https://phoenixsistercities.org/wp-content/uploads/2017/08/Otsukimi-Flyer-2017.jpg
END:VEVENT
BEGIN:VEVENT
DTSTART;TZID=America/Phoenix:20220509T180000
DTEND;TZID=America/Phoenix:20220509T210000
DTSTAMP:20260420T221607
CREATED:20170926T234010Z
LAST-MODIFIED:20170926T234045Z
UID:10001854-1652119200-1652130000@phoenixsistercities.org
SUMMARY:Otsukimi - Annual Moonviewing Festival
DESCRIPTION:Otsukimi 2017 \nAnnual Moonviewing Festival at the Japanese Friendship Garden \nFind out more about this event here: http://www.japanesefriendshipgarden.org/otsukimi2017 \nThe Mission of the Japanese Friendship Garden Inc. is to maintain a beautiful\, serene Japanese garden in the heart of Phoenix and provide educational and artistic programs and events that continue to deepen our relationships and celebrate the rich history and culture of Japan.
URL:https://phoenixsistercities.org/event/4400/2022-05-09/
CATEGORIES:PSC Signature Events
ATTACH;FMTTYPE=image/jpeg:https://phoenixsistercities.org/wp-content/uploads/2017/08/Otsukimi-Flyer-2017.jpg
END:VEVENT
END:VCALENDAR