BEGIN:VCALENDAR
VERSION:2.0
PRODID:-//Phoenix Sister Cities - ECPv6.15.15//NONSGML v1.0//EN
CALSCALE:GREGORIAN
METHOD:PUBLISH
X-WR-CALNAME:Phoenix Sister Cities
X-ORIGINAL-URL:https://phoenixsistercities.org
X-WR-CALDESC:Events for Phoenix Sister Cities
REFRESH-INTERVAL;VALUE=DURATION:PT1H
X-Robots-Tag:noindex
X-PUBLISHED-TTL:PT1H
BEGIN:VTIMEZONE
TZID:America/Phoenix
BEGIN:STANDARD
TZOFFSETFROM:-0700
TZOFFSETTO:-0700
TZNAME:MST
DTSTART:20210101T000000
END:STANDARD
END:VTIMEZONE
BEGIN:VEVENT
DTSTART;TZID=America/Phoenix:20220420T180000
DTEND;TZID=America/Phoenix:20220420T210000
DTSTAMP:20260420T164012
CREATED:20170926T234010Z
LAST-MODIFIED:20170926T234045Z
UID:10001835-1650477600-1650488400@phoenixsistercities.org
SUMMARY:Otsukimi - Annual Moonviewing Festival
DESCRIPTION:Otsukimi 2017 \nAnnual Moonviewing Festival at the Japanese Friendship Garden \nFind out more about this event here: http://www.japanesefriendshipgarden.org/otsukimi2017 \nThe Mission of the Japanese Friendship Garden Inc. is to maintain a beautiful\, serene Japanese garden in the heart of Phoenix and provide educational and artistic programs and events that continue to deepen our relationships and celebrate the rich history and culture of Japan.
URL:https://phoenixsistercities.org/event/4400/2022-04-20/
CATEGORIES:PSC Signature Events
ATTACH;FMTTYPE=image/jpeg:https://phoenixsistercities.org/wp-content/uploads/2017/08/Otsukimi-Flyer-2017.jpg
END:VEVENT
BEGIN:VEVENT
DTSTART;TZID=America/Phoenix:20220419T180000
DTEND;TZID=America/Phoenix:20220419T210000
DTSTAMP:20260420T164012
CREATED:20170926T234010Z
LAST-MODIFIED:20170926T234045Z
UID:10001834-1650391200-1650402000@phoenixsistercities.org
SUMMARY:Otsukimi - Annual Moonviewing Festival
DESCRIPTION:Otsukimi 2017 \nAnnual Moonviewing Festival at the Japanese Friendship Garden \nFind out more about this event here: http://www.japanesefriendshipgarden.org/otsukimi2017 \nThe Mission of the Japanese Friendship Garden Inc. is to maintain a beautiful\, serene Japanese garden in the heart of Phoenix and provide educational and artistic programs and events that continue to deepen our relationships and celebrate the rich history and culture of Japan.
URL:https://phoenixsistercities.org/event/4400/2022-04-19/
CATEGORIES:PSC Signature Events
ATTACH;FMTTYPE=image/jpeg:https://phoenixsistercities.org/wp-content/uploads/2017/08/Otsukimi-Flyer-2017.jpg
END:VEVENT
BEGIN:VEVENT
DTSTART;TZID=America/Phoenix:20220418T180000
DTEND;TZID=America/Phoenix:20220418T210000
DTSTAMP:20260420T164012
CREATED:20170926T234010Z
LAST-MODIFIED:20170926T234045Z
UID:10001833-1650304800-1650315600@phoenixsistercities.org
SUMMARY:Otsukimi - Annual Moonviewing Festival
DESCRIPTION:Otsukimi 2017 \nAnnual Moonviewing Festival at the Japanese Friendship Garden \nFind out more about this event here: http://www.japanesefriendshipgarden.org/otsukimi2017 \nThe Mission of the Japanese Friendship Garden Inc. is to maintain a beautiful\, serene Japanese garden in the heart of Phoenix and provide educational and artistic programs and events that continue to deepen our relationships and celebrate the rich history and culture of Japan.
URL:https://phoenixsistercities.org/event/4400/2022-04-18/
CATEGORIES:PSC Signature Events
ATTACH;FMTTYPE=image/jpeg:https://phoenixsistercities.org/wp-content/uploads/2017/08/Otsukimi-Flyer-2017.jpg
END:VEVENT
BEGIN:VEVENT
DTSTART;TZID=America/Phoenix:20220417T180000
DTEND;TZID=America/Phoenix:20220417T210000
DTSTAMP:20260420T164012
CREATED:20170926T234010Z
LAST-MODIFIED:20170926T234045Z
UID:10001832-1650218400-1650229200@phoenixsistercities.org
SUMMARY:Otsukimi - Annual Moonviewing Festival
DESCRIPTION:Otsukimi 2017 \nAnnual Moonviewing Festival at the Japanese Friendship Garden \nFind out more about this event here: http://www.japanesefriendshipgarden.org/otsukimi2017 \nThe Mission of the Japanese Friendship Garden Inc. is to maintain a beautiful\, serene Japanese garden in the heart of Phoenix and provide educational and artistic programs and events that continue to deepen our relationships and celebrate the rich history and culture of Japan.
URL:https://phoenixsistercities.org/event/4400/2022-04-17/
CATEGORIES:PSC Signature Events
ATTACH;FMTTYPE=image/jpeg:https://phoenixsistercities.org/wp-content/uploads/2017/08/Otsukimi-Flyer-2017.jpg
END:VEVENT
BEGIN:VEVENT
DTSTART;TZID=America/Phoenix:20220416T180000
DTEND;TZID=America/Phoenix:20220416T210000
DTSTAMP:20260420T164012
CREATED:20170926T234010Z
LAST-MODIFIED:20170926T234045Z
UID:10001831-1650132000-1650142800@phoenixsistercities.org
SUMMARY:Otsukimi - Annual Moonviewing Festival
DESCRIPTION:Otsukimi 2017 \nAnnual Moonviewing Festival at the Japanese Friendship Garden \nFind out more about this event here: http://www.japanesefriendshipgarden.org/otsukimi2017 \nThe Mission of the Japanese Friendship Garden Inc. is to maintain a beautiful\, serene Japanese garden in the heart of Phoenix and provide educational and artistic programs and events that continue to deepen our relationships and celebrate the rich history and culture of Japan.
URL:https://phoenixsistercities.org/event/4400/2022-04-16/
CATEGORIES:PSC Signature Events
ATTACH;FMTTYPE=image/jpeg:https://phoenixsistercities.org/wp-content/uploads/2017/08/Otsukimi-Flyer-2017.jpg
END:VEVENT
BEGIN:VEVENT
DTSTART;TZID=America/Phoenix:20220415T180000
DTEND;TZID=America/Phoenix:20220415T210000
DTSTAMP:20260420T164012
CREATED:20170926T234010Z
LAST-MODIFIED:20170926T234045Z
UID:10001830-1650045600-1650056400@phoenixsistercities.org
SUMMARY:Otsukimi - Annual Moonviewing Festival
DESCRIPTION:Otsukimi 2017 \nAnnual Moonviewing Festival at the Japanese Friendship Garden \nFind out more about this event here: http://www.japanesefriendshipgarden.org/otsukimi2017 \nThe Mission of the Japanese Friendship Garden Inc. is to maintain a beautiful\, serene Japanese garden in the heart of Phoenix and provide educational and artistic programs and events that continue to deepen our relationships and celebrate the rich history and culture of Japan.
URL:https://phoenixsistercities.org/event/4400/2022-04-15/
CATEGORIES:PSC Signature Events
ATTACH;FMTTYPE=image/jpeg:https://phoenixsistercities.org/wp-content/uploads/2017/08/Otsukimi-Flyer-2017.jpg
END:VEVENT
BEGIN:VEVENT
DTSTART;TZID=America/Phoenix:20220414T180000
DTEND;TZID=America/Phoenix:20220414T210000
DTSTAMP:20260420T164012
CREATED:20170926T234010Z
LAST-MODIFIED:20170926T234045Z
UID:10001829-1649959200-1649970000@phoenixsistercities.org
SUMMARY:Otsukimi - Annual Moonviewing Festival
DESCRIPTION:Otsukimi 2017 \nAnnual Moonviewing Festival at the Japanese Friendship Garden \nFind out more about this event here: http://www.japanesefriendshipgarden.org/otsukimi2017 \nThe Mission of the Japanese Friendship Garden Inc. is to maintain a beautiful\, serene Japanese garden in the heart of Phoenix and provide educational and artistic programs and events that continue to deepen our relationships and celebrate the rich history and culture of Japan.
URL:https://phoenixsistercities.org/event/4400/2022-04-14/
CATEGORIES:PSC Signature Events
ATTACH;FMTTYPE=image/jpeg:https://phoenixsistercities.org/wp-content/uploads/2017/08/Otsukimi-Flyer-2017.jpg
END:VEVENT
BEGIN:VEVENT
DTSTART;TZID=America/Phoenix:20220413T180000
DTEND;TZID=America/Phoenix:20220413T210000
DTSTAMP:20260420T164012
CREATED:20170926T234010Z
LAST-MODIFIED:20170926T234045Z
UID:10001828-1649872800-1649883600@phoenixsistercities.org
SUMMARY:Otsukimi - Annual Moonviewing Festival
DESCRIPTION:Otsukimi 2017 \nAnnual Moonviewing Festival at the Japanese Friendship Garden \nFind out more about this event here: http://www.japanesefriendshipgarden.org/otsukimi2017 \nThe Mission of the Japanese Friendship Garden Inc. is to maintain a beautiful\, serene Japanese garden in the heart of Phoenix and provide educational and artistic programs and events that continue to deepen our relationships and celebrate the rich history and culture of Japan.
URL:https://phoenixsistercities.org/event/4400/2022-04-13/
CATEGORIES:PSC Signature Events
ATTACH;FMTTYPE=image/jpeg:https://phoenixsistercities.org/wp-content/uploads/2017/08/Otsukimi-Flyer-2017.jpg
END:VEVENT
BEGIN:VEVENT
DTSTART;TZID=America/Phoenix:20220412T180000
DTEND;TZID=America/Phoenix:20220412T210000
DTSTAMP:20260420T164013
CREATED:20170926T234010Z
LAST-MODIFIED:20170926T234045Z
UID:10001827-1649786400-1649797200@phoenixsistercities.org
SUMMARY:Otsukimi - Annual Moonviewing Festival
DESCRIPTION:Otsukimi 2017 \nAnnual Moonviewing Festival at the Japanese Friendship Garden \nFind out more about this event here: http://www.japanesefriendshipgarden.org/otsukimi2017 \nThe Mission of the Japanese Friendship Garden Inc. is to maintain a beautiful\, serene Japanese garden in the heart of Phoenix and provide educational and artistic programs and events that continue to deepen our relationships and celebrate the rich history and culture of Japan.
URL:https://phoenixsistercities.org/event/4400/2022-04-12/
CATEGORIES:PSC Signature Events
ATTACH;FMTTYPE=image/jpeg:https://phoenixsistercities.org/wp-content/uploads/2017/08/Otsukimi-Flyer-2017.jpg
END:VEVENT
BEGIN:VEVENT
DTSTART;TZID=America/Phoenix:20220411T180000
DTEND;TZID=America/Phoenix:20220411T210000
DTSTAMP:20260420T164013
CREATED:20170926T234010Z
LAST-MODIFIED:20170926T234045Z
UID:10001826-1649700000-1649710800@phoenixsistercities.org
SUMMARY:Otsukimi - Annual Moonviewing Festival
DESCRIPTION:Otsukimi 2017 \nAnnual Moonviewing Festival at the Japanese Friendship Garden \nFind out more about this event here: http://www.japanesefriendshipgarden.org/otsukimi2017 \nThe Mission of the Japanese Friendship Garden Inc. is to maintain a beautiful\, serene Japanese garden in the heart of Phoenix and provide educational and artistic programs and events that continue to deepen our relationships and celebrate the rich history and culture of Japan.
URL:https://phoenixsistercities.org/event/4400/2022-04-11/
CATEGORIES:PSC Signature Events
ATTACH;FMTTYPE=image/jpeg:https://phoenixsistercities.org/wp-content/uploads/2017/08/Otsukimi-Flyer-2017.jpg
END:VEVENT
BEGIN:VEVENT
DTSTART;TZID=America/Phoenix:20220410T180000
DTEND;TZID=America/Phoenix:20220410T210000
DTSTAMP:20260420T164013
CREATED:20170926T234010Z
LAST-MODIFIED:20170926T234045Z
UID:10001825-1649613600-1649624400@phoenixsistercities.org
SUMMARY:Otsukimi - Annual Moonviewing Festival
DESCRIPTION:Otsukimi 2017 \nAnnual Moonviewing Festival at the Japanese Friendship Garden \nFind out more about this event here: http://www.japanesefriendshipgarden.org/otsukimi2017 \nThe Mission of the Japanese Friendship Garden Inc. is to maintain a beautiful\, serene Japanese garden in the heart of Phoenix and provide educational and artistic programs and events that continue to deepen our relationships and celebrate the rich history and culture of Japan.
URL:https://phoenixsistercities.org/event/4400/2022-04-10/
CATEGORIES:PSC Signature Events
ATTACH;FMTTYPE=image/jpeg:https://phoenixsistercities.org/wp-content/uploads/2017/08/Otsukimi-Flyer-2017.jpg
END:VEVENT
BEGIN:VEVENT
DTSTART;TZID=America/Phoenix:20220409T180000
DTEND;TZID=America/Phoenix:20220409T210000
DTSTAMP:20260420T164013
CREATED:20170926T234010Z
LAST-MODIFIED:20170926T234045Z
UID:10001824-1649527200-1649538000@phoenixsistercities.org
SUMMARY:Otsukimi - Annual Moonviewing Festival
DESCRIPTION:Otsukimi 2017 \nAnnual Moonviewing Festival at the Japanese Friendship Garden \nFind out more about this event here: http://www.japanesefriendshipgarden.org/otsukimi2017 \nThe Mission of the Japanese Friendship Garden Inc. is to maintain a beautiful\, serene Japanese garden in the heart of Phoenix and provide educational and artistic programs and events that continue to deepen our relationships and celebrate the rich history and culture of Japan.
URL:https://phoenixsistercities.org/event/4400/2022-04-09/
CATEGORIES:PSC Signature Events
ATTACH;FMTTYPE=image/jpeg:https://phoenixsistercities.org/wp-content/uploads/2017/08/Otsukimi-Flyer-2017.jpg
END:VEVENT
BEGIN:VEVENT
DTSTART;TZID=America/Phoenix:20220408T180000
DTEND;TZID=America/Phoenix:20220408T210000
DTSTAMP:20260420T164013
CREATED:20170926T234010Z
LAST-MODIFIED:20170926T234045Z
UID:10001823-1649440800-1649451600@phoenixsistercities.org
SUMMARY:Otsukimi - Annual Moonviewing Festival
DESCRIPTION:Otsukimi 2017 \nAnnual Moonviewing Festival at the Japanese Friendship Garden \nFind out more about this event here: http://www.japanesefriendshipgarden.org/otsukimi2017 \nThe Mission of the Japanese Friendship Garden Inc. is to maintain a beautiful\, serene Japanese garden in the heart of Phoenix and provide educational and artistic programs and events that continue to deepen our relationships and celebrate the rich history and culture of Japan.
URL:https://phoenixsistercities.org/event/4400/2022-04-08/
CATEGORIES:PSC Signature Events
ATTACH;FMTTYPE=image/jpeg:https://phoenixsistercities.org/wp-content/uploads/2017/08/Otsukimi-Flyer-2017.jpg
END:VEVENT
BEGIN:VEVENT
DTSTART;TZID=America/Phoenix:20220407T180000
DTEND;TZID=America/Phoenix:20220407T210000
DTSTAMP:20260420T164013
CREATED:20170926T234010Z
LAST-MODIFIED:20170926T234045Z
UID:10001822-1649354400-1649365200@phoenixsistercities.org
SUMMARY:Otsukimi - Annual Moonviewing Festival
DESCRIPTION:Otsukimi 2017 \nAnnual Moonviewing Festival at the Japanese Friendship Garden \nFind out more about this event here: http://www.japanesefriendshipgarden.org/otsukimi2017 \nThe Mission of the Japanese Friendship Garden Inc. is to maintain a beautiful\, serene Japanese garden in the heart of Phoenix and provide educational and artistic programs and events that continue to deepen our relationships and celebrate the rich history and culture of Japan.
URL:https://phoenixsistercities.org/event/4400/2022-04-07/
CATEGORIES:PSC Signature Events
ATTACH;FMTTYPE=image/jpeg:https://phoenixsistercities.org/wp-content/uploads/2017/08/Otsukimi-Flyer-2017.jpg
END:VEVENT
BEGIN:VEVENT
DTSTART;TZID=America/Phoenix:20220406T180000
DTEND;TZID=America/Phoenix:20220406T210000
DTSTAMP:20260420T164013
CREATED:20170926T234010Z
LAST-MODIFIED:20170926T234045Z
UID:10001821-1649268000-1649278800@phoenixsistercities.org
SUMMARY:Otsukimi - Annual Moonviewing Festival
DESCRIPTION:Otsukimi 2017 \nAnnual Moonviewing Festival at the Japanese Friendship Garden \nFind out more about this event here: http://www.japanesefriendshipgarden.org/otsukimi2017 \nThe Mission of the Japanese Friendship Garden Inc. is to maintain a beautiful\, serene Japanese garden in the heart of Phoenix and provide educational and artistic programs and events that continue to deepen our relationships and celebrate the rich history and culture of Japan.
URL:https://phoenixsistercities.org/event/4400/2022-04-06/
CATEGORIES:PSC Signature Events
ATTACH;FMTTYPE=image/jpeg:https://phoenixsistercities.org/wp-content/uploads/2017/08/Otsukimi-Flyer-2017.jpg
END:VEVENT
BEGIN:VEVENT
DTSTART;TZID=America/Phoenix:20220405T180000
DTEND;TZID=America/Phoenix:20220405T210000
DTSTAMP:20260420T164013
CREATED:20170926T234010Z
LAST-MODIFIED:20170926T234045Z
UID:10001820-1649181600-1649192400@phoenixsistercities.org
SUMMARY:Otsukimi - Annual Moonviewing Festival
DESCRIPTION:Otsukimi 2017 \nAnnual Moonviewing Festival at the Japanese Friendship Garden \nFind out more about this event here: http://www.japanesefriendshipgarden.org/otsukimi2017 \nThe Mission of the Japanese Friendship Garden Inc. is to maintain a beautiful\, serene Japanese garden in the heart of Phoenix and provide educational and artistic programs and events that continue to deepen our relationships and celebrate the rich history and culture of Japan.
URL:https://phoenixsistercities.org/event/4400/2022-04-05/
CATEGORIES:PSC Signature Events
ATTACH;FMTTYPE=image/jpeg:https://phoenixsistercities.org/wp-content/uploads/2017/08/Otsukimi-Flyer-2017.jpg
END:VEVENT
BEGIN:VEVENT
DTSTART;TZID=America/Phoenix:20220404T180000
DTEND;TZID=America/Phoenix:20220404T210000
DTSTAMP:20260420T164013
CREATED:20170926T234010Z
LAST-MODIFIED:20170926T234045Z
UID:10001819-1649095200-1649106000@phoenixsistercities.org
SUMMARY:Otsukimi - Annual Moonviewing Festival
DESCRIPTION:Otsukimi 2017 \nAnnual Moonviewing Festival at the Japanese Friendship Garden \nFind out more about this event here: http://www.japanesefriendshipgarden.org/otsukimi2017 \nThe Mission of the Japanese Friendship Garden Inc. is to maintain a beautiful\, serene Japanese garden in the heart of Phoenix and provide educational and artistic programs and events that continue to deepen our relationships and celebrate the rich history and culture of Japan.
URL:https://phoenixsistercities.org/event/4400/2022-04-04/
CATEGORIES:PSC Signature Events
ATTACH;FMTTYPE=image/jpeg:https://phoenixsistercities.org/wp-content/uploads/2017/08/Otsukimi-Flyer-2017.jpg
END:VEVENT
BEGIN:VEVENT
DTSTART;TZID=America/Phoenix:20220403T180000
DTEND;TZID=America/Phoenix:20220403T210000
DTSTAMP:20260420T164013
CREATED:20170926T234010Z
LAST-MODIFIED:20170926T234045Z
UID:10001818-1649008800-1649019600@phoenixsistercities.org
SUMMARY:Otsukimi - Annual Moonviewing Festival
DESCRIPTION:Otsukimi 2017 \nAnnual Moonviewing Festival at the Japanese Friendship Garden \nFind out more about this event here: http://www.japanesefriendshipgarden.org/otsukimi2017 \nThe Mission of the Japanese Friendship Garden Inc. is to maintain a beautiful\, serene Japanese garden in the heart of Phoenix and provide educational and artistic programs and events that continue to deepen our relationships and celebrate the rich history and culture of Japan.
URL:https://phoenixsistercities.org/event/4400/2022-04-03/
CATEGORIES:PSC Signature Events
ATTACH;FMTTYPE=image/jpeg:https://phoenixsistercities.org/wp-content/uploads/2017/08/Otsukimi-Flyer-2017.jpg
END:VEVENT
BEGIN:VEVENT
DTSTART;TZID=America/Phoenix:20220402T180000
DTEND;TZID=America/Phoenix:20220402T210000
DTSTAMP:20260420T164013
CREATED:20170926T234010Z
LAST-MODIFIED:20170926T234045Z
UID:10001817-1648922400-1648933200@phoenixsistercities.org
SUMMARY:Otsukimi - Annual Moonviewing Festival
DESCRIPTION:Otsukimi 2017 \nAnnual Moonviewing Festival at the Japanese Friendship Garden \nFind out more about this event here: http://www.japanesefriendshipgarden.org/otsukimi2017 \nThe Mission of the Japanese Friendship Garden Inc. is to maintain a beautiful\, serene Japanese garden in the heart of Phoenix and provide educational and artistic programs and events that continue to deepen our relationships and celebrate the rich history and culture of Japan.
URL:https://phoenixsistercities.org/event/4400/2022-04-02/
CATEGORIES:PSC Signature Events
ATTACH;FMTTYPE=image/jpeg:https://phoenixsistercities.org/wp-content/uploads/2017/08/Otsukimi-Flyer-2017.jpg
END:VEVENT
BEGIN:VEVENT
DTSTART;TZID=America/Phoenix:20220401T180000
DTEND;TZID=America/Phoenix:20220401T210000
DTSTAMP:20260420T164013
CREATED:20170926T234010Z
LAST-MODIFIED:20170926T234045Z
UID:10001816-1648836000-1648846800@phoenixsistercities.org
SUMMARY:Otsukimi - Annual Moonviewing Festival
DESCRIPTION:Otsukimi 2017 \nAnnual Moonviewing Festival at the Japanese Friendship Garden \nFind out more about this event here: http://www.japanesefriendshipgarden.org/otsukimi2017 \nThe Mission of the Japanese Friendship Garden Inc. is to maintain a beautiful\, serene Japanese garden in the heart of Phoenix and provide educational and artistic programs and events that continue to deepen our relationships and celebrate the rich history and culture of Japan.
URL:https://phoenixsistercities.org/event/4400/2022-04-01/
CATEGORIES:PSC Signature Events
ATTACH;FMTTYPE=image/jpeg:https://phoenixsistercities.org/wp-content/uploads/2017/08/Otsukimi-Flyer-2017.jpg
END:VEVENT
BEGIN:VEVENT
DTSTART;TZID=America/Phoenix:20220331T180000
DTEND;TZID=America/Phoenix:20220331T210000
DTSTAMP:20260420T164013
CREATED:20170926T234010Z
LAST-MODIFIED:20170926T234045Z
UID:10001815-1648749600-1648760400@phoenixsistercities.org
SUMMARY:Otsukimi - Annual Moonviewing Festival
DESCRIPTION:Otsukimi 2017 \nAnnual Moonviewing Festival at the Japanese Friendship Garden \nFind out more about this event here: http://www.japanesefriendshipgarden.org/otsukimi2017 \nThe Mission of the Japanese Friendship Garden Inc. is to maintain a beautiful\, serene Japanese garden in the heart of Phoenix and provide educational and artistic programs and events that continue to deepen our relationships and celebrate the rich history and culture of Japan.
URL:https://phoenixsistercities.org/event/4400/2022-03-31/
CATEGORIES:PSC Signature Events
ATTACH;FMTTYPE=image/jpeg:https://phoenixsistercities.org/wp-content/uploads/2017/08/Otsukimi-Flyer-2017.jpg
END:VEVENT
BEGIN:VEVENT
DTSTART;TZID=America/Phoenix:20220330T180000
DTEND;TZID=America/Phoenix:20220330T210000
DTSTAMP:20260420T164013
CREATED:20170926T234010Z
LAST-MODIFIED:20170926T234045Z
UID:10001814-1648663200-1648674000@phoenixsistercities.org
SUMMARY:Otsukimi - Annual Moonviewing Festival
DESCRIPTION:Otsukimi 2017 \nAnnual Moonviewing Festival at the Japanese Friendship Garden \nFind out more about this event here: http://www.japanesefriendshipgarden.org/otsukimi2017 \nThe Mission of the Japanese Friendship Garden Inc. is to maintain a beautiful\, serene Japanese garden in the heart of Phoenix and provide educational and artistic programs and events that continue to deepen our relationships and celebrate the rich history and culture of Japan.
URL:https://phoenixsistercities.org/event/4400/2022-03-30/
CATEGORIES:PSC Signature Events
ATTACH;FMTTYPE=image/jpeg:https://phoenixsistercities.org/wp-content/uploads/2017/08/Otsukimi-Flyer-2017.jpg
END:VEVENT
BEGIN:VEVENT
DTSTART;TZID=America/Phoenix:20220329T180000
DTEND;TZID=America/Phoenix:20220329T210000
DTSTAMP:20260420T164013
CREATED:20170926T234010Z
LAST-MODIFIED:20170926T234045Z
UID:10001813-1648576800-1648587600@phoenixsistercities.org
SUMMARY:Otsukimi - Annual Moonviewing Festival
DESCRIPTION:Otsukimi 2017 \nAnnual Moonviewing Festival at the Japanese Friendship Garden \nFind out more about this event here: http://www.japanesefriendshipgarden.org/otsukimi2017 \nThe Mission of the Japanese Friendship Garden Inc. is to maintain a beautiful\, serene Japanese garden in the heart of Phoenix and provide educational and artistic programs and events that continue to deepen our relationships and celebrate the rich history and culture of Japan.
URL:https://phoenixsistercities.org/event/4400/2022-03-29/
CATEGORIES:PSC Signature Events
ATTACH;FMTTYPE=image/jpeg:https://phoenixsistercities.org/wp-content/uploads/2017/08/Otsukimi-Flyer-2017.jpg
END:VEVENT
BEGIN:VEVENT
DTSTART;TZID=America/Phoenix:20220328T180000
DTEND;TZID=America/Phoenix:20220328T210000
DTSTAMP:20260420T164013
CREATED:20170926T234010Z
LAST-MODIFIED:20170926T234045Z
UID:10001812-1648490400-1648501200@phoenixsistercities.org
SUMMARY:Otsukimi - Annual Moonviewing Festival
DESCRIPTION:Otsukimi 2017 \nAnnual Moonviewing Festival at the Japanese Friendship Garden \nFind out more about this event here: http://www.japanesefriendshipgarden.org/otsukimi2017 \nThe Mission of the Japanese Friendship Garden Inc. is to maintain a beautiful\, serene Japanese garden in the heart of Phoenix and provide educational and artistic programs and events that continue to deepen our relationships and celebrate the rich history and culture of Japan.
URL:https://phoenixsistercities.org/event/4400/2022-03-28/
CATEGORIES:PSC Signature Events
ATTACH;FMTTYPE=image/jpeg:https://phoenixsistercities.org/wp-content/uploads/2017/08/Otsukimi-Flyer-2017.jpg
END:VEVENT
BEGIN:VEVENT
DTSTART;TZID=America/Phoenix:20220327T180000
DTEND;TZID=America/Phoenix:20220327T210000
DTSTAMP:20260420T164013
CREATED:20170926T234010Z
LAST-MODIFIED:20170926T234045Z
UID:10001811-1648404000-1648414800@phoenixsistercities.org
SUMMARY:Otsukimi - Annual Moonviewing Festival
DESCRIPTION:Otsukimi 2017 \nAnnual Moonviewing Festival at the Japanese Friendship Garden \nFind out more about this event here: http://www.japanesefriendshipgarden.org/otsukimi2017 \nThe Mission of the Japanese Friendship Garden Inc. is to maintain a beautiful\, serene Japanese garden in the heart of Phoenix and provide educational and artistic programs and events that continue to deepen our relationships and celebrate the rich history and culture of Japan.
URL:https://phoenixsistercities.org/event/4400/2022-03-27/
CATEGORIES:PSC Signature Events
ATTACH;FMTTYPE=image/jpeg:https://phoenixsistercities.org/wp-content/uploads/2017/08/Otsukimi-Flyer-2017.jpg
END:VEVENT
BEGIN:VEVENT
DTSTART;TZID=America/Phoenix:20220326T180000
DTEND;TZID=America/Phoenix:20220326T210000
DTSTAMP:20260420T164013
CREATED:20170926T234010Z
LAST-MODIFIED:20170926T234045Z
UID:10001810-1648317600-1648328400@phoenixsistercities.org
SUMMARY:Otsukimi - Annual Moonviewing Festival
DESCRIPTION:Otsukimi 2017 \nAnnual Moonviewing Festival at the Japanese Friendship Garden \nFind out more about this event here: http://www.japanesefriendshipgarden.org/otsukimi2017 \nThe Mission of the Japanese Friendship Garden Inc. is to maintain a beautiful\, serene Japanese garden in the heart of Phoenix and provide educational and artistic programs and events that continue to deepen our relationships and celebrate the rich history and culture of Japan.
URL:https://phoenixsistercities.org/event/4400/2022-03-26/
CATEGORIES:PSC Signature Events
ATTACH;FMTTYPE=image/jpeg:https://phoenixsistercities.org/wp-content/uploads/2017/08/Otsukimi-Flyer-2017.jpg
END:VEVENT
BEGIN:VEVENT
DTSTART;TZID=America/Phoenix:20220325T180000
DTEND;TZID=America/Phoenix:20220325T210000
DTSTAMP:20260420T164013
CREATED:20170926T234010Z
LAST-MODIFIED:20170926T234045Z
UID:10001809-1648231200-1648242000@phoenixsistercities.org
SUMMARY:Otsukimi - Annual Moonviewing Festival
DESCRIPTION:Otsukimi 2017 \nAnnual Moonviewing Festival at the Japanese Friendship Garden \nFind out more about this event here: http://www.japanesefriendshipgarden.org/otsukimi2017 \nThe Mission of the Japanese Friendship Garden Inc. is to maintain a beautiful\, serene Japanese garden in the heart of Phoenix and provide educational and artistic programs and events that continue to deepen our relationships and celebrate the rich history and culture of Japan.
URL:https://phoenixsistercities.org/event/4400/2022-03-25/
CATEGORIES:PSC Signature Events
ATTACH;FMTTYPE=image/jpeg:https://phoenixsistercities.org/wp-content/uploads/2017/08/Otsukimi-Flyer-2017.jpg
END:VEVENT
BEGIN:VEVENT
DTSTART;TZID=America/Phoenix:20220324T180000
DTEND;TZID=America/Phoenix:20220324T210000
DTSTAMP:20260420T164013
CREATED:20170926T234010Z
LAST-MODIFIED:20170926T234045Z
UID:10001808-1648144800-1648155600@phoenixsistercities.org
SUMMARY:Otsukimi - Annual Moonviewing Festival
DESCRIPTION:Otsukimi 2017 \nAnnual Moonviewing Festival at the Japanese Friendship Garden \nFind out more about this event here: http://www.japanesefriendshipgarden.org/otsukimi2017 \nThe Mission of the Japanese Friendship Garden Inc. is to maintain a beautiful\, serene Japanese garden in the heart of Phoenix and provide educational and artistic programs and events that continue to deepen our relationships and celebrate the rich history and culture of Japan.
URL:https://phoenixsistercities.org/event/4400/2022-03-24/
CATEGORIES:PSC Signature Events
ATTACH;FMTTYPE=image/jpeg:https://phoenixsistercities.org/wp-content/uploads/2017/08/Otsukimi-Flyer-2017.jpg
END:VEVENT
BEGIN:VEVENT
DTSTART;TZID=America/Phoenix:20220323T180000
DTEND;TZID=America/Phoenix:20220323T210000
DTSTAMP:20260420T164013
CREATED:20170926T234010Z
LAST-MODIFIED:20170926T234045Z
UID:10001807-1648058400-1648069200@phoenixsistercities.org
SUMMARY:Otsukimi - Annual Moonviewing Festival
DESCRIPTION:Otsukimi 2017 \nAnnual Moonviewing Festival at the Japanese Friendship Garden \nFind out more about this event here: http://www.japanesefriendshipgarden.org/otsukimi2017 \nThe Mission of the Japanese Friendship Garden Inc. is to maintain a beautiful\, serene Japanese garden in the heart of Phoenix and provide educational and artistic programs and events that continue to deepen our relationships and celebrate the rich history and culture of Japan.
URL:https://phoenixsistercities.org/event/4400/2022-03-23/
CATEGORIES:PSC Signature Events
ATTACH;FMTTYPE=image/jpeg:https://phoenixsistercities.org/wp-content/uploads/2017/08/Otsukimi-Flyer-2017.jpg
END:VEVENT
BEGIN:VEVENT
DTSTART;TZID=America/Phoenix:20220322T180000
DTEND;TZID=America/Phoenix:20220322T210000
DTSTAMP:20260420T164013
CREATED:20170926T234010Z
LAST-MODIFIED:20170926T234045Z
UID:10001806-1647972000-1647982800@phoenixsistercities.org
SUMMARY:Otsukimi - Annual Moonviewing Festival
DESCRIPTION:Otsukimi 2017 \nAnnual Moonviewing Festival at the Japanese Friendship Garden \nFind out more about this event here: http://www.japanesefriendshipgarden.org/otsukimi2017 \nThe Mission of the Japanese Friendship Garden Inc. is to maintain a beautiful\, serene Japanese garden in the heart of Phoenix and provide educational and artistic programs and events that continue to deepen our relationships and celebrate the rich history and culture of Japan.
URL:https://phoenixsistercities.org/event/4400/2022-03-22/
CATEGORIES:PSC Signature Events
ATTACH;FMTTYPE=image/jpeg:https://phoenixsistercities.org/wp-content/uploads/2017/08/Otsukimi-Flyer-2017.jpg
END:VEVENT
END:VCALENDAR