BEGIN:VCALENDAR
VERSION:2.0
PRODID:-//Phoenix Sister Cities - ECPv6.15.15//NONSGML v1.0//EN
CALSCALE:GREGORIAN
METHOD:PUBLISH
X-WR-CALNAME:Phoenix Sister Cities
X-ORIGINAL-URL:https://phoenixsistercities.org
X-WR-CALDESC:Events for Phoenix Sister Cities
REFRESH-INTERVAL;VALUE=DURATION:PT1H
X-Robots-Tag:noindex
X-PUBLISHED-TTL:PT1H
BEGIN:VTIMEZONE
TZID:America/Phoenix
BEGIN:STANDARD
TZOFFSETFROM:-0700
TZOFFSETTO:-0700
TZNAME:MST
DTSTART:20200101T000000
END:STANDARD
END:VTIMEZONE
BEGIN:VEVENT
DTSTART;TZID=America/Phoenix:20211119T180000
DTEND;TZID=America/Phoenix:20211119T210000
DTSTAMP:20260421T095240
CREATED:20170926T234010Z
LAST-MODIFIED:20170926T234045Z
UID:10001683-1637344800-1637355600@phoenixsistercities.org
SUMMARY:Otsukimi - Annual Moonviewing Festival
DESCRIPTION:Otsukimi 2017 \nAnnual Moonviewing Festival at the Japanese Friendship Garden \nFind out more about this event here: http://www.japanesefriendshipgarden.org/otsukimi2017 \nThe Mission of the Japanese Friendship Garden Inc. is to maintain a beautiful\, serene Japanese garden in the heart of Phoenix and provide educational and artistic programs and events that continue to deepen our relationships and celebrate the rich history and culture of Japan.
URL:https://phoenixsistercities.org/event/4400/2021-11-19/
CATEGORIES:PSC Signature Events
ATTACH;FMTTYPE=image/jpeg:https://phoenixsistercities.org/wp-content/uploads/2017/08/Otsukimi-Flyer-2017.jpg
END:VEVENT
BEGIN:VEVENT
DTSTART;TZID=America/Phoenix:20211118T180000
DTEND;TZID=America/Phoenix:20211118T210000
DTSTAMP:20260421T095240
CREATED:20170926T234010Z
LAST-MODIFIED:20170926T234045Z
UID:10001682-1637258400-1637269200@phoenixsistercities.org
SUMMARY:Otsukimi - Annual Moonviewing Festival
DESCRIPTION:Otsukimi 2017 \nAnnual Moonviewing Festival at the Japanese Friendship Garden \nFind out more about this event here: http://www.japanesefriendshipgarden.org/otsukimi2017 \nThe Mission of the Japanese Friendship Garden Inc. is to maintain a beautiful\, serene Japanese garden in the heart of Phoenix and provide educational and artistic programs and events that continue to deepen our relationships and celebrate the rich history and culture of Japan.
URL:https://phoenixsistercities.org/event/4400/2021-11-18/
CATEGORIES:PSC Signature Events
ATTACH;FMTTYPE=image/jpeg:https://phoenixsistercities.org/wp-content/uploads/2017/08/Otsukimi-Flyer-2017.jpg
END:VEVENT
BEGIN:VEVENT
DTSTART;TZID=America/Phoenix:20211117T180000
DTEND;TZID=America/Phoenix:20211117T210000
DTSTAMP:20260421T095240
CREATED:20170926T234010Z
LAST-MODIFIED:20170926T234045Z
UID:10001681-1637172000-1637182800@phoenixsistercities.org
SUMMARY:Otsukimi - Annual Moonviewing Festival
DESCRIPTION:Otsukimi 2017 \nAnnual Moonviewing Festival at the Japanese Friendship Garden \nFind out more about this event here: http://www.japanesefriendshipgarden.org/otsukimi2017 \nThe Mission of the Japanese Friendship Garden Inc. is to maintain a beautiful\, serene Japanese garden in the heart of Phoenix and provide educational and artistic programs and events that continue to deepen our relationships and celebrate the rich history and culture of Japan.
URL:https://phoenixsistercities.org/event/4400/2021-11-17/
CATEGORIES:PSC Signature Events
ATTACH;FMTTYPE=image/jpeg:https://phoenixsistercities.org/wp-content/uploads/2017/08/Otsukimi-Flyer-2017.jpg
END:VEVENT
BEGIN:VEVENT
DTSTART;TZID=America/Phoenix:20211116T180000
DTEND;TZID=America/Phoenix:20211116T210000
DTSTAMP:20260421T095240
CREATED:20170926T234010Z
LAST-MODIFIED:20170926T234045Z
UID:10001680-1637085600-1637096400@phoenixsistercities.org
SUMMARY:Otsukimi - Annual Moonviewing Festival
DESCRIPTION:Otsukimi 2017 \nAnnual Moonviewing Festival at the Japanese Friendship Garden \nFind out more about this event here: http://www.japanesefriendshipgarden.org/otsukimi2017 \nThe Mission of the Japanese Friendship Garden Inc. is to maintain a beautiful\, serene Japanese garden in the heart of Phoenix and provide educational and artistic programs and events that continue to deepen our relationships and celebrate the rich history and culture of Japan.
URL:https://phoenixsistercities.org/event/4400/2021-11-16/
CATEGORIES:PSC Signature Events
ATTACH;FMTTYPE=image/jpeg:https://phoenixsistercities.org/wp-content/uploads/2017/08/Otsukimi-Flyer-2017.jpg
END:VEVENT
BEGIN:VEVENT
DTSTART;TZID=America/Phoenix:20211115T180000
DTEND;TZID=America/Phoenix:20211115T210000
DTSTAMP:20260421T095240
CREATED:20170926T234010Z
LAST-MODIFIED:20170926T234045Z
UID:10001679-1636999200-1637010000@phoenixsistercities.org
SUMMARY:Otsukimi - Annual Moonviewing Festival
DESCRIPTION:Otsukimi 2017 \nAnnual Moonviewing Festival at the Japanese Friendship Garden \nFind out more about this event here: http://www.japanesefriendshipgarden.org/otsukimi2017 \nThe Mission of the Japanese Friendship Garden Inc. is to maintain a beautiful\, serene Japanese garden in the heart of Phoenix and provide educational and artistic programs and events that continue to deepen our relationships and celebrate the rich history and culture of Japan.
URL:https://phoenixsistercities.org/event/4400/2021-11-15/
CATEGORIES:PSC Signature Events
ATTACH;FMTTYPE=image/jpeg:https://phoenixsistercities.org/wp-content/uploads/2017/08/Otsukimi-Flyer-2017.jpg
END:VEVENT
BEGIN:VEVENT
DTSTART;TZID=America/Phoenix:20211114T180000
DTEND;TZID=America/Phoenix:20211114T210000
DTSTAMP:20260421T095240
CREATED:20170926T234010Z
LAST-MODIFIED:20170926T234045Z
UID:10001678-1636912800-1636923600@phoenixsistercities.org
SUMMARY:Otsukimi - Annual Moonviewing Festival
DESCRIPTION:Otsukimi 2017 \nAnnual Moonviewing Festival at the Japanese Friendship Garden \nFind out more about this event here: http://www.japanesefriendshipgarden.org/otsukimi2017 \nThe Mission of the Japanese Friendship Garden Inc. is to maintain a beautiful\, serene Japanese garden in the heart of Phoenix and provide educational and artistic programs and events that continue to deepen our relationships and celebrate the rich history and culture of Japan.
URL:https://phoenixsistercities.org/event/4400/2021-11-14/
CATEGORIES:PSC Signature Events
ATTACH;FMTTYPE=image/jpeg:https://phoenixsistercities.org/wp-content/uploads/2017/08/Otsukimi-Flyer-2017.jpg
END:VEVENT
BEGIN:VEVENT
DTSTART;TZID=America/Phoenix:20211113T180000
DTEND;TZID=America/Phoenix:20211113T210000
DTSTAMP:20260421T095240
CREATED:20170926T234010Z
LAST-MODIFIED:20170926T234045Z
UID:10001677-1636826400-1636837200@phoenixsistercities.org
SUMMARY:Otsukimi - Annual Moonviewing Festival
DESCRIPTION:Otsukimi 2017 \nAnnual Moonviewing Festival at the Japanese Friendship Garden \nFind out more about this event here: http://www.japanesefriendshipgarden.org/otsukimi2017 \nThe Mission of the Japanese Friendship Garden Inc. is to maintain a beautiful\, serene Japanese garden in the heart of Phoenix and provide educational and artistic programs and events that continue to deepen our relationships and celebrate the rich history and culture of Japan.
URL:https://phoenixsistercities.org/event/4400/2021-11-13/
CATEGORIES:PSC Signature Events
ATTACH;FMTTYPE=image/jpeg:https://phoenixsistercities.org/wp-content/uploads/2017/08/Otsukimi-Flyer-2017.jpg
END:VEVENT
BEGIN:VEVENT
DTSTART;TZID=America/Phoenix:20211112T180000
DTEND;TZID=America/Phoenix:20211112T210000
DTSTAMP:20260421T095240
CREATED:20170926T234010Z
LAST-MODIFIED:20170926T234045Z
UID:10001676-1636740000-1636750800@phoenixsistercities.org
SUMMARY:Otsukimi - Annual Moonviewing Festival
DESCRIPTION:Otsukimi 2017 \nAnnual Moonviewing Festival at the Japanese Friendship Garden \nFind out more about this event here: http://www.japanesefriendshipgarden.org/otsukimi2017 \nThe Mission of the Japanese Friendship Garden Inc. is to maintain a beautiful\, serene Japanese garden in the heart of Phoenix and provide educational and artistic programs and events that continue to deepen our relationships and celebrate the rich history and culture of Japan.
URL:https://phoenixsistercities.org/event/4400/2021-11-12/
CATEGORIES:PSC Signature Events
ATTACH;FMTTYPE=image/jpeg:https://phoenixsistercities.org/wp-content/uploads/2017/08/Otsukimi-Flyer-2017.jpg
END:VEVENT
BEGIN:VEVENT
DTSTART;TZID=America/Phoenix:20211111T180000
DTEND;TZID=America/Phoenix:20211111T210000
DTSTAMP:20260421T095240
CREATED:20170926T234010Z
LAST-MODIFIED:20170926T234045Z
UID:10001675-1636653600-1636664400@phoenixsistercities.org
SUMMARY:Otsukimi - Annual Moonviewing Festival
DESCRIPTION:Otsukimi 2017 \nAnnual Moonviewing Festival at the Japanese Friendship Garden \nFind out more about this event here: http://www.japanesefriendshipgarden.org/otsukimi2017 \nThe Mission of the Japanese Friendship Garden Inc. is to maintain a beautiful\, serene Japanese garden in the heart of Phoenix and provide educational and artistic programs and events that continue to deepen our relationships and celebrate the rich history and culture of Japan.
URL:https://phoenixsistercities.org/event/4400/2021-11-11/
CATEGORIES:PSC Signature Events
ATTACH;FMTTYPE=image/jpeg:https://phoenixsistercities.org/wp-content/uploads/2017/08/Otsukimi-Flyer-2017.jpg
END:VEVENT
BEGIN:VEVENT
DTSTART;TZID=America/Phoenix:20211110T180000
DTEND;TZID=America/Phoenix:20211110T210000
DTSTAMP:20260421T095240
CREATED:20170926T234010Z
LAST-MODIFIED:20170926T234045Z
UID:10001674-1636567200-1636578000@phoenixsistercities.org
SUMMARY:Otsukimi - Annual Moonviewing Festival
DESCRIPTION:Otsukimi 2017 \nAnnual Moonviewing Festival at the Japanese Friendship Garden \nFind out more about this event here: http://www.japanesefriendshipgarden.org/otsukimi2017 \nThe Mission of the Japanese Friendship Garden Inc. is to maintain a beautiful\, serene Japanese garden in the heart of Phoenix and provide educational and artistic programs and events that continue to deepen our relationships and celebrate the rich history and culture of Japan.
URL:https://phoenixsistercities.org/event/4400/2021-11-10/
CATEGORIES:PSC Signature Events
ATTACH;FMTTYPE=image/jpeg:https://phoenixsistercities.org/wp-content/uploads/2017/08/Otsukimi-Flyer-2017.jpg
END:VEVENT
BEGIN:VEVENT
DTSTART;TZID=America/Phoenix:20211109T180000
DTEND;TZID=America/Phoenix:20211109T210000
DTSTAMP:20260421T095241
CREATED:20170926T234010Z
LAST-MODIFIED:20170926T234045Z
UID:10001673-1636480800-1636491600@phoenixsistercities.org
SUMMARY:Otsukimi - Annual Moonviewing Festival
DESCRIPTION:Otsukimi 2017 \nAnnual Moonviewing Festival at the Japanese Friendship Garden \nFind out more about this event here: http://www.japanesefriendshipgarden.org/otsukimi2017 \nThe Mission of the Japanese Friendship Garden Inc. is to maintain a beautiful\, serene Japanese garden in the heart of Phoenix and provide educational and artistic programs and events that continue to deepen our relationships and celebrate the rich history and culture of Japan.
URL:https://phoenixsistercities.org/event/4400/2021-11-09/
CATEGORIES:PSC Signature Events
ATTACH;FMTTYPE=image/jpeg:https://phoenixsistercities.org/wp-content/uploads/2017/08/Otsukimi-Flyer-2017.jpg
END:VEVENT
BEGIN:VEVENT
DTSTART;TZID=America/Phoenix:20211108T180000
DTEND;TZID=America/Phoenix:20211108T210000
DTSTAMP:20260421T095241
CREATED:20170926T234010Z
LAST-MODIFIED:20170926T234045Z
UID:10001672-1636394400-1636405200@phoenixsistercities.org
SUMMARY:Otsukimi - Annual Moonviewing Festival
DESCRIPTION:Otsukimi 2017 \nAnnual Moonviewing Festival at the Japanese Friendship Garden \nFind out more about this event here: http://www.japanesefriendshipgarden.org/otsukimi2017 \nThe Mission of the Japanese Friendship Garden Inc. is to maintain a beautiful\, serene Japanese garden in the heart of Phoenix and provide educational and artistic programs and events that continue to deepen our relationships and celebrate the rich history and culture of Japan.
URL:https://phoenixsistercities.org/event/4400/2021-11-08/
CATEGORIES:PSC Signature Events
ATTACH;FMTTYPE=image/jpeg:https://phoenixsistercities.org/wp-content/uploads/2017/08/Otsukimi-Flyer-2017.jpg
END:VEVENT
BEGIN:VEVENT
DTSTART;TZID=America/Phoenix:20211107T180000
DTEND;TZID=America/Phoenix:20211107T210000
DTSTAMP:20260421T095241
CREATED:20170926T234010Z
LAST-MODIFIED:20170926T234045Z
UID:10001671-1636308000-1636318800@phoenixsistercities.org
SUMMARY:Otsukimi - Annual Moonviewing Festival
DESCRIPTION:Otsukimi 2017 \nAnnual Moonviewing Festival at the Japanese Friendship Garden \nFind out more about this event here: http://www.japanesefriendshipgarden.org/otsukimi2017 \nThe Mission of the Japanese Friendship Garden Inc. is to maintain a beautiful\, serene Japanese garden in the heart of Phoenix and provide educational and artistic programs and events that continue to deepen our relationships and celebrate the rich history and culture of Japan.
URL:https://phoenixsistercities.org/event/4400/2021-11-07/
CATEGORIES:PSC Signature Events
ATTACH;FMTTYPE=image/jpeg:https://phoenixsistercities.org/wp-content/uploads/2017/08/Otsukimi-Flyer-2017.jpg
END:VEVENT
BEGIN:VEVENT
DTSTART;TZID=America/Phoenix:20211106T180000
DTEND;TZID=America/Phoenix:20211106T210000
DTSTAMP:20260421T095241
CREATED:20170926T234010Z
LAST-MODIFIED:20170926T234045Z
UID:10001670-1636221600-1636232400@phoenixsistercities.org
SUMMARY:Otsukimi - Annual Moonviewing Festival
DESCRIPTION:Otsukimi 2017 \nAnnual Moonviewing Festival at the Japanese Friendship Garden \nFind out more about this event here: http://www.japanesefriendshipgarden.org/otsukimi2017 \nThe Mission of the Japanese Friendship Garden Inc. is to maintain a beautiful\, serene Japanese garden in the heart of Phoenix and provide educational and artistic programs and events that continue to deepen our relationships and celebrate the rich history and culture of Japan.
URL:https://phoenixsistercities.org/event/4400/2021-11-06/
CATEGORIES:PSC Signature Events
ATTACH;FMTTYPE=image/jpeg:https://phoenixsistercities.org/wp-content/uploads/2017/08/Otsukimi-Flyer-2017.jpg
END:VEVENT
BEGIN:VEVENT
DTSTART;TZID=America/Phoenix:20211105T180000
DTEND;TZID=America/Phoenix:20211105T210000
DTSTAMP:20260421T095241
CREATED:20170926T234010Z
LAST-MODIFIED:20170926T234045Z
UID:10001669-1636135200-1636146000@phoenixsistercities.org
SUMMARY:Otsukimi - Annual Moonviewing Festival
DESCRIPTION:Otsukimi 2017 \nAnnual Moonviewing Festival at the Japanese Friendship Garden \nFind out more about this event here: http://www.japanesefriendshipgarden.org/otsukimi2017 \nThe Mission of the Japanese Friendship Garden Inc. is to maintain a beautiful\, serene Japanese garden in the heart of Phoenix and provide educational and artistic programs and events that continue to deepen our relationships and celebrate the rich history and culture of Japan.
URL:https://phoenixsistercities.org/event/4400/2021-11-05/
CATEGORIES:PSC Signature Events
ATTACH;FMTTYPE=image/jpeg:https://phoenixsistercities.org/wp-content/uploads/2017/08/Otsukimi-Flyer-2017.jpg
END:VEVENT
BEGIN:VEVENT
DTSTART;TZID=America/Phoenix:20211104T180000
DTEND;TZID=America/Phoenix:20211104T210000
DTSTAMP:20260421T095241
CREATED:20170926T234010Z
LAST-MODIFIED:20170926T234045Z
UID:10001668-1636048800-1636059600@phoenixsistercities.org
SUMMARY:Otsukimi - Annual Moonviewing Festival
DESCRIPTION:Otsukimi 2017 \nAnnual Moonviewing Festival at the Japanese Friendship Garden \nFind out more about this event here: http://www.japanesefriendshipgarden.org/otsukimi2017 \nThe Mission of the Japanese Friendship Garden Inc. is to maintain a beautiful\, serene Japanese garden in the heart of Phoenix and provide educational and artistic programs and events that continue to deepen our relationships and celebrate the rich history and culture of Japan.
URL:https://phoenixsistercities.org/event/4400/2021-11-04/
CATEGORIES:PSC Signature Events
ATTACH;FMTTYPE=image/jpeg:https://phoenixsistercities.org/wp-content/uploads/2017/08/Otsukimi-Flyer-2017.jpg
END:VEVENT
BEGIN:VEVENT
DTSTART;TZID=America/Phoenix:20211103T180000
DTEND;TZID=America/Phoenix:20211103T210000
DTSTAMP:20260421T095241
CREATED:20170926T234010Z
LAST-MODIFIED:20170926T234045Z
UID:10001667-1635962400-1635973200@phoenixsistercities.org
SUMMARY:Otsukimi - Annual Moonviewing Festival
DESCRIPTION:Otsukimi 2017 \nAnnual Moonviewing Festival at the Japanese Friendship Garden \nFind out more about this event here: http://www.japanesefriendshipgarden.org/otsukimi2017 \nThe Mission of the Japanese Friendship Garden Inc. is to maintain a beautiful\, serene Japanese garden in the heart of Phoenix and provide educational and artistic programs and events that continue to deepen our relationships and celebrate the rich history and culture of Japan.
URL:https://phoenixsistercities.org/event/4400/2021-11-03/
CATEGORIES:PSC Signature Events
ATTACH;FMTTYPE=image/jpeg:https://phoenixsistercities.org/wp-content/uploads/2017/08/Otsukimi-Flyer-2017.jpg
END:VEVENT
BEGIN:VEVENT
DTSTART;TZID=America/Phoenix:20211102T180000
DTEND;TZID=America/Phoenix:20211102T210000
DTSTAMP:20260421T095241
CREATED:20170926T234010Z
LAST-MODIFIED:20170926T234045Z
UID:10001666-1635876000-1635886800@phoenixsistercities.org
SUMMARY:Otsukimi - Annual Moonviewing Festival
DESCRIPTION:Otsukimi 2017 \nAnnual Moonviewing Festival at the Japanese Friendship Garden \nFind out more about this event here: http://www.japanesefriendshipgarden.org/otsukimi2017 \nThe Mission of the Japanese Friendship Garden Inc. is to maintain a beautiful\, serene Japanese garden in the heart of Phoenix and provide educational and artistic programs and events that continue to deepen our relationships and celebrate the rich history and culture of Japan.
URL:https://phoenixsistercities.org/event/4400/2021-11-02/
CATEGORIES:PSC Signature Events
ATTACH;FMTTYPE=image/jpeg:https://phoenixsistercities.org/wp-content/uploads/2017/08/Otsukimi-Flyer-2017.jpg
END:VEVENT
BEGIN:VEVENT
DTSTART;TZID=America/Phoenix:20211101T180000
DTEND;TZID=America/Phoenix:20211101T210000
DTSTAMP:20260421T095241
CREATED:20170926T234010Z
LAST-MODIFIED:20170926T234045Z
UID:10001665-1635789600-1635800400@phoenixsistercities.org
SUMMARY:Otsukimi - Annual Moonviewing Festival
DESCRIPTION:Otsukimi 2017 \nAnnual Moonviewing Festival at the Japanese Friendship Garden \nFind out more about this event here: http://www.japanesefriendshipgarden.org/otsukimi2017 \nThe Mission of the Japanese Friendship Garden Inc. is to maintain a beautiful\, serene Japanese garden in the heart of Phoenix and provide educational and artistic programs and events that continue to deepen our relationships and celebrate the rich history and culture of Japan.
URL:https://phoenixsistercities.org/event/4400/2021-11-01/
CATEGORIES:PSC Signature Events
ATTACH;FMTTYPE=image/jpeg:https://phoenixsistercities.org/wp-content/uploads/2017/08/Otsukimi-Flyer-2017.jpg
END:VEVENT
BEGIN:VEVENT
DTSTART;TZID=America/Phoenix:20211031T180000
DTEND;TZID=America/Phoenix:20211031T210000
DTSTAMP:20260421T095241
CREATED:20170926T234010Z
LAST-MODIFIED:20170926T234045Z
UID:10001664-1635703200-1635714000@phoenixsistercities.org
SUMMARY:Otsukimi - Annual Moonviewing Festival
DESCRIPTION:Otsukimi 2017 \nAnnual Moonviewing Festival at the Japanese Friendship Garden \nFind out more about this event here: http://www.japanesefriendshipgarden.org/otsukimi2017 \nThe Mission of the Japanese Friendship Garden Inc. is to maintain a beautiful\, serene Japanese garden in the heart of Phoenix and provide educational and artistic programs and events that continue to deepen our relationships and celebrate the rich history and culture of Japan.
URL:https://phoenixsistercities.org/event/4400/2021-10-31/
CATEGORIES:PSC Signature Events
ATTACH;FMTTYPE=image/jpeg:https://phoenixsistercities.org/wp-content/uploads/2017/08/Otsukimi-Flyer-2017.jpg
END:VEVENT
BEGIN:VEVENT
DTSTART;TZID=America/Phoenix:20211030T180000
DTEND;TZID=America/Phoenix:20211030T210000
DTSTAMP:20260421T095241
CREATED:20170926T234010Z
LAST-MODIFIED:20170926T234045Z
UID:10001663-1635616800-1635627600@phoenixsistercities.org
SUMMARY:Otsukimi - Annual Moonviewing Festival
DESCRIPTION:Otsukimi 2017 \nAnnual Moonviewing Festival at the Japanese Friendship Garden \nFind out more about this event here: http://www.japanesefriendshipgarden.org/otsukimi2017 \nThe Mission of the Japanese Friendship Garden Inc. is to maintain a beautiful\, serene Japanese garden in the heart of Phoenix and provide educational and artistic programs and events that continue to deepen our relationships and celebrate the rich history and culture of Japan.
URL:https://phoenixsistercities.org/event/4400/2021-10-30/
CATEGORIES:PSC Signature Events
ATTACH;FMTTYPE=image/jpeg:https://phoenixsistercities.org/wp-content/uploads/2017/08/Otsukimi-Flyer-2017.jpg
END:VEVENT
BEGIN:VEVENT
DTSTART;TZID=America/Phoenix:20211029T180000
DTEND;TZID=America/Phoenix:20211029T210000
DTSTAMP:20260421T095241
CREATED:20170926T234010Z
LAST-MODIFIED:20170926T234045Z
UID:10001662-1635530400-1635541200@phoenixsistercities.org
SUMMARY:Otsukimi - Annual Moonviewing Festival
DESCRIPTION:Otsukimi 2017 \nAnnual Moonviewing Festival at the Japanese Friendship Garden \nFind out more about this event here: http://www.japanesefriendshipgarden.org/otsukimi2017 \nThe Mission of the Japanese Friendship Garden Inc. is to maintain a beautiful\, serene Japanese garden in the heart of Phoenix and provide educational and artistic programs and events that continue to deepen our relationships and celebrate the rich history and culture of Japan.
URL:https://phoenixsistercities.org/event/4400/2021-10-29/
CATEGORIES:PSC Signature Events
ATTACH;FMTTYPE=image/jpeg:https://phoenixsistercities.org/wp-content/uploads/2017/08/Otsukimi-Flyer-2017.jpg
END:VEVENT
BEGIN:VEVENT
DTSTART;TZID=America/Phoenix:20211028T180000
DTEND;TZID=America/Phoenix:20211028T210000
DTSTAMP:20260421T095241
CREATED:20170926T234010Z
LAST-MODIFIED:20170926T234045Z
UID:10001661-1635444000-1635454800@phoenixsistercities.org
SUMMARY:Otsukimi - Annual Moonviewing Festival
DESCRIPTION:Otsukimi 2017 \nAnnual Moonviewing Festival at the Japanese Friendship Garden \nFind out more about this event here: http://www.japanesefriendshipgarden.org/otsukimi2017 \nThe Mission of the Japanese Friendship Garden Inc. is to maintain a beautiful\, serene Japanese garden in the heart of Phoenix and provide educational and artistic programs and events that continue to deepen our relationships and celebrate the rich history and culture of Japan.
URL:https://phoenixsistercities.org/event/4400/2021-10-28/
CATEGORIES:PSC Signature Events
ATTACH;FMTTYPE=image/jpeg:https://phoenixsistercities.org/wp-content/uploads/2017/08/Otsukimi-Flyer-2017.jpg
END:VEVENT
BEGIN:VEVENT
DTSTART;TZID=America/Phoenix:20211027T180000
DTEND;TZID=America/Phoenix:20211027T210000
DTSTAMP:20260421T095241
CREATED:20170926T234010Z
LAST-MODIFIED:20170926T234045Z
UID:10001660-1635357600-1635368400@phoenixsistercities.org
SUMMARY:Otsukimi - Annual Moonviewing Festival
DESCRIPTION:Otsukimi 2017 \nAnnual Moonviewing Festival at the Japanese Friendship Garden \nFind out more about this event here: http://www.japanesefriendshipgarden.org/otsukimi2017 \nThe Mission of the Japanese Friendship Garden Inc. is to maintain a beautiful\, serene Japanese garden in the heart of Phoenix and provide educational and artistic programs and events that continue to deepen our relationships and celebrate the rich history and culture of Japan.
URL:https://phoenixsistercities.org/event/4400/2021-10-27/
CATEGORIES:PSC Signature Events
ATTACH;FMTTYPE=image/jpeg:https://phoenixsistercities.org/wp-content/uploads/2017/08/Otsukimi-Flyer-2017.jpg
END:VEVENT
BEGIN:VEVENT
DTSTART;TZID=America/Phoenix:20211026T180000
DTEND;TZID=America/Phoenix:20211026T210000
DTSTAMP:20260421T095241
CREATED:20170926T234010Z
LAST-MODIFIED:20170926T234045Z
UID:10001659-1635271200-1635282000@phoenixsistercities.org
SUMMARY:Otsukimi - Annual Moonviewing Festival
DESCRIPTION:Otsukimi 2017 \nAnnual Moonviewing Festival at the Japanese Friendship Garden \nFind out more about this event here: http://www.japanesefriendshipgarden.org/otsukimi2017 \nThe Mission of the Japanese Friendship Garden Inc. is to maintain a beautiful\, serene Japanese garden in the heart of Phoenix and provide educational and artistic programs and events that continue to deepen our relationships and celebrate the rich history and culture of Japan.
URL:https://phoenixsistercities.org/event/4400/2021-10-26/
CATEGORIES:PSC Signature Events
ATTACH;FMTTYPE=image/jpeg:https://phoenixsistercities.org/wp-content/uploads/2017/08/Otsukimi-Flyer-2017.jpg
END:VEVENT
BEGIN:VEVENT
DTSTART;TZID=America/Phoenix:20211025T180000
DTEND;TZID=America/Phoenix:20211025T210000
DTSTAMP:20260421T095241
CREATED:20170926T234010Z
LAST-MODIFIED:20170926T234045Z
UID:10001658-1635184800-1635195600@phoenixsistercities.org
SUMMARY:Otsukimi - Annual Moonviewing Festival
DESCRIPTION:Otsukimi 2017 \nAnnual Moonviewing Festival at the Japanese Friendship Garden \nFind out more about this event here: http://www.japanesefriendshipgarden.org/otsukimi2017 \nThe Mission of the Japanese Friendship Garden Inc. is to maintain a beautiful\, serene Japanese garden in the heart of Phoenix and provide educational and artistic programs and events that continue to deepen our relationships and celebrate the rich history and culture of Japan.
URL:https://phoenixsistercities.org/event/4400/2021-10-25/
CATEGORIES:PSC Signature Events
ATTACH;FMTTYPE=image/jpeg:https://phoenixsistercities.org/wp-content/uploads/2017/08/Otsukimi-Flyer-2017.jpg
END:VEVENT
BEGIN:VEVENT
DTSTART;TZID=America/Phoenix:20211024T180000
DTEND;TZID=America/Phoenix:20211024T210000
DTSTAMP:20260421T095241
CREATED:20170926T234010Z
LAST-MODIFIED:20170926T234045Z
UID:10001657-1635098400-1635109200@phoenixsistercities.org
SUMMARY:Otsukimi - Annual Moonviewing Festival
DESCRIPTION:Otsukimi 2017 \nAnnual Moonviewing Festival at the Japanese Friendship Garden \nFind out more about this event here: http://www.japanesefriendshipgarden.org/otsukimi2017 \nThe Mission of the Japanese Friendship Garden Inc. is to maintain a beautiful\, serene Japanese garden in the heart of Phoenix and provide educational and artistic programs and events that continue to deepen our relationships and celebrate the rich history and culture of Japan.
URL:https://phoenixsistercities.org/event/4400/2021-10-24/
CATEGORIES:PSC Signature Events
ATTACH;FMTTYPE=image/jpeg:https://phoenixsistercities.org/wp-content/uploads/2017/08/Otsukimi-Flyer-2017.jpg
END:VEVENT
BEGIN:VEVENT
DTSTART;TZID=America/Phoenix:20211023T180000
DTEND;TZID=America/Phoenix:20211023T210000
DTSTAMP:20260421T095241
CREATED:20170926T234010Z
LAST-MODIFIED:20170926T234045Z
UID:10001656-1635012000-1635022800@phoenixsistercities.org
SUMMARY:Otsukimi - Annual Moonviewing Festival
DESCRIPTION:Otsukimi 2017 \nAnnual Moonviewing Festival at the Japanese Friendship Garden \nFind out more about this event here: http://www.japanesefriendshipgarden.org/otsukimi2017 \nThe Mission of the Japanese Friendship Garden Inc. is to maintain a beautiful\, serene Japanese garden in the heart of Phoenix and provide educational and artistic programs and events that continue to deepen our relationships and celebrate the rich history and culture of Japan.
URL:https://phoenixsistercities.org/event/4400/2021-10-23/
CATEGORIES:PSC Signature Events
ATTACH;FMTTYPE=image/jpeg:https://phoenixsistercities.org/wp-content/uploads/2017/08/Otsukimi-Flyer-2017.jpg
END:VEVENT
BEGIN:VEVENT
DTSTART;TZID=America/Phoenix:20211022T180000
DTEND;TZID=America/Phoenix:20211022T210000
DTSTAMP:20260421T095241
CREATED:20170926T234010Z
LAST-MODIFIED:20170926T234045Z
UID:10001655-1634925600-1634936400@phoenixsistercities.org
SUMMARY:Otsukimi - Annual Moonviewing Festival
DESCRIPTION:Otsukimi 2017 \nAnnual Moonviewing Festival at the Japanese Friendship Garden \nFind out more about this event here: http://www.japanesefriendshipgarden.org/otsukimi2017 \nThe Mission of the Japanese Friendship Garden Inc. is to maintain a beautiful\, serene Japanese garden in the heart of Phoenix and provide educational and artistic programs and events that continue to deepen our relationships and celebrate the rich history and culture of Japan.
URL:https://phoenixsistercities.org/event/4400/2021-10-22/
CATEGORIES:PSC Signature Events
ATTACH;FMTTYPE=image/jpeg:https://phoenixsistercities.org/wp-content/uploads/2017/08/Otsukimi-Flyer-2017.jpg
END:VEVENT
BEGIN:VEVENT
DTSTART;TZID=America/Phoenix:20211021T180000
DTEND;TZID=America/Phoenix:20211021T210000
DTSTAMP:20260421T095241
CREATED:20170926T234010Z
LAST-MODIFIED:20170926T234045Z
UID:10001654-1634839200-1634850000@phoenixsistercities.org
SUMMARY:Otsukimi - Annual Moonviewing Festival
DESCRIPTION:Otsukimi 2017 \nAnnual Moonviewing Festival at the Japanese Friendship Garden \nFind out more about this event here: http://www.japanesefriendshipgarden.org/otsukimi2017 \nThe Mission of the Japanese Friendship Garden Inc. is to maintain a beautiful\, serene Japanese garden in the heart of Phoenix and provide educational and artistic programs and events that continue to deepen our relationships and celebrate the rich history and culture of Japan.
URL:https://phoenixsistercities.org/event/4400/2021-10-21/
CATEGORIES:PSC Signature Events
ATTACH;FMTTYPE=image/jpeg:https://phoenixsistercities.org/wp-content/uploads/2017/08/Otsukimi-Flyer-2017.jpg
END:VEVENT
END:VCALENDAR