BEGIN:VCALENDAR
VERSION:2.0
PRODID:-//Phoenix Sister Cities - ECPv6.15.15//NONSGML v1.0//EN
CALSCALE:GREGORIAN
METHOD:PUBLISH
X-WR-CALNAME:Phoenix Sister Cities
X-ORIGINAL-URL:https://phoenixsistercities.org
X-WR-CALDESC:Events for Phoenix Sister Cities
REFRESH-INTERVAL;VALUE=DURATION:PT1H
X-Robots-Tag:noindex
X-PUBLISHED-TTL:PT1H
BEGIN:VTIMEZONE
TZID:America/Phoenix
BEGIN:STANDARD
TZOFFSETFROM:-0700
TZOFFSETTO:-0700
TZNAME:MST
DTSTART:20200101T000000
END:STANDARD
END:VTIMEZONE
BEGIN:VEVENT
DTSTART;TZID=America/Phoenix:20211014T180000
DTEND;TZID=America/Phoenix:20211014T210000
DTSTAMP:20260421T141215
CREATED:20170926T234010Z
LAST-MODIFIED:20170926T234045Z
UID:10001647-1634234400-1634245200@phoenixsistercities.org
SUMMARY:Otsukimi - Annual Moonviewing Festival
DESCRIPTION:Otsukimi 2017 \nAnnual Moonviewing Festival at the Japanese Friendship Garden \nFind out more about this event here: http://www.japanesefriendshipgarden.org/otsukimi2017 \nThe Mission of the Japanese Friendship Garden Inc. is to maintain a beautiful\, serene Japanese garden in the heart of Phoenix and provide educational and artistic programs and events that continue to deepen our relationships and celebrate the rich history and culture of Japan.
URL:https://phoenixsistercities.org/event/4400/2021-10-14/
CATEGORIES:PSC Signature Events
ATTACH;FMTTYPE=image/jpeg:https://phoenixsistercities.org/wp-content/uploads/2017/08/Otsukimi-Flyer-2017.jpg
END:VEVENT
BEGIN:VEVENT
DTSTART;TZID=America/Phoenix:20211013T180000
DTEND;TZID=America/Phoenix:20211013T210000
DTSTAMP:20260421T141215
CREATED:20170926T234010Z
LAST-MODIFIED:20170926T234045Z
UID:10001646-1634148000-1634158800@phoenixsistercities.org
SUMMARY:Otsukimi - Annual Moonviewing Festival
DESCRIPTION:Otsukimi 2017 \nAnnual Moonviewing Festival at the Japanese Friendship Garden \nFind out more about this event here: http://www.japanesefriendshipgarden.org/otsukimi2017 \nThe Mission of the Japanese Friendship Garden Inc. is to maintain a beautiful\, serene Japanese garden in the heart of Phoenix and provide educational and artistic programs and events that continue to deepen our relationships and celebrate the rich history and culture of Japan.
URL:https://phoenixsistercities.org/event/4400/2021-10-13/
CATEGORIES:PSC Signature Events
ATTACH;FMTTYPE=image/jpeg:https://phoenixsistercities.org/wp-content/uploads/2017/08/Otsukimi-Flyer-2017.jpg
END:VEVENT
BEGIN:VEVENT
DTSTART;TZID=America/Phoenix:20211012T180000
DTEND;TZID=America/Phoenix:20211012T210000
DTSTAMP:20260421T141215
CREATED:20170926T234010Z
LAST-MODIFIED:20170926T234045Z
UID:10001645-1634061600-1634072400@phoenixsistercities.org
SUMMARY:Otsukimi - Annual Moonviewing Festival
DESCRIPTION:Otsukimi 2017 \nAnnual Moonviewing Festival at the Japanese Friendship Garden \nFind out more about this event here: http://www.japanesefriendshipgarden.org/otsukimi2017 \nThe Mission of the Japanese Friendship Garden Inc. is to maintain a beautiful\, serene Japanese garden in the heart of Phoenix and provide educational and artistic programs and events that continue to deepen our relationships and celebrate the rich history and culture of Japan.
URL:https://phoenixsistercities.org/event/4400/2021-10-12/
CATEGORIES:PSC Signature Events
ATTACH;FMTTYPE=image/jpeg:https://phoenixsistercities.org/wp-content/uploads/2017/08/Otsukimi-Flyer-2017.jpg
END:VEVENT
BEGIN:VEVENT
DTSTART;TZID=America/Phoenix:20211011T180000
DTEND;TZID=America/Phoenix:20211011T210000
DTSTAMP:20260421T141215
CREATED:20170926T234010Z
LAST-MODIFIED:20170926T234045Z
UID:10001644-1633975200-1633986000@phoenixsistercities.org
SUMMARY:Otsukimi - Annual Moonviewing Festival
DESCRIPTION:Otsukimi 2017 \nAnnual Moonviewing Festival at the Japanese Friendship Garden \nFind out more about this event here: http://www.japanesefriendshipgarden.org/otsukimi2017 \nThe Mission of the Japanese Friendship Garden Inc. is to maintain a beautiful\, serene Japanese garden in the heart of Phoenix and provide educational and artistic programs and events that continue to deepen our relationships and celebrate the rich history and culture of Japan.
URL:https://phoenixsistercities.org/event/4400/2021-10-11/
CATEGORIES:PSC Signature Events
ATTACH;FMTTYPE=image/jpeg:https://phoenixsistercities.org/wp-content/uploads/2017/08/Otsukimi-Flyer-2017.jpg
END:VEVENT
BEGIN:VEVENT
DTSTART;TZID=America/Phoenix:20211010T180000
DTEND;TZID=America/Phoenix:20211010T210000
DTSTAMP:20260421T141215
CREATED:20170926T234010Z
LAST-MODIFIED:20170926T234045Z
UID:10001643-1633888800-1633899600@phoenixsistercities.org
SUMMARY:Otsukimi - Annual Moonviewing Festival
DESCRIPTION:Otsukimi 2017 \nAnnual Moonviewing Festival at the Japanese Friendship Garden \nFind out more about this event here: http://www.japanesefriendshipgarden.org/otsukimi2017 \nThe Mission of the Japanese Friendship Garden Inc. is to maintain a beautiful\, serene Japanese garden in the heart of Phoenix and provide educational and artistic programs and events that continue to deepen our relationships and celebrate the rich history and culture of Japan.
URL:https://phoenixsistercities.org/event/4400/2021-10-10/
CATEGORIES:PSC Signature Events
ATTACH;FMTTYPE=image/jpeg:https://phoenixsistercities.org/wp-content/uploads/2017/08/Otsukimi-Flyer-2017.jpg
END:VEVENT
BEGIN:VEVENT
DTSTART;TZID=America/Phoenix:20211009T180000
DTEND;TZID=America/Phoenix:20211009T210000
DTSTAMP:20260421T141215
CREATED:20170926T234010Z
LAST-MODIFIED:20170926T234045Z
UID:10001642-1633802400-1633813200@phoenixsistercities.org
SUMMARY:Otsukimi - Annual Moonviewing Festival
DESCRIPTION:Otsukimi 2017 \nAnnual Moonviewing Festival at the Japanese Friendship Garden \nFind out more about this event here: http://www.japanesefriendshipgarden.org/otsukimi2017 \nThe Mission of the Japanese Friendship Garden Inc. is to maintain a beautiful\, serene Japanese garden in the heart of Phoenix and provide educational and artistic programs and events that continue to deepen our relationships and celebrate the rich history and culture of Japan.
URL:https://phoenixsistercities.org/event/4400/2021-10-09/
CATEGORIES:PSC Signature Events
ATTACH;FMTTYPE=image/jpeg:https://phoenixsistercities.org/wp-content/uploads/2017/08/Otsukimi-Flyer-2017.jpg
END:VEVENT
BEGIN:VEVENT
DTSTART;TZID=America/Phoenix:20211008T180000
DTEND;TZID=America/Phoenix:20211008T210000
DTSTAMP:20260421T141215
CREATED:20170926T234010Z
LAST-MODIFIED:20170926T234045Z
UID:10001641-1633716000-1633726800@phoenixsistercities.org
SUMMARY:Otsukimi - Annual Moonviewing Festival
DESCRIPTION:Otsukimi 2017 \nAnnual Moonviewing Festival at the Japanese Friendship Garden \nFind out more about this event here: http://www.japanesefriendshipgarden.org/otsukimi2017 \nThe Mission of the Japanese Friendship Garden Inc. is to maintain a beautiful\, serene Japanese garden in the heart of Phoenix and provide educational and artistic programs and events that continue to deepen our relationships and celebrate the rich history and culture of Japan.
URL:https://phoenixsistercities.org/event/4400/2021-10-08/
CATEGORIES:PSC Signature Events
ATTACH;FMTTYPE=image/jpeg:https://phoenixsistercities.org/wp-content/uploads/2017/08/Otsukimi-Flyer-2017.jpg
END:VEVENT
BEGIN:VEVENT
DTSTART;TZID=America/Phoenix:20211007T180000
DTEND;TZID=America/Phoenix:20211007T210000
DTSTAMP:20260421T141215
CREATED:20170926T234010Z
LAST-MODIFIED:20170926T234045Z
UID:10001640-1633629600-1633640400@phoenixsistercities.org
SUMMARY:Otsukimi - Annual Moonviewing Festival
DESCRIPTION:Otsukimi 2017 \nAnnual Moonviewing Festival at the Japanese Friendship Garden \nFind out more about this event here: http://www.japanesefriendshipgarden.org/otsukimi2017 \nThe Mission of the Japanese Friendship Garden Inc. is to maintain a beautiful\, serene Japanese garden in the heart of Phoenix and provide educational and artistic programs and events that continue to deepen our relationships and celebrate the rich history and culture of Japan.
URL:https://phoenixsistercities.org/event/4400/2021-10-07/
CATEGORIES:PSC Signature Events
ATTACH;FMTTYPE=image/jpeg:https://phoenixsistercities.org/wp-content/uploads/2017/08/Otsukimi-Flyer-2017.jpg
END:VEVENT
BEGIN:VEVENT
DTSTART;TZID=America/Phoenix:20211006T180000
DTEND;TZID=America/Phoenix:20211006T210000
DTSTAMP:20260421T141215
CREATED:20170926T234010Z
LAST-MODIFIED:20170926T234045Z
UID:10001639-1633543200-1633554000@phoenixsistercities.org
SUMMARY:Otsukimi - Annual Moonviewing Festival
DESCRIPTION:Otsukimi 2017 \nAnnual Moonviewing Festival at the Japanese Friendship Garden \nFind out more about this event here: http://www.japanesefriendshipgarden.org/otsukimi2017 \nThe Mission of the Japanese Friendship Garden Inc. is to maintain a beautiful\, serene Japanese garden in the heart of Phoenix and provide educational and artistic programs and events that continue to deepen our relationships and celebrate the rich history and culture of Japan.
URL:https://phoenixsistercities.org/event/4400/2021-10-06/
CATEGORIES:PSC Signature Events
ATTACH;FMTTYPE=image/jpeg:https://phoenixsistercities.org/wp-content/uploads/2017/08/Otsukimi-Flyer-2017.jpg
END:VEVENT
BEGIN:VEVENT
DTSTART;TZID=America/Phoenix:20211005T180000
DTEND;TZID=America/Phoenix:20211005T210000
DTSTAMP:20260421T141215
CREATED:20170926T234010Z
LAST-MODIFIED:20170926T234045Z
UID:10001638-1633456800-1633467600@phoenixsistercities.org
SUMMARY:Otsukimi - Annual Moonviewing Festival
DESCRIPTION:Otsukimi 2017 \nAnnual Moonviewing Festival at the Japanese Friendship Garden \nFind out more about this event here: http://www.japanesefriendshipgarden.org/otsukimi2017 \nThe Mission of the Japanese Friendship Garden Inc. is to maintain a beautiful\, serene Japanese garden in the heart of Phoenix and provide educational and artistic programs and events that continue to deepen our relationships and celebrate the rich history and culture of Japan.
URL:https://phoenixsistercities.org/event/4400/2021-10-05/
CATEGORIES:PSC Signature Events
ATTACH;FMTTYPE=image/jpeg:https://phoenixsistercities.org/wp-content/uploads/2017/08/Otsukimi-Flyer-2017.jpg
END:VEVENT
BEGIN:VEVENT
DTSTART;TZID=America/Phoenix:20211004T180000
DTEND;TZID=America/Phoenix:20211004T210000
DTSTAMP:20260421T141215
CREATED:20170926T234010Z
LAST-MODIFIED:20170926T234045Z
UID:10001637-1633370400-1633381200@phoenixsistercities.org
SUMMARY:Otsukimi - Annual Moonviewing Festival
DESCRIPTION:Otsukimi 2017 \nAnnual Moonviewing Festival at the Japanese Friendship Garden \nFind out more about this event here: http://www.japanesefriendshipgarden.org/otsukimi2017 \nThe Mission of the Japanese Friendship Garden Inc. is to maintain a beautiful\, serene Japanese garden in the heart of Phoenix and provide educational and artistic programs and events that continue to deepen our relationships and celebrate the rich history and culture of Japan.
URL:https://phoenixsistercities.org/event/4400/2021-10-04/
CATEGORIES:PSC Signature Events
ATTACH;FMTTYPE=image/jpeg:https://phoenixsistercities.org/wp-content/uploads/2017/08/Otsukimi-Flyer-2017.jpg
END:VEVENT
BEGIN:VEVENT
DTSTART;TZID=America/Phoenix:20211003T180000
DTEND;TZID=America/Phoenix:20211003T210000
DTSTAMP:20260421T141215
CREATED:20170926T234010Z
LAST-MODIFIED:20170926T234045Z
UID:10001636-1633284000-1633294800@phoenixsistercities.org
SUMMARY:Otsukimi - Annual Moonviewing Festival
DESCRIPTION:Otsukimi 2017 \nAnnual Moonviewing Festival at the Japanese Friendship Garden \nFind out more about this event here: http://www.japanesefriendshipgarden.org/otsukimi2017 \nThe Mission of the Japanese Friendship Garden Inc. is to maintain a beautiful\, serene Japanese garden in the heart of Phoenix and provide educational and artistic programs and events that continue to deepen our relationships and celebrate the rich history and culture of Japan.
URL:https://phoenixsistercities.org/event/4400/2021-10-03/
CATEGORIES:PSC Signature Events
ATTACH;FMTTYPE=image/jpeg:https://phoenixsistercities.org/wp-content/uploads/2017/08/Otsukimi-Flyer-2017.jpg
END:VEVENT
BEGIN:VEVENT
DTSTART;TZID=America/Phoenix:20211002T180000
DTEND;TZID=America/Phoenix:20211002T210000
DTSTAMP:20260421T141215
CREATED:20170926T234010Z
LAST-MODIFIED:20170926T234045Z
UID:10001635-1633197600-1633208400@phoenixsistercities.org
SUMMARY:Otsukimi - Annual Moonviewing Festival
DESCRIPTION:Otsukimi 2017 \nAnnual Moonviewing Festival at the Japanese Friendship Garden \nFind out more about this event here: http://www.japanesefriendshipgarden.org/otsukimi2017 \nThe Mission of the Japanese Friendship Garden Inc. is to maintain a beautiful\, serene Japanese garden in the heart of Phoenix and provide educational and artistic programs and events that continue to deepen our relationships and celebrate the rich history and culture of Japan.
URL:https://phoenixsistercities.org/event/4400/2021-10-02/
CATEGORIES:PSC Signature Events
ATTACH;FMTTYPE=image/jpeg:https://phoenixsistercities.org/wp-content/uploads/2017/08/Otsukimi-Flyer-2017.jpg
END:VEVENT
BEGIN:VEVENT
DTSTART;TZID=America/Phoenix:20211001T180000
DTEND;TZID=America/Phoenix:20211001T210000
DTSTAMP:20260421T141215
CREATED:20170926T234010Z
LAST-MODIFIED:20170926T234045Z
UID:10001634-1633111200-1633122000@phoenixsistercities.org
SUMMARY:Otsukimi - Annual Moonviewing Festival
DESCRIPTION:Otsukimi 2017 \nAnnual Moonviewing Festival at the Japanese Friendship Garden \nFind out more about this event here: http://www.japanesefriendshipgarden.org/otsukimi2017 \nThe Mission of the Japanese Friendship Garden Inc. is to maintain a beautiful\, serene Japanese garden in the heart of Phoenix and provide educational and artistic programs and events that continue to deepen our relationships and celebrate the rich history and culture of Japan.
URL:https://phoenixsistercities.org/event/4400/2021-10-01/
CATEGORIES:PSC Signature Events
ATTACH;FMTTYPE=image/jpeg:https://phoenixsistercities.org/wp-content/uploads/2017/08/Otsukimi-Flyer-2017.jpg
END:VEVENT
BEGIN:VEVENT
DTSTART;TZID=America/Phoenix:20210930T180000
DTEND;TZID=America/Phoenix:20210930T210000
DTSTAMP:20260421T141215
CREATED:20170926T234010Z
LAST-MODIFIED:20170926T234045Z
UID:10001633-1633024800-1633035600@phoenixsistercities.org
SUMMARY:Otsukimi - Annual Moonviewing Festival
DESCRIPTION:Otsukimi 2017 \nAnnual Moonviewing Festival at the Japanese Friendship Garden \nFind out more about this event here: http://www.japanesefriendshipgarden.org/otsukimi2017 \nThe Mission of the Japanese Friendship Garden Inc. is to maintain a beautiful\, serene Japanese garden in the heart of Phoenix and provide educational and artistic programs and events that continue to deepen our relationships and celebrate the rich history and culture of Japan.
URL:https://phoenixsistercities.org/event/4400/2021-09-30/
CATEGORIES:PSC Signature Events
ATTACH;FMTTYPE=image/jpeg:https://phoenixsistercities.org/wp-content/uploads/2017/08/Otsukimi-Flyer-2017.jpg
END:VEVENT
BEGIN:VEVENT
DTSTART;TZID=America/Phoenix:20210929T180000
DTEND;TZID=America/Phoenix:20210929T210000
DTSTAMP:20260421T141215
CREATED:20170926T234010Z
LAST-MODIFIED:20170926T234045Z
UID:10001632-1632938400-1632949200@phoenixsistercities.org
SUMMARY:Otsukimi - Annual Moonviewing Festival
DESCRIPTION:Otsukimi 2017 \nAnnual Moonviewing Festival at the Japanese Friendship Garden \nFind out more about this event here: http://www.japanesefriendshipgarden.org/otsukimi2017 \nThe Mission of the Japanese Friendship Garden Inc. is to maintain a beautiful\, serene Japanese garden in the heart of Phoenix and provide educational and artistic programs and events that continue to deepen our relationships and celebrate the rich history and culture of Japan.
URL:https://phoenixsistercities.org/event/4400/2021-09-29/
CATEGORIES:PSC Signature Events
ATTACH;FMTTYPE=image/jpeg:https://phoenixsistercities.org/wp-content/uploads/2017/08/Otsukimi-Flyer-2017.jpg
END:VEVENT
BEGIN:VEVENT
DTSTART;TZID=America/Phoenix:20210928T180000
DTEND;TZID=America/Phoenix:20210928T210000
DTSTAMP:20260421T141215
CREATED:20170926T234010Z
LAST-MODIFIED:20170926T234045Z
UID:10001631-1632852000-1632862800@phoenixsistercities.org
SUMMARY:Otsukimi - Annual Moonviewing Festival
DESCRIPTION:Otsukimi 2017 \nAnnual Moonviewing Festival at the Japanese Friendship Garden \nFind out more about this event here: http://www.japanesefriendshipgarden.org/otsukimi2017 \nThe Mission of the Japanese Friendship Garden Inc. is to maintain a beautiful\, serene Japanese garden in the heart of Phoenix and provide educational and artistic programs and events that continue to deepen our relationships and celebrate the rich history and culture of Japan.
URL:https://phoenixsistercities.org/event/4400/2021-09-28/
CATEGORIES:PSC Signature Events
ATTACH;FMTTYPE=image/jpeg:https://phoenixsistercities.org/wp-content/uploads/2017/08/Otsukimi-Flyer-2017.jpg
END:VEVENT
BEGIN:VEVENT
DTSTART;TZID=America/Phoenix:20210927T180000
DTEND;TZID=America/Phoenix:20210927T210000
DTSTAMP:20260421T141215
CREATED:20170926T234010Z
LAST-MODIFIED:20170926T234045Z
UID:10001630-1632765600-1632776400@phoenixsistercities.org
SUMMARY:Otsukimi - Annual Moonviewing Festival
DESCRIPTION:Otsukimi 2017 \nAnnual Moonviewing Festival at the Japanese Friendship Garden \nFind out more about this event here: http://www.japanesefriendshipgarden.org/otsukimi2017 \nThe Mission of the Japanese Friendship Garden Inc. is to maintain a beautiful\, serene Japanese garden in the heart of Phoenix and provide educational and artistic programs and events that continue to deepen our relationships and celebrate the rich history and culture of Japan.
URL:https://phoenixsistercities.org/event/4400/2021-09-27/
CATEGORIES:PSC Signature Events
ATTACH;FMTTYPE=image/jpeg:https://phoenixsistercities.org/wp-content/uploads/2017/08/Otsukimi-Flyer-2017.jpg
END:VEVENT
BEGIN:VEVENT
DTSTART;TZID=America/Phoenix:20210926T180000
DTEND;TZID=America/Phoenix:20210926T210000
DTSTAMP:20260421T141215
CREATED:20170926T234010Z
LAST-MODIFIED:20170926T234045Z
UID:10001629-1632679200-1632690000@phoenixsistercities.org
SUMMARY:Otsukimi - Annual Moonviewing Festival
DESCRIPTION:Otsukimi 2017 \nAnnual Moonviewing Festival at the Japanese Friendship Garden \nFind out more about this event here: http://www.japanesefriendshipgarden.org/otsukimi2017 \nThe Mission of the Japanese Friendship Garden Inc. is to maintain a beautiful\, serene Japanese garden in the heart of Phoenix and provide educational and artistic programs and events that continue to deepen our relationships and celebrate the rich history and culture of Japan.
URL:https://phoenixsistercities.org/event/4400/2021-09-26/
CATEGORIES:PSC Signature Events
ATTACH;FMTTYPE=image/jpeg:https://phoenixsistercities.org/wp-content/uploads/2017/08/Otsukimi-Flyer-2017.jpg
END:VEVENT
BEGIN:VEVENT
DTSTART;TZID=America/Phoenix:20210925T180000
DTEND;TZID=America/Phoenix:20210925T210000
DTSTAMP:20260421T141215
CREATED:20170926T234010Z
LAST-MODIFIED:20170926T234045Z
UID:10001628-1632592800-1632603600@phoenixsistercities.org
SUMMARY:Otsukimi - Annual Moonviewing Festival
DESCRIPTION:Otsukimi 2017 \nAnnual Moonviewing Festival at the Japanese Friendship Garden \nFind out more about this event here: http://www.japanesefriendshipgarden.org/otsukimi2017 \nThe Mission of the Japanese Friendship Garden Inc. is to maintain a beautiful\, serene Japanese garden in the heart of Phoenix and provide educational and artistic programs and events that continue to deepen our relationships and celebrate the rich history and culture of Japan.
URL:https://phoenixsistercities.org/event/4400/2021-09-25/
CATEGORIES:PSC Signature Events
ATTACH;FMTTYPE=image/jpeg:https://phoenixsistercities.org/wp-content/uploads/2017/08/Otsukimi-Flyer-2017.jpg
END:VEVENT
BEGIN:VEVENT
DTSTART;TZID=America/Phoenix:20210924T180000
DTEND;TZID=America/Phoenix:20210924T210000
DTSTAMP:20260421T141215
CREATED:20170926T234010Z
LAST-MODIFIED:20170926T234045Z
UID:10001627-1632506400-1632517200@phoenixsistercities.org
SUMMARY:Otsukimi - Annual Moonviewing Festival
DESCRIPTION:Otsukimi 2017 \nAnnual Moonviewing Festival at the Japanese Friendship Garden \nFind out more about this event here: http://www.japanesefriendshipgarden.org/otsukimi2017 \nThe Mission of the Japanese Friendship Garden Inc. is to maintain a beautiful\, serene Japanese garden in the heart of Phoenix and provide educational and artistic programs and events that continue to deepen our relationships and celebrate the rich history and culture of Japan.
URL:https://phoenixsistercities.org/event/4400/2021-09-24/
CATEGORIES:PSC Signature Events
ATTACH;FMTTYPE=image/jpeg:https://phoenixsistercities.org/wp-content/uploads/2017/08/Otsukimi-Flyer-2017.jpg
END:VEVENT
BEGIN:VEVENT
DTSTART;TZID=America/Phoenix:20210923T180000
DTEND;TZID=America/Phoenix:20210923T210000
DTSTAMP:20260421T141215
CREATED:20170926T234010Z
LAST-MODIFIED:20170926T234045Z
UID:10001626-1632420000-1632430800@phoenixsistercities.org
SUMMARY:Otsukimi - Annual Moonviewing Festival
DESCRIPTION:Otsukimi 2017 \nAnnual Moonviewing Festival at the Japanese Friendship Garden \nFind out more about this event here: http://www.japanesefriendshipgarden.org/otsukimi2017 \nThe Mission of the Japanese Friendship Garden Inc. is to maintain a beautiful\, serene Japanese garden in the heart of Phoenix and provide educational and artistic programs and events that continue to deepen our relationships and celebrate the rich history and culture of Japan.
URL:https://phoenixsistercities.org/event/4400/2021-09-23/
CATEGORIES:PSC Signature Events
ATTACH;FMTTYPE=image/jpeg:https://phoenixsistercities.org/wp-content/uploads/2017/08/Otsukimi-Flyer-2017.jpg
END:VEVENT
BEGIN:VEVENT
DTSTART;TZID=America/Phoenix:20210922T180000
DTEND;TZID=America/Phoenix:20210922T210000
DTSTAMP:20260421T141215
CREATED:20170926T234010Z
LAST-MODIFIED:20170926T234045Z
UID:10001625-1632333600-1632344400@phoenixsistercities.org
SUMMARY:Otsukimi - Annual Moonviewing Festival
DESCRIPTION:Otsukimi 2017 \nAnnual Moonviewing Festival at the Japanese Friendship Garden \nFind out more about this event here: http://www.japanesefriendshipgarden.org/otsukimi2017 \nThe Mission of the Japanese Friendship Garden Inc. is to maintain a beautiful\, serene Japanese garden in the heart of Phoenix and provide educational and artistic programs and events that continue to deepen our relationships and celebrate the rich history and culture of Japan.
URL:https://phoenixsistercities.org/event/4400/2021-09-22/
CATEGORIES:PSC Signature Events
ATTACH;FMTTYPE=image/jpeg:https://phoenixsistercities.org/wp-content/uploads/2017/08/Otsukimi-Flyer-2017.jpg
END:VEVENT
BEGIN:VEVENT
DTSTART;TZID=America/Phoenix:20210921T180000
DTEND;TZID=America/Phoenix:20210921T210000
DTSTAMP:20260421T141215
CREATED:20170926T234010Z
LAST-MODIFIED:20170926T234045Z
UID:10001624-1632247200-1632258000@phoenixsistercities.org
SUMMARY:Otsukimi - Annual Moonviewing Festival
DESCRIPTION:Otsukimi 2017 \nAnnual Moonviewing Festival at the Japanese Friendship Garden \nFind out more about this event here: http://www.japanesefriendshipgarden.org/otsukimi2017 \nThe Mission of the Japanese Friendship Garden Inc. is to maintain a beautiful\, serene Japanese garden in the heart of Phoenix and provide educational and artistic programs and events that continue to deepen our relationships and celebrate the rich history and culture of Japan.
URL:https://phoenixsistercities.org/event/4400/2021-09-21/
CATEGORIES:PSC Signature Events
ATTACH;FMTTYPE=image/jpeg:https://phoenixsistercities.org/wp-content/uploads/2017/08/Otsukimi-Flyer-2017.jpg
END:VEVENT
BEGIN:VEVENT
DTSTART;TZID=America/Phoenix:20210920T180000
DTEND;TZID=America/Phoenix:20210920T210000
DTSTAMP:20260421T141215
CREATED:20170926T234010Z
LAST-MODIFIED:20170926T234045Z
UID:10001623-1632160800-1632171600@phoenixsistercities.org
SUMMARY:Otsukimi - Annual Moonviewing Festival
DESCRIPTION:Otsukimi 2017 \nAnnual Moonviewing Festival at the Japanese Friendship Garden \nFind out more about this event here: http://www.japanesefriendshipgarden.org/otsukimi2017 \nThe Mission of the Japanese Friendship Garden Inc. is to maintain a beautiful\, serene Japanese garden in the heart of Phoenix and provide educational and artistic programs and events that continue to deepen our relationships and celebrate the rich history and culture of Japan.
URL:https://phoenixsistercities.org/event/4400/2021-09-20/
CATEGORIES:PSC Signature Events
ATTACH;FMTTYPE=image/jpeg:https://phoenixsistercities.org/wp-content/uploads/2017/08/Otsukimi-Flyer-2017.jpg
END:VEVENT
BEGIN:VEVENT
DTSTART;TZID=America/Phoenix:20210919T180000
DTEND;TZID=America/Phoenix:20210919T210000
DTSTAMP:20260421T141215
CREATED:20170926T234010Z
LAST-MODIFIED:20170926T234045Z
UID:10001622-1632074400-1632085200@phoenixsistercities.org
SUMMARY:Otsukimi - Annual Moonviewing Festival
DESCRIPTION:Otsukimi 2017 \nAnnual Moonviewing Festival at the Japanese Friendship Garden \nFind out more about this event here: http://www.japanesefriendshipgarden.org/otsukimi2017 \nThe Mission of the Japanese Friendship Garden Inc. is to maintain a beautiful\, serene Japanese garden in the heart of Phoenix and provide educational and artistic programs and events that continue to deepen our relationships and celebrate the rich history and culture of Japan.
URL:https://phoenixsistercities.org/event/4400/2021-09-19/
CATEGORIES:PSC Signature Events
ATTACH;FMTTYPE=image/jpeg:https://phoenixsistercities.org/wp-content/uploads/2017/08/Otsukimi-Flyer-2017.jpg
END:VEVENT
BEGIN:VEVENT
DTSTART;TZID=America/Phoenix:20210918T180000
DTEND;TZID=America/Phoenix:20210918T210000
DTSTAMP:20260421T141215
CREATED:20170926T234010Z
LAST-MODIFIED:20170926T234045Z
UID:10001621-1631988000-1631998800@phoenixsistercities.org
SUMMARY:Otsukimi - Annual Moonviewing Festival
DESCRIPTION:Otsukimi 2017 \nAnnual Moonviewing Festival at the Japanese Friendship Garden \nFind out more about this event here: http://www.japanesefriendshipgarden.org/otsukimi2017 \nThe Mission of the Japanese Friendship Garden Inc. is to maintain a beautiful\, serene Japanese garden in the heart of Phoenix and provide educational and artistic programs and events that continue to deepen our relationships and celebrate the rich history and culture of Japan.
URL:https://phoenixsistercities.org/event/4400/2021-09-18/
CATEGORIES:PSC Signature Events
ATTACH;FMTTYPE=image/jpeg:https://phoenixsistercities.org/wp-content/uploads/2017/08/Otsukimi-Flyer-2017.jpg
END:VEVENT
BEGIN:VEVENT
DTSTART;TZID=America/Phoenix:20210917T180000
DTEND;TZID=America/Phoenix:20210917T210000
DTSTAMP:20260421T141215
CREATED:20170926T234010Z
LAST-MODIFIED:20170926T234045Z
UID:10001620-1631901600-1631912400@phoenixsistercities.org
SUMMARY:Otsukimi - Annual Moonviewing Festival
DESCRIPTION:Otsukimi 2017 \nAnnual Moonviewing Festival at the Japanese Friendship Garden \nFind out more about this event here: http://www.japanesefriendshipgarden.org/otsukimi2017 \nThe Mission of the Japanese Friendship Garden Inc. is to maintain a beautiful\, serene Japanese garden in the heart of Phoenix and provide educational and artistic programs and events that continue to deepen our relationships and celebrate the rich history and culture of Japan.
URL:https://phoenixsistercities.org/event/4400/2021-09-17/
CATEGORIES:PSC Signature Events
ATTACH;FMTTYPE=image/jpeg:https://phoenixsistercities.org/wp-content/uploads/2017/08/Otsukimi-Flyer-2017.jpg
END:VEVENT
BEGIN:VEVENT
DTSTART;TZID=America/Phoenix:20210916T180000
DTEND;TZID=America/Phoenix:20210916T210000
DTSTAMP:20260421T141215
CREATED:20170926T234010Z
LAST-MODIFIED:20170926T234045Z
UID:10001619-1631815200-1631826000@phoenixsistercities.org
SUMMARY:Otsukimi - Annual Moonviewing Festival
DESCRIPTION:Otsukimi 2017 \nAnnual Moonviewing Festival at the Japanese Friendship Garden \nFind out more about this event here: http://www.japanesefriendshipgarden.org/otsukimi2017 \nThe Mission of the Japanese Friendship Garden Inc. is to maintain a beautiful\, serene Japanese garden in the heart of Phoenix and provide educational and artistic programs and events that continue to deepen our relationships and celebrate the rich history and culture of Japan.
URL:https://phoenixsistercities.org/event/4400/2021-09-16/
CATEGORIES:PSC Signature Events
ATTACH;FMTTYPE=image/jpeg:https://phoenixsistercities.org/wp-content/uploads/2017/08/Otsukimi-Flyer-2017.jpg
END:VEVENT
BEGIN:VEVENT
DTSTART;TZID=America/Phoenix:20210915T180000
DTEND;TZID=America/Phoenix:20210915T210000
DTSTAMP:20260421T141215
CREATED:20170926T234010Z
LAST-MODIFIED:20170926T234045Z
UID:10001618-1631728800-1631739600@phoenixsistercities.org
SUMMARY:Otsukimi - Annual Moonviewing Festival
DESCRIPTION:Otsukimi 2017 \nAnnual Moonviewing Festival at the Japanese Friendship Garden \nFind out more about this event here: http://www.japanesefriendshipgarden.org/otsukimi2017 \nThe Mission of the Japanese Friendship Garden Inc. is to maintain a beautiful\, serene Japanese garden in the heart of Phoenix and provide educational and artistic programs and events that continue to deepen our relationships and celebrate the rich history and culture of Japan.
URL:https://phoenixsistercities.org/event/4400/2021-09-15/
CATEGORIES:PSC Signature Events
ATTACH;FMTTYPE=image/jpeg:https://phoenixsistercities.org/wp-content/uploads/2017/08/Otsukimi-Flyer-2017.jpg
END:VEVENT
END:VCALENDAR