BEGIN:VCALENDAR
VERSION:2.0
PRODID:-//Phoenix Sister Cities - ECPv6.15.15//NONSGML v1.0//EN
CALSCALE:GREGORIAN
METHOD:PUBLISH
X-WR-CALNAME:Phoenix Sister Cities
X-ORIGINAL-URL:https://phoenixsistercities.org
X-WR-CALDESC:Events for Phoenix Sister Cities
REFRESH-INTERVAL;VALUE=DURATION:PT1H
X-Robots-Tag:noindex
X-PUBLISHED-TTL:PT1H
BEGIN:VTIMEZONE
TZID:America/Phoenix
BEGIN:STANDARD
TZOFFSETFROM:-0700
TZOFFSETTO:-0700
TZNAME:MST
DTSTART:20210101T000000
END:STANDARD
END:VTIMEZONE
BEGIN:VEVENT
DTSTART;TZID=America/Phoenix:20220830T180000
DTEND;TZID=America/Phoenix:20220830T210000
DTSTAMP:20260419T183106
CREATED:20170926T234010Z
LAST-MODIFIED:20170926T234045Z
UID:10001967-1661882400-1661893200@phoenixsistercities.org
SUMMARY:Otsukimi - Annual Moonviewing Festival
DESCRIPTION:Otsukimi 2017 \nAnnual Moonviewing Festival at the Japanese Friendship Garden \nFind out more about this event here: http://www.japanesefriendshipgarden.org/otsukimi2017 \nThe Mission of the Japanese Friendship Garden Inc. is to maintain a beautiful\, serene Japanese garden in the heart of Phoenix and provide educational and artistic programs and events that continue to deepen our relationships and celebrate the rich history and culture of Japan.
URL:https://phoenixsistercities.org/event/4400/2022-08-30/
CATEGORIES:PSC Signature Events
ATTACH;FMTTYPE=image/jpeg:https://phoenixsistercities.org/wp-content/uploads/2017/08/Otsukimi-Flyer-2017.jpg
END:VEVENT
BEGIN:VEVENT
DTSTART;TZID=America/Phoenix:20220829T180000
DTEND;TZID=America/Phoenix:20220829T210000
DTSTAMP:20260419T183106
CREATED:20170926T234010Z
LAST-MODIFIED:20170926T234045Z
UID:10001966-1661796000-1661806800@phoenixsistercities.org
SUMMARY:Otsukimi - Annual Moonviewing Festival
DESCRIPTION:Otsukimi 2017 \nAnnual Moonviewing Festival at the Japanese Friendship Garden \nFind out more about this event here: http://www.japanesefriendshipgarden.org/otsukimi2017 \nThe Mission of the Japanese Friendship Garden Inc. is to maintain a beautiful\, serene Japanese garden in the heart of Phoenix and provide educational and artistic programs and events that continue to deepen our relationships and celebrate the rich history and culture of Japan.
URL:https://phoenixsistercities.org/event/4400/2022-08-29/
CATEGORIES:PSC Signature Events
ATTACH;FMTTYPE=image/jpeg:https://phoenixsistercities.org/wp-content/uploads/2017/08/Otsukimi-Flyer-2017.jpg
END:VEVENT
BEGIN:VEVENT
DTSTART;TZID=America/Phoenix:20220828T180000
DTEND;TZID=America/Phoenix:20220828T210000
DTSTAMP:20260419T183106
CREATED:20170926T234010Z
LAST-MODIFIED:20170926T234045Z
UID:10001965-1661709600-1661720400@phoenixsistercities.org
SUMMARY:Otsukimi - Annual Moonviewing Festival
DESCRIPTION:Otsukimi 2017 \nAnnual Moonviewing Festival at the Japanese Friendship Garden \nFind out more about this event here: http://www.japanesefriendshipgarden.org/otsukimi2017 \nThe Mission of the Japanese Friendship Garden Inc. is to maintain a beautiful\, serene Japanese garden in the heart of Phoenix and provide educational and artistic programs and events that continue to deepen our relationships and celebrate the rich history and culture of Japan.
URL:https://phoenixsistercities.org/event/4400/2022-08-28/
CATEGORIES:PSC Signature Events
ATTACH;FMTTYPE=image/jpeg:https://phoenixsistercities.org/wp-content/uploads/2017/08/Otsukimi-Flyer-2017.jpg
END:VEVENT
BEGIN:VEVENT
DTSTART;TZID=America/Phoenix:20220827T180000
DTEND;TZID=America/Phoenix:20220827T210000
DTSTAMP:20260419T183106
CREATED:20170926T234010Z
LAST-MODIFIED:20170926T234045Z
UID:10001964-1661623200-1661634000@phoenixsistercities.org
SUMMARY:Otsukimi - Annual Moonviewing Festival
DESCRIPTION:Otsukimi 2017 \nAnnual Moonviewing Festival at the Japanese Friendship Garden \nFind out more about this event here: http://www.japanesefriendshipgarden.org/otsukimi2017 \nThe Mission of the Japanese Friendship Garden Inc. is to maintain a beautiful\, serene Japanese garden in the heart of Phoenix and provide educational and artistic programs and events that continue to deepen our relationships and celebrate the rich history and culture of Japan.
URL:https://phoenixsistercities.org/event/4400/2022-08-27/
CATEGORIES:PSC Signature Events
ATTACH;FMTTYPE=image/jpeg:https://phoenixsistercities.org/wp-content/uploads/2017/08/Otsukimi-Flyer-2017.jpg
END:VEVENT
BEGIN:VEVENT
DTSTART;TZID=America/Phoenix:20220826T180000
DTEND;TZID=America/Phoenix:20220826T210000
DTSTAMP:20260419T183106
CREATED:20170926T234010Z
LAST-MODIFIED:20170926T234045Z
UID:10001963-1661536800-1661547600@phoenixsistercities.org
SUMMARY:Otsukimi - Annual Moonviewing Festival
DESCRIPTION:Otsukimi 2017 \nAnnual Moonviewing Festival at the Japanese Friendship Garden \nFind out more about this event here: http://www.japanesefriendshipgarden.org/otsukimi2017 \nThe Mission of the Japanese Friendship Garden Inc. is to maintain a beautiful\, serene Japanese garden in the heart of Phoenix and provide educational and artistic programs and events that continue to deepen our relationships and celebrate the rich history and culture of Japan.
URL:https://phoenixsistercities.org/event/4400/2022-08-26/
CATEGORIES:PSC Signature Events
ATTACH;FMTTYPE=image/jpeg:https://phoenixsistercities.org/wp-content/uploads/2017/08/Otsukimi-Flyer-2017.jpg
END:VEVENT
BEGIN:VEVENT
DTSTART;TZID=America/Phoenix:20220825T180000
DTEND;TZID=America/Phoenix:20220825T210000
DTSTAMP:20260419T183106
CREATED:20170926T234010Z
LAST-MODIFIED:20170926T234045Z
UID:10001962-1661450400-1661461200@phoenixsistercities.org
SUMMARY:Otsukimi - Annual Moonviewing Festival
DESCRIPTION:Otsukimi 2017 \nAnnual Moonviewing Festival at the Japanese Friendship Garden \nFind out more about this event here: http://www.japanesefriendshipgarden.org/otsukimi2017 \nThe Mission of the Japanese Friendship Garden Inc. is to maintain a beautiful\, serene Japanese garden in the heart of Phoenix and provide educational and artistic programs and events that continue to deepen our relationships and celebrate the rich history and culture of Japan.
URL:https://phoenixsistercities.org/event/4400/2022-08-25/
CATEGORIES:PSC Signature Events
ATTACH;FMTTYPE=image/jpeg:https://phoenixsistercities.org/wp-content/uploads/2017/08/Otsukimi-Flyer-2017.jpg
END:VEVENT
BEGIN:VEVENT
DTSTART;TZID=America/Phoenix:20220824T180000
DTEND;TZID=America/Phoenix:20220824T210000
DTSTAMP:20260419T183106
CREATED:20170926T234010Z
LAST-MODIFIED:20170926T234045Z
UID:10001961-1661364000-1661374800@phoenixsistercities.org
SUMMARY:Otsukimi - Annual Moonviewing Festival
DESCRIPTION:Otsukimi 2017 \nAnnual Moonviewing Festival at the Japanese Friendship Garden \nFind out more about this event here: http://www.japanesefriendshipgarden.org/otsukimi2017 \nThe Mission of the Japanese Friendship Garden Inc. is to maintain a beautiful\, serene Japanese garden in the heart of Phoenix and provide educational and artistic programs and events that continue to deepen our relationships and celebrate the rich history and culture of Japan.
URL:https://phoenixsistercities.org/event/4400/2022-08-24/
CATEGORIES:PSC Signature Events
ATTACH;FMTTYPE=image/jpeg:https://phoenixsistercities.org/wp-content/uploads/2017/08/Otsukimi-Flyer-2017.jpg
END:VEVENT
BEGIN:VEVENT
DTSTART;TZID=America/Phoenix:20220823T180000
DTEND;TZID=America/Phoenix:20220823T210000
DTSTAMP:20260419T183106
CREATED:20170926T234010Z
LAST-MODIFIED:20170926T234045Z
UID:10001960-1661277600-1661288400@phoenixsistercities.org
SUMMARY:Otsukimi - Annual Moonviewing Festival
DESCRIPTION:Otsukimi 2017 \nAnnual Moonviewing Festival at the Japanese Friendship Garden \nFind out more about this event here: http://www.japanesefriendshipgarden.org/otsukimi2017 \nThe Mission of the Japanese Friendship Garden Inc. is to maintain a beautiful\, serene Japanese garden in the heart of Phoenix and provide educational and artistic programs and events that continue to deepen our relationships and celebrate the rich history and culture of Japan.
URL:https://phoenixsistercities.org/event/4400/2022-08-23/
CATEGORIES:PSC Signature Events
ATTACH;FMTTYPE=image/jpeg:https://phoenixsistercities.org/wp-content/uploads/2017/08/Otsukimi-Flyer-2017.jpg
END:VEVENT
BEGIN:VEVENT
DTSTART;TZID=America/Phoenix:20220822T180000
DTEND;TZID=America/Phoenix:20220822T210000
DTSTAMP:20260419T183106
CREATED:20170926T234010Z
LAST-MODIFIED:20170926T234045Z
UID:10001959-1661191200-1661202000@phoenixsistercities.org
SUMMARY:Otsukimi - Annual Moonviewing Festival
DESCRIPTION:Otsukimi 2017 \nAnnual Moonviewing Festival at the Japanese Friendship Garden \nFind out more about this event here: http://www.japanesefriendshipgarden.org/otsukimi2017 \nThe Mission of the Japanese Friendship Garden Inc. is to maintain a beautiful\, serene Japanese garden in the heart of Phoenix and provide educational and artistic programs and events that continue to deepen our relationships and celebrate the rich history and culture of Japan.
URL:https://phoenixsistercities.org/event/4400/2022-08-22/
CATEGORIES:PSC Signature Events
ATTACH;FMTTYPE=image/jpeg:https://phoenixsistercities.org/wp-content/uploads/2017/08/Otsukimi-Flyer-2017.jpg
END:VEVENT
BEGIN:VEVENT
DTSTART;TZID=America/Phoenix:20220821T180000
DTEND;TZID=America/Phoenix:20220821T210000
DTSTAMP:20260419T183106
CREATED:20170926T234010Z
LAST-MODIFIED:20170926T234045Z
UID:10001958-1661104800-1661115600@phoenixsistercities.org
SUMMARY:Otsukimi - Annual Moonviewing Festival
DESCRIPTION:Otsukimi 2017 \nAnnual Moonviewing Festival at the Japanese Friendship Garden \nFind out more about this event here: http://www.japanesefriendshipgarden.org/otsukimi2017 \nThe Mission of the Japanese Friendship Garden Inc. is to maintain a beautiful\, serene Japanese garden in the heart of Phoenix and provide educational and artistic programs and events that continue to deepen our relationships and celebrate the rich history and culture of Japan.
URL:https://phoenixsistercities.org/event/4400/2022-08-21/
CATEGORIES:PSC Signature Events
ATTACH;FMTTYPE=image/jpeg:https://phoenixsistercities.org/wp-content/uploads/2017/08/Otsukimi-Flyer-2017.jpg
END:VEVENT
BEGIN:VEVENT
DTSTART;TZID=America/Phoenix:20220820T180000
DTEND;TZID=America/Phoenix:20220820T210000
DTSTAMP:20260419T183106
CREATED:20170926T234010Z
LAST-MODIFIED:20170926T234045Z
UID:10001957-1661018400-1661029200@phoenixsistercities.org
SUMMARY:Otsukimi - Annual Moonviewing Festival
DESCRIPTION:Otsukimi 2017 \nAnnual Moonviewing Festival at the Japanese Friendship Garden \nFind out more about this event here: http://www.japanesefriendshipgarden.org/otsukimi2017 \nThe Mission of the Japanese Friendship Garden Inc. is to maintain a beautiful\, serene Japanese garden in the heart of Phoenix and provide educational and artistic programs and events that continue to deepen our relationships and celebrate the rich history and culture of Japan.
URL:https://phoenixsistercities.org/event/4400/2022-08-20/
CATEGORIES:PSC Signature Events
ATTACH;FMTTYPE=image/jpeg:https://phoenixsistercities.org/wp-content/uploads/2017/08/Otsukimi-Flyer-2017.jpg
END:VEVENT
BEGIN:VEVENT
DTSTART;TZID=America/Phoenix:20220819T180000
DTEND;TZID=America/Phoenix:20220819T210000
DTSTAMP:20260419T183106
CREATED:20170926T234010Z
LAST-MODIFIED:20170926T234045Z
UID:10001956-1660932000-1660942800@phoenixsistercities.org
SUMMARY:Otsukimi - Annual Moonviewing Festival
DESCRIPTION:Otsukimi 2017 \nAnnual Moonviewing Festival at the Japanese Friendship Garden \nFind out more about this event here: http://www.japanesefriendshipgarden.org/otsukimi2017 \nThe Mission of the Japanese Friendship Garden Inc. is to maintain a beautiful\, serene Japanese garden in the heart of Phoenix and provide educational and artistic programs and events that continue to deepen our relationships and celebrate the rich history and culture of Japan.
URL:https://phoenixsistercities.org/event/4400/2022-08-19/
CATEGORIES:PSC Signature Events
ATTACH;FMTTYPE=image/jpeg:https://phoenixsistercities.org/wp-content/uploads/2017/08/Otsukimi-Flyer-2017.jpg
END:VEVENT
BEGIN:VEVENT
DTSTART;TZID=America/Phoenix:20220818T180000
DTEND;TZID=America/Phoenix:20220818T210000
DTSTAMP:20260419T183106
CREATED:20170926T234010Z
LAST-MODIFIED:20170926T234045Z
UID:10001955-1660845600-1660856400@phoenixsistercities.org
SUMMARY:Otsukimi - Annual Moonviewing Festival
DESCRIPTION:Otsukimi 2017 \nAnnual Moonviewing Festival at the Japanese Friendship Garden \nFind out more about this event here: http://www.japanesefriendshipgarden.org/otsukimi2017 \nThe Mission of the Japanese Friendship Garden Inc. is to maintain a beautiful\, serene Japanese garden in the heart of Phoenix and provide educational and artistic programs and events that continue to deepen our relationships and celebrate the rich history and culture of Japan.
URL:https://phoenixsistercities.org/event/4400/2022-08-18/
CATEGORIES:PSC Signature Events
ATTACH;FMTTYPE=image/jpeg:https://phoenixsistercities.org/wp-content/uploads/2017/08/Otsukimi-Flyer-2017.jpg
END:VEVENT
BEGIN:VEVENT
DTSTART;TZID=America/Phoenix:20220817T180000
DTEND;TZID=America/Phoenix:20220817T210000
DTSTAMP:20260419T183106
CREATED:20170926T234010Z
LAST-MODIFIED:20170926T234045Z
UID:10001954-1660759200-1660770000@phoenixsistercities.org
SUMMARY:Otsukimi - Annual Moonviewing Festival
DESCRIPTION:Otsukimi 2017 \nAnnual Moonviewing Festival at the Japanese Friendship Garden \nFind out more about this event here: http://www.japanesefriendshipgarden.org/otsukimi2017 \nThe Mission of the Japanese Friendship Garden Inc. is to maintain a beautiful\, serene Japanese garden in the heart of Phoenix and provide educational and artistic programs and events that continue to deepen our relationships and celebrate the rich history and culture of Japan.
URL:https://phoenixsistercities.org/event/4400/2022-08-17/
CATEGORIES:PSC Signature Events
ATTACH;FMTTYPE=image/jpeg:https://phoenixsistercities.org/wp-content/uploads/2017/08/Otsukimi-Flyer-2017.jpg
END:VEVENT
BEGIN:VEVENT
DTSTART;TZID=America/Phoenix:20220816T180000
DTEND;TZID=America/Phoenix:20220816T210000
DTSTAMP:20260419T183106
CREATED:20170926T234010Z
LAST-MODIFIED:20170926T234045Z
UID:10001953-1660672800-1660683600@phoenixsistercities.org
SUMMARY:Otsukimi - Annual Moonviewing Festival
DESCRIPTION:Otsukimi 2017 \nAnnual Moonviewing Festival at the Japanese Friendship Garden \nFind out more about this event here: http://www.japanesefriendshipgarden.org/otsukimi2017 \nThe Mission of the Japanese Friendship Garden Inc. is to maintain a beautiful\, serene Japanese garden in the heart of Phoenix and provide educational and artistic programs and events that continue to deepen our relationships and celebrate the rich history and culture of Japan.
URL:https://phoenixsistercities.org/event/4400/2022-08-16/
CATEGORIES:PSC Signature Events
ATTACH;FMTTYPE=image/jpeg:https://phoenixsistercities.org/wp-content/uploads/2017/08/Otsukimi-Flyer-2017.jpg
END:VEVENT
BEGIN:VEVENT
DTSTART;TZID=America/Phoenix:20220815T180000
DTEND;TZID=America/Phoenix:20220815T210000
DTSTAMP:20260419T183106
CREATED:20170926T234010Z
LAST-MODIFIED:20170926T234045Z
UID:10001952-1660586400-1660597200@phoenixsistercities.org
SUMMARY:Otsukimi - Annual Moonviewing Festival
DESCRIPTION:Otsukimi 2017 \nAnnual Moonviewing Festival at the Japanese Friendship Garden \nFind out more about this event here: http://www.japanesefriendshipgarden.org/otsukimi2017 \nThe Mission of the Japanese Friendship Garden Inc. is to maintain a beautiful\, serene Japanese garden in the heart of Phoenix and provide educational and artistic programs and events that continue to deepen our relationships and celebrate the rich history and culture of Japan.
URL:https://phoenixsistercities.org/event/4400/2022-08-15/
CATEGORIES:PSC Signature Events
ATTACH;FMTTYPE=image/jpeg:https://phoenixsistercities.org/wp-content/uploads/2017/08/Otsukimi-Flyer-2017.jpg
END:VEVENT
BEGIN:VEVENT
DTSTART;TZID=America/Phoenix:20220814T180000
DTEND;TZID=America/Phoenix:20220814T210000
DTSTAMP:20260419T183106
CREATED:20170926T234010Z
LAST-MODIFIED:20170926T234045Z
UID:10001951-1660500000-1660510800@phoenixsistercities.org
SUMMARY:Otsukimi - Annual Moonviewing Festival
DESCRIPTION:Otsukimi 2017 \nAnnual Moonviewing Festival at the Japanese Friendship Garden \nFind out more about this event here: http://www.japanesefriendshipgarden.org/otsukimi2017 \nThe Mission of the Japanese Friendship Garden Inc. is to maintain a beautiful\, serene Japanese garden in the heart of Phoenix and provide educational and artistic programs and events that continue to deepen our relationships and celebrate the rich history and culture of Japan.
URL:https://phoenixsistercities.org/event/4400/2022-08-14/
CATEGORIES:PSC Signature Events
ATTACH;FMTTYPE=image/jpeg:https://phoenixsistercities.org/wp-content/uploads/2017/08/Otsukimi-Flyer-2017.jpg
END:VEVENT
BEGIN:VEVENT
DTSTART;TZID=America/Phoenix:20220813T180000
DTEND;TZID=America/Phoenix:20220813T210000
DTSTAMP:20260419T183106
CREATED:20170926T234010Z
LAST-MODIFIED:20170926T234045Z
UID:10001950-1660413600-1660424400@phoenixsistercities.org
SUMMARY:Otsukimi - Annual Moonviewing Festival
DESCRIPTION:Otsukimi 2017 \nAnnual Moonviewing Festival at the Japanese Friendship Garden \nFind out more about this event here: http://www.japanesefriendshipgarden.org/otsukimi2017 \nThe Mission of the Japanese Friendship Garden Inc. is to maintain a beautiful\, serene Japanese garden in the heart of Phoenix and provide educational and artistic programs and events that continue to deepen our relationships and celebrate the rich history and culture of Japan.
URL:https://phoenixsistercities.org/event/4400/2022-08-13/
CATEGORIES:PSC Signature Events
ATTACH;FMTTYPE=image/jpeg:https://phoenixsistercities.org/wp-content/uploads/2017/08/Otsukimi-Flyer-2017.jpg
END:VEVENT
BEGIN:VEVENT
DTSTART;TZID=America/Phoenix:20220812T180000
DTEND;TZID=America/Phoenix:20220812T210000
DTSTAMP:20260419T183106
CREATED:20170926T234010Z
LAST-MODIFIED:20170926T234045Z
UID:10001949-1660327200-1660338000@phoenixsistercities.org
SUMMARY:Otsukimi - Annual Moonviewing Festival
DESCRIPTION:Otsukimi 2017 \nAnnual Moonviewing Festival at the Japanese Friendship Garden \nFind out more about this event here: http://www.japanesefriendshipgarden.org/otsukimi2017 \nThe Mission of the Japanese Friendship Garden Inc. is to maintain a beautiful\, serene Japanese garden in the heart of Phoenix and provide educational and artistic programs and events that continue to deepen our relationships and celebrate the rich history and culture of Japan.
URL:https://phoenixsistercities.org/event/4400/2022-08-12/
CATEGORIES:PSC Signature Events
ATTACH;FMTTYPE=image/jpeg:https://phoenixsistercities.org/wp-content/uploads/2017/08/Otsukimi-Flyer-2017.jpg
END:VEVENT
BEGIN:VEVENT
DTSTART;TZID=America/Phoenix:20220811T180000
DTEND;TZID=America/Phoenix:20220811T210000
DTSTAMP:20260419T183106
CREATED:20170926T234010Z
LAST-MODIFIED:20170926T234045Z
UID:10001948-1660240800-1660251600@phoenixsistercities.org
SUMMARY:Otsukimi - Annual Moonviewing Festival
DESCRIPTION:Otsukimi 2017 \nAnnual Moonviewing Festival at the Japanese Friendship Garden \nFind out more about this event here: http://www.japanesefriendshipgarden.org/otsukimi2017 \nThe Mission of the Japanese Friendship Garden Inc. is to maintain a beautiful\, serene Japanese garden in the heart of Phoenix and provide educational and artistic programs and events that continue to deepen our relationships and celebrate the rich history and culture of Japan.
URL:https://phoenixsistercities.org/event/4400/2022-08-11/
CATEGORIES:PSC Signature Events
ATTACH;FMTTYPE=image/jpeg:https://phoenixsistercities.org/wp-content/uploads/2017/08/Otsukimi-Flyer-2017.jpg
END:VEVENT
BEGIN:VEVENT
DTSTART;TZID=America/Phoenix:20220810T180000
DTEND;TZID=America/Phoenix:20220810T210000
DTSTAMP:20260419T183106
CREATED:20170926T234010Z
LAST-MODIFIED:20170926T234045Z
UID:10001947-1660154400-1660165200@phoenixsistercities.org
SUMMARY:Otsukimi - Annual Moonviewing Festival
DESCRIPTION:Otsukimi 2017 \nAnnual Moonviewing Festival at the Japanese Friendship Garden \nFind out more about this event here: http://www.japanesefriendshipgarden.org/otsukimi2017 \nThe Mission of the Japanese Friendship Garden Inc. is to maintain a beautiful\, serene Japanese garden in the heart of Phoenix and provide educational and artistic programs and events that continue to deepen our relationships and celebrate the rich history and culture of Japan.
URL:https://phoenixsistercities.org/event/4400/2022-08-10/
CATEGORIES:PSC Signature Events
ATTACH;FMTTYPE=image/jpeg:https://phoenixsistercities.org/wp-content/uploads/2017/08/Otsukimi-Flyer-2017.jpg
END:VEVENT
BEGIN:VEVENT
DTSTART;TZID=America/Phoenix:20220809T180000
DTEND;TZID=America/Phoenix:20220809T210000
DTSTAMP:20260419T183106
CREATED:20170926T234010Z
LAST-MODIFIED:20170926T234045Z
UID:10001946-1660068000-1660078800@phoenixsistercities.org
SUMMARY:Otsukimi - Annual Moonviewing Festival
DESCRIPTION:Otsukimi 2017 \nAnnual Moonviewing Festival at the Japanese Friendship Garden \nFind out more about this event here: http://www.japanesefriendshipgarden.org/otsukimi2017 \nThe Mission of the Japanese Friendship Garden Inc. is to maintain a beautiful\, serene Japanese garden in the heart of Phoenix and provide educational and artistic programs and events that continue to deepen our relationships and celebrate the rich history and culture of Japan.
URL:https://phoenixsistercities.org/event/4400/2022-08-09/
CATEGORIES:PSC Signature Events
ATTACH;FMTTYPE=image/jpeg:https://phoenixsistercities.org/wp-content/uploads/2017/08/Otsukimi-Flyer-2017.jpg
END:VEVENT
BEGIN:VEVENT
DTSTART;TZID=America/Phoenix:20220808T180000
DTEND;TZID=America/Phoenix:20220808T210000
DTSTAMP:20260419T183106
CREATED:20170926T234010Z
LAST-MODIFIED:20170926T234045Z
UID:10001945-1659981600-1659992400@phoenixsistercities.org
SUMMARY:Otsukimi - Annual Moonviewing Festival
DESCRIPTION:Otsukimi 2017 \nAnnual Moonviewing Festival at the Japanese Friendship Garden \nFind out more about this event here: http://www.japanesefriendshipgarden.org/otsukimi2017 \nThe Mission of the Japanese Friendship Garden Inc. is to maintain a beautiful\, serene Japanese garden in the heart of Phoenix and provide educational and artistic programs and events that continue to deepen our relationships and celebrate the rich history and culture of Japan.
URL:https://phoenixsistercities.org/event/4400/2022-08-08/
CATEGORIES:PSC Signature Events
ATTACH;FMTTYPE=image/jpeg:https://phoenixsistercities.org/wp-content/uploads/2017/08/Otsukimi-Flyer-2017.jpg
END:VEVENT
BEGIN:VEVENT
DTSTART;TZID=America/Phoenix:20220807T180000
DTEND;TZID=America/Phoenix:20220807T210000
DTSTAMP:20260419T183106
CREATED:20170926T234010Z
LAST-MODIFIED:20170926T234045Z
UID:10001944-1659895200-1659906000@phoenixsistercities.org
SUMMARY:Otsukimi - Annual Moonviewing Festival
DESCRIPTION:Otsukimi 2017 \nAnnual Moonviewing Festival at the Japanese Friendship Garden \nFind out more about this event here: http://www.japanesefriendshipgarden.org/otsukimi2017 \nThe Mission of the Japanese Friendship Garden Inc. is to maintain a beautiful\, serene Japanese garden in the heart of Phoenix and provide educational and artistic programs and events that continue to deepen our relationships and celebrate the rich history and culture of Japan.
URL:https://phoenixsistercities.org/event/4400/2022-08-07/
CATEGORIES:PSC Signature Events
ATTACH;FMTTYPE=image/jpeg:https://phoenixsistercities.org/wp-content/uploads/2017/08/Otsukimi-Flyer-2017.jpg
END:VEVENT
BEGIN:VEVENT
DTSTART;TZID=America/Phoenix:20220806T180000
DTEND;TZID=America/Phoenix:20220806T210000
DTSTAMP:20260419T183106
CREATED:20170926T234010Z
LAST-MODIFIED:20170926T234045Z
UID:10001943-1659808800-1659819600@phoenixsistercities.org
SUMMARY:Otsukimi - Annual Moonviewing Festival
DESCRIPTION:Otsukimi 2017 \nAnnual Moonviewing Festival at the Japanese Friendship Garden \nFind out more about this event here: http://www.japanesefriendshipgarden.org/otsukimi2017 \nThe Mission of the Japanese Friendship Garden Inc. is to maintain a beautiful\, serene Japanese garden in the heart of Phoenix and provide educational and artistic programs and events that continue to deepen our relationships and celebrate the rich history and culture of Japan.
URL:https://phoenixsistercities.org/event/4400/2022-08-06/
CATEGORIES:PSC Signature Events
ATTACH;FMTTYPE=image/jpeg:https://phoenixsistercities.org/wp-content/uploads/2017/08/Otsukimi-Flyer-2017.jpg
END:VEVENT
BEGIN:VEVENT
DTSTART;TZID=America/Phoenix:20220805T180000
DTEND;TZID=America/Phoenix:20220805T210000
DTSTAMP:20260419T183106
CREATED:20170926T234010Z
LAST-MODIFIED:20170926T234045Z
UID:10001942-1659722400-1659733200@phoenixsistercities.org
SUMMARY:Otsukimi - Annual Moonviewing Festival
DESCRIPTION:Otsukimi 2017 \nAnnual Moonviewing Festival at the Japanese Friendship Garden \nFind out more about this event here: http://www.japanesefriendshipgarden.org/otsukimi2017 \nThe Mission of the Japanese Friendship Garden Inc. is to maintain a beautiful\, serene Japanese garden in the heart of Phoenix and provide educational and artistic programs and events that continue to deepen our relationships and celebrate the rich history and culture of Japan.
URL:https://phoenixsistercities.org/event/4400/2022-08-05/
CATEGORIES:PSC Signature Events
ATTACH;FMTTYPE=image/jpeg:https://phoenixsistercities.org/wp-content/uploads/2017/08/Otsukimi-Flyer-2017.jpg
END:VEVENT
BEGIN:VEVENT
DTSTART;TZID=America/Phoenix:20220804T180000
DTEND;TZID=America/Phoenix:20220804T210000
DTSTAMP:20260419T183106
CREATED:20170926T234010Z
LAST-MODIFIED:20170926T234045Z
UID:10001941-1659636000-1659646800@phoenixsistercities.org
SUMMARY:Otsukimi - Annual Moonviewing Festival
DESCRIPTION:Otsukimi 2017 \nAnnual Moonviewing Festival at the Japanese Friendship Garden \nFind out more about this event here: http://www.japanesefriendshipgarden.org/otsukimi2017 \nThe Mission of the Japanese Friendship Garden Inc. is to maintain a beautiful\, serene Japanese garden in the heart of Phoenix and provide educational and artistic programs and events that continue to deepen our relationships and celebrate the rich history and culture of Japan.
URL:https://phoenixsistercities.org/event/4400/2022-08-04/
CATEGORIES:PSC Signature Events
ATTACH;FMTTYPE=image/jpeg:https://phoenixsistercities.org/wp-content/uploads/2017/08/Otsukimi-Flyer-2017.jpg
END:VEVENT
BEGIN:VEVENT
DTSTART;TZID=America/Phoenix:20220803T180000
DTEND;TZID=America/Phoenix:20220803T210000
DTSTAMP:20260419T183106
CREATED:20170926T234010Z
LAST-MODIFIED:20170926T234045Z
UID:10001940-1659549600-1659560400@phoenixsistercities.org
SUMMARY:Otsukimi - Annual Moonviewing Festival
DESCRIPTION:Otsukimi 2017 \nAnnual Moonviewing Festival at the Japanese Friendship Garden \nFind out more about this event here: http://www.japanesefriendshipgarden.org/otsukimi2017 \nThe Mission of the Japanese Friendship Garden Inc. is to maintain a beautiful\, serene Japanese garden in the heart of Phoenix and provide educational and artistic programs and events that continue to deepen our relationships and celebrate the rich history and culture of Japan.
URL:https://phoenixsistercities.org/event/4400/2022-08-03/
CATEGORIES:PSC Signature Events
ATTACH;FMTTYPE=image/jpeg:https://phoenixsistercities.org/wp-content/uploads/2017/08/Otsukimi-Flyer-2017.jpg
END:VEVENT
BEGIN:VEVENT
DTSTART;TZID=America/Phoenix:20220802T180000
DTEND;TZID=America/Phoenix:20220802T210000
DTSTAMP:20260419T183106
CREATED:20170926T234010Z
LAST-MODIFIED:20170926T234045Z
UID:10001939-1659463200-1659474000@phoenixsistercities.org
SUMMARY:Otsukimi - Annual Moonviewing Festival
DESCRIPTION:Otsukimi 2017 \nAnnual Moonviewing Festival at the Japanese Friendship Garden \nFind out more about this event here: http://www.japanesefriendshipgarden.org/otsukimi2017 \nThe Mission of the Japanese Friendship Garden Inc. is to maintain a beautiful\, serene Japanese garden in the heart of Phoenix and provide educational and artistic programs and events that continue to deepen our relationships and celebrate the rich history and culture of Japan.
URL:https://phoenixsistercities.org/event/4400/2022-08-02/
CATEGORIES:PSC Signature Events
ATTACH;FMTTYPE=image/jpeg:https://phoenixsistercities.org/wp-content/uploads/2017/08/Otsukimi-Flyer-2017.jpg
END:VEVENT
BEGIN:VEVENT
DTSTART;TZID=America/Phoenix:20220801T180000
DTEND;TZID=America/Phoenix:20220801T210000
DTSTAMP:20260419T183106
CREATED:20170926T234010Z
LAST-MODIFIED:20170926T234045Z
UID:10001938-1659376800-1659387600@phoenixsistercities.org
SUMMARY:Otsukimi - Annual Moonviewing Festival
DESCRIPTION:Otsukimi 2017 \nAnnual Moonviewing Festival at the Japanese Friendship Garden \nFind out more about this event here: http://www.japanesefriendshipgarden.org/otsukimi2017 \nThe Mission of the Japanese Friendship Garden Inc. is to maintain a beautiful\, serene Japanese garden in the heart of Phoenix and provide educational and artistic programs and events that continue to deepen our relationships and celebrate the rich history and culture of Japan.
URL:https://phoenixsistercities.org/event/4400/2022-08-01/
CATEGORIES:PSC Signature Events
ATTACH;FMTTYPE=image/jpeg:https://phoenixsistercities.org/wp-content/uploads/2017/08/Otsukimi-Flyer-2017.jpg
END:VEVENT
END:VCALENDAR