BEGIN:VCALENDAR
VERSION:2.0
PRODID:-//Phoenix Sister Cities - ECPv6.15.15//NONSGML v1.0//EN
CALSCALE:GREGORIAN
METHOD:PUBLISH
X-WR-CALNAME:Phoenix Sister Cities
X-ORIGINAL-URL:https://phoenixsistercities.org
X-WR-CALDESC:Events for Phoenix Sister Cities
REFRESH-INTERVAL;VALUE=DURATION:PT1H
X-Robots-Tag:noindex
X-PUBLISHED-TTL:PT1H
BEGIN:VTIMEZONE
TZID:America/Phoenix
BEGIN:STANDARD
TZOFFSETFROM:-0700
TZOFFSETTO:-0700
TZNAME:MST
DTSTART:20240101T000000
END:STANDARD
END:VTIMEZONE
BEGIN:VEVENT
DTSTART;TZID=America/Phoenix:20250313T170000
DTEND;TZID=America/Phoenix:20250313T190000
DTSTAMP:20260419T124733
CREATED:20170501T200517Z
LAST-MODIFIED:20250204T204820Z
UID:10000122-1741885200-1741892400@phoenixsistercities.org
SUMMARY:Members Event
DESCRIPTION:
URL:https://phoenixsistercities.org/event/members_2025/
LOCATION:7th & Union at Republic National Distributing Company\, 402 S. 54th Place\, Phoenix\, Arizona\, 85034
CATEGORIES:PSC Events
ATTACH;FMTTYPE=image/jpeg:https://phoenixsistercities.org/wp-content/uploads/2017/05/Member-Event-2025.jpg
ORGANIZER;CN="Cindy Braun":MAILTO:cindy.braun@phoenix.gov
GEO:33.5265204;-111.997472
X-APPLE-STRUCTURED-LOCATION;VALUE=URI;X-ADDRESS=7th & Union at Republic National Distributing Company 402 S. 54th Place Phoenix Arizona 85034;X-APPLE-RADIUS=500;X-TITLE=402 S. 54th Place:geo:-111.997472,33.5265204
END:VEVENT
BEGIN:VEVENT
DTSTART;TZID=America/Phoenix:20250315T100000
DTEND;TZID=America/Phoenix:20250315T130000
DTSTAMP:20260419T124733
CREATED:20250204T235102Z
LAST-MODIFIED:20250206T191623Z
UID:10002163-1742032800-1742043600@phoenixsistercities.org
SUMMARY:Private Tour - Phoenix Art Museum Exhibition
DESCRIPTION:  \nJoin Phoenix Sister Cities Suwon City Committee on March 15\, 2025\, 10 am to 1 pm for a private tour with curator of “The Exchange:  East and West” Special Exhibition at Phoenix Art Museum followed by lunch at Forno 301.  \n \nEnjoy a private tour of this exhibition exploring the artistic outcome of exchange between different cultures.  The tour will be followed by lunch at Forno 301 (on the northwest corner of McDowell and Central Ave.) with Dr. Janet Baker\, Curator Emerita of Asian Art at Phoenix Art Museum. \nSpace is limited to 20 participants. Tickets must be purchased in advance.  Lunch and museum entry included. \n  \nPLEASE NOTE: Phoenix Sister Cities does not issue paper tickets for our events. Simply check in with the Jeanne Sours at the Museum. It’s easy AND green!  For your records\, you will receive a receipt via email (through PayPal) for tickets purchased.
URL:https://phoenixsistercities.org/event/the_exchange_tour/
LOCATION:Phoenix Art Museum\, 1625 N. Central Ave.\, Phoenix\, AZ\, 85004\, United States
CATEGORIES:Committee Events,PSC Events
ATTACH;FMTTYPE=image/jpeg:https://phoenixsistercities.org/wp-content/uploads/2025/02/Porcelain-exhibit-photo.jpg
END:VEVENT
BEGIN:VEVENT
DTSTART;TZID=America/Phoenix:20250328T170000
DTEND;TZID=America/Phoenix:20250328T190000
DTSTAMP:20260419T124733
CREATED:20250205T010304Z
LAST-MODIFIED:20250220T204132Z
UID:10002164-1743181200-1743188400@phoenixsistercities.org
SUMMARY:Global Voices\, Local Ties
DESCRIPTION:  \nCelebrate international friendship & cultural exchange!  \nConnect\, collaborate\, and inspire. Join fellow Phoenix Valley high school teachers\, ASU School of International Letters and Cultures educators\, and Phoenix Sister Cities members to build bridges through language and culture. Don’t miss this opportunity to expand your network and spark new ideas! \nRefreshments provided. \n \nRSVP below. \n  \nParking options for those attending the event: \nParking Garages:   \n\nFulton Center Garage\, located at 300 E. University Dr.\nApache Boulevard Garage at 250 E. Apache Blvd.\nTyler Street Garage at 821 S. Tyler St.\n\nThese garages operate 24/7 with rates of $4 for the first hour\, $8 for 1-2 hours\, $12 for 2-3 hours. \nSurface Lots:   \nLot 67 offers parking at $3 per hour. \nMetered parking is available in various surface lots around the campus. \nFor a detailed view of parking locations close to Durham Hall\, please refer to the ASU Interactive Map. \nIn partnership with
URL:https://phoenixsistercities.org/event/global_voices/
LOCATION:Durham Hall – ASU\, 851 Cady Mall\, Tempe\, AZ\, 85281\, United States
CATEGORIES:Committee Events,PSC Events
ATTACH;FMTTYPE=image/png:https://phoenixsistercities.org/wp-content/uploads/2025/02/globe.png
END:VEVENT
END:VCALENDAR