BEGIN:VCALENDAR
VERSION:2.0
PRODID:-//Phoenix Sister Cities - ECPv6.15.15//NONSGML v1.0//EN
CALSCALE:GREGORIAN
METHOD:PUBLISH
X-WR-CALNAME:Phoenix Sister Cities
X-ORIGINAL-URL:https://phoenixsistercities.org
X-WR-CALDESC:Events for Phoenix Sister Cities
REFRESH-INTERVAL;VALUE=DURATION:PT1H
X-Robots-Tag:noindex
X-PUBLISHED-TTL:PT1H
BEGIN:VTIMEZONE
TZID:America/Phoenix
BEGIN:STANDARD
TZOFFSETFROM:-0700
TZOFFSETTO:-0700
TZNAME:MST
DTSTART:20180101T000000
END:STANDARD
END:VTIMEZONE
BEGIN:VEVENT
DTSTART;VALUE=DATE:20251120
DTEND;VALUE=DATE:20260110
DTSTAMP:20260419T085901
CREATED:20221111T192130Z
LAST-MODIFIED:20251120T194914Z
UID:10002148-1763596800-1768003199@phoenixsistercities.org
SUMMARY:Holiday Bear and Book
DESCRIPTION:  \nSupport the Disability Awareness Committee’s Holiday Bear and Book Drive and help bring happiness to children and adults with special needs. \nBy donating as little as $25\, you can bring a smile to a child’s face with a bear AND book set. A $100 donation brings a basket of holiday cheer to 4 children! \nClick HERE to give today.  Please note that all online donations are made through PayPal. For other options\, please call 602-534-8395.
URL:https://phoenixsistercities.org/event/bear-book/
CATEGORIES:Committee Events,PSC Events
ATTACH;FMTTYPE=image/png:https://phoenixsistercities.org/wp-content/uploads/2022/11/2025-Image.png
END:VEVENT
BEGIN:VEVENT
DTSTART;VALUE=DATE:20201208
DTEND;VALUE=DATE:20210109
DTSTAMP:20260419T085901
CREATED:20201218T231916Z
LAST-MODIFIED:20201218T231916Z
UID:10002133-1607385600-1610150399@phoenixsistercities.org
SUMMARY:Holiday Bear and Book Event
DESCRIPTION:Support our Disability Awareness Committee’s Holiday Bear and Book event and help bring happiness to children with special needs. \n  \nBy donating as little as $25\, you can bring a smile to a child’s face with a bear AND book set. A $100 donation brings a basket of holiday cheer to 4 children! \n  \nClick HERE to give today.  Please note that all online donations are made through PayPal. For other options\, please call 602-534-3751. \n  \nEmail verification of payment to Nanette@ADALifeQuest.com to have your donation certificate emailed to you. \n  \n  \nOn behalf of our Disability Awareness Committee\, thank you for your support! \n  \n  \n 
URL:https://phoenixsistercities.org/event/holiday-bear-book/
CATEGORIES:Committee Events,PSC Events
ATTACH;FMTTYPE=image/jpeg:https://phoenixsistercities.org/wp-content/uploads/2020/12/Bear-and-Book-Flyer-e1634661036971.jpg
END:VEVENT
BEGIN:VEVENT
DTSTART;TZID=America/Phoenix:20191101T183000
DTEND;TZID=America/Phoenix:20191101T210000
DTSTAMP:20260419T085901
CREATED:20191008T194513Z
LAST-MODIFIED:20191008T194513Z
UID:10000097-1572633000-1572642000@phoenixsistercities.org
SUMMARY:14th Annual International Competition for Artists with Disabilities
DESCRIPTION:Walk through Warehouse 1005 with our Disability Awareness Committee and enjoy work by artists from around the world on November 1! \nArtwork will be on display starting at 6 pm.  All individuals who attend the event are invited to vote for their favorite work.  Awards\, including the People’s Choice Award\, will be announced at 8 pm. \n 
URL:https://phoenixsistercities.org/event/dac-international-competition-for-artists-with-disabilities-2/
LOCATION:Warehouse 1005\, 1005 N 1st St\, Phoenix\, AZ\, 85004\, United States
CATEGORIES:Committee Events,PSC Events
ATTACH;FMTTYPE=image/png:https://phoenixsistercities.org/wp-content/uploads/2019/10/DAC-Artist-Comp-2019.png
GEO:33.4589292;-112.0721821
X-APPLE-STRUCTURED-LOCATION;VALUE=URI;X-ADDRESS=Warehouse 1005 1005 N 1st St Phoenix AZ 85004 United States;X-APPLE-RADIUS=500;X-TITLE=1005 N 1st St:geo:-112.0721821,33.4589292
END:VEVENT
END:VCALENDAR