BEGIN:VCALENDAR
VERSION:2.0
PRODID:-//Phoenix Sister Cities - ECPv6.15.15//NONSGML v1.0//EN
CALSCALE:GREGORIAN
METHOD:PUBLISH
X-WR-CALNAME:Phoenix Sister Cities
X-ORIGINAL-URL:https://phoenixsistercities.org
X-WR-CALDESC:Events for Phoenix Sister Cities
REFRESH-INTERVAL;VALUE=DURATION:PT1H
X-Robots-Tag:noindex
X-PUBLISHED-TTL:PT1H
BEGIN:VTIMEZONE
TZID:America/Phoenix
BEGIN:STANDARD
TZOFFSETFROM:-0700
TZOFFSETTO:-0700
TZNAME:MST
DTSTART:20200101T000000
END:STANDARD
END:VTIMEZONE
BEGIN:VEVENT
DTSTART;TZID=America/Phoenix:20210318T183000
DTEND;TZID=America/Phoenix:20210318T193000
DTSTAMP:20260419T153257
CREATED:20210310T003435Z
LAST-MODIFIED:20210310T003435Z
UID:10002137-1616092200-1616095800@phoenixsistercities.org
SUMMARY:Ennis City Committee - An Evening with Consul General Orla Keane
DESCRIPTION:During the WebEx event\, Ms. Keane will chat with Ennis Committee Chairwoman Mary Hill Connor about opening Ireland’s seventh and newest diplomatic mission in the US (Los Angeles)\, the enhanced investment in the Western US by the Government of Ireland especially as it relates to Ireland’s creative industries (television\, film\, animation)\, engaging the new US administration on COVID\, and Brexit in Ireland. \n  \nRegister by 6 pm on March 17\, 2021 to receive your WebEx event link to the event. \n  \nOrla Keane is Ireland’s first Consul General to Los Angeles.  Prior to taking up her assignment in LA in August 2019\, Ms. Keane was part of the small team working on Brexit in the European Union Division of the Department of Foreign Affairs of Ireland.  As a career diplomat\, she has previously served at the Permanent Representation of Ireland to the EU in Brussels\, including as Head of Institutional Affairs.  Prior to her Brussels assignment\, Ms. Keane was the Deputy Director of the Department’s Human Rights Unit from 2007-2011.
URL:https://phoenixsistercities.org/event/cgkeane/
LOCATION:WebEx
CATEGORIES:Committee Events,PSC Events
ATTACH;FMTTYPE=image/png:https://phoenixsistercities.org/wp-content/uploads/2021/03/Orla-Keane-Featured-Image-for-Event.png
END:VEVENT
END:VCALENDAR