BEGIN:VCALENDAR
VERSION:2.0
PRODID:-//Phoenix Sister Cities - ECPv6.15.15//NONSGML v1.0//EN
CALSCALE:GREGORIAN
METHOD:PUBLISH
X-ORIGINAL-URL:https://phoenixsistercities.org
X-WR-CALDESC:Events for Phoenix Sister Cities
REFRESH-INTERVAL;VALUE=DURATION:PT1H
X-Robots-Tag:noindex
X-PUBLISHED-TTL:PT1H
BEGIN:VTIMEZONE
TZID:America/Phoenix
BEGIN:STANDARD
TZOFFSETFROM:-0700
TZOFFSETTO:-0700
TZNAME:MST
DTSTART:20230101T000000
END:STANDARD
END:VTIMEZONE
BEGIN:VEVENT
DTSTART;TZID=America/Phoenix:20240316T140000
DTEND;TZID=America/Phoenix:20240316T160000
DTSTAMP:20260419T111414
CREATED:20221221T170301Z
LAST-MODIFIED:20240205T180653Z
UID:10002150-1710597600-1710604800@phoenixsistercities.org
SUMMARY:Mahjong Mash
DESCRIPTION:  \n  \nPhoenix Sister Cities Taipei City Committee invites you to learn to play mahjong\, enjoy Asian snacks and beverages\, and learn more about sister city Taipei 2 to 4 pm on Saturday\, March 16\, 2024. \nThis FREE event will be held in the La Sala Ballrooms in the University Center Building at ASU West. \nFREE parking will be available in Lots 11 and 12. \nRegistration required.  Please email cindy.braun@phoenix.gov.
URL:https://phoenixsistercities.org/event/mahjong-mash-2023/
LOCATION:ASU West\, 13351 N. 47th Ave.\,\, Glendale\, AZ\, 85306\, United States
CATEGORIES:Committee Events,PSC Events
ATTACH;FMTTYPE=image/jpeg:https://phoenixsistercities.org/wp-content/uploads/2022/12/mahjong-mash-Copy.jpg
END:VEVENT
END:VCALENDAR