BEGIN:VCALENDAR
VERSION:2.0
PRODID:-//Phoenix Sister Cities - ECPv6.15.15//NONSGML v1.0//EN
CALSCALE:GREGORIAN
METHOD:PUBLISH
X-WR-CALNAME:Phoenix Sister Cities
X-ORIGINAL-URL:https://phoenixsistercities.org
X-WR-CALDESC:Events for Phoenix Sister Cities
REFRESH-INTERVAL;VALUE=DURATION:PT1H
X-Robots-Tag:noindex
X-PUBLISHED-TTL:PT1H
BEGIN:VTIMEZONE
TZID:America/Phoenix
BEGIN:STANDARD
TZOFFSETFROM:-0700
TZOFFSETTO:-0700
TZNAME:MST
DTSTART:20220101T000000
END:STANDARD
END:VTIMEZONE
BEGIN:VEVENT
DTSTART;TZID=America/Phoenix:20230305T070000
DTEND;TZID=America/Phoenix:20230305T113000
DTSTAMP:20260419T100341
CREATED:20230210T212443Z
LAST-MODIFIED:20230210T212443Z
UID:10002151-1677999600-1678015800@phoenixsistercities.org
SUMMARY:Il Giro di Phoenix 2023
DESCRIPTION:  \nStart your engines! \nThe Catania City Committee presents Il Giro Di Phoenix. \nIt’s a scavenger hunt AND car rally ! Decipher clues about Phoenix and collect items to win. Then\, wrap it all up and celebrate your victory with an authentic Italian lunch. \nRegistration includes a swag bag\, list of cryptic clues\, entry to the Italian Festival\, discounted parking\, a great lunch and fabulous prizes. \n$50 Pre-registration (through COB on March 4) for Members\n$55 Day of Event and Non-members\n$15 for Bambini (12 years and under) \nPro tip:  build your team – a navigator and at least one detective  with a smart phone. \nPlease note:  Phoenix Sister Cities does not issue paper tickets for our events.  Simply check in at the registration table.  It’s easy AND  green!  For your records\, you will receive a receipt via email (through PayPal) for tickets purchased.
URL:https://phoenixsistercities.org/event/ilgiro2023/
LOCATION:Devonshire Senior Center\, 2802 E. Devonshire Ave.\, Phoenix\, AZ\, 85016\, United States
CATEGORIES:Committee Events,PSC Events
ATTACH;FMTTYPE=image/jpeg:https://phoenixsistercities.org/wp-content/uploads/2023/02/Il-Giro.jpg
END:VEVENT
END:VCALENDAR